Workbook
Name _1_SE: #REF!
Name _1_SE: #REF!
Name _1_SE: #REF!
Name A: #REF!
Name A: #REF!
Name A: #REF!
Name AA: #REF!
Name AA: #REF!
Name AA: #REF!
Name accion: #REF!
Name accion: #REF!
Name accion: #REF!
Name ACCIONES: #REF!
Name actividades: #REF!
Name ACTIVIDADES_DE_GESTION_Y_CONTROL: #REF!
Name ACTIVIDADES2012: #REF!
Name AGENTE: #REF!
Name ANUALIZACION: #REF!
Name AÑO: #REF!
Name AREA_IMPACTO: #REF!
Name AREAS_IMPACTO: #REF!
Name ASUNTOS_TECNICOS: #REF!
Name ASUNTOS_TECNOLOGICOS: #REF!
Name B: #REF!
Name BASE_DE_ACTIVOS_Y_RECURSOS_DE_LA_ORGANIZACIÓN: #REF!
Name CALIFICACION: #REF!
Name CANAL_DE_DISTRIBUCION: [1]DATOS!$C$16:$C$27
Name CAUSA: #REF!
Name CAUSA: #REF!
Name CAUSA: #REF!
Name CAUSAS: [2]CAUSAS!$C$6:$O$11
Name CAUSASDERIESGO: #REF!
Name CAUSASDERIESGO: #REF!
Name CAUSASDERIESGO: #REF!
Name CAUSASDERIESGO1: #REF!
Name CAUSASDERIESGO1: #REF!
Name CAUSASDERIESGO1: #REF!
Name CIRCUNSTANCIAS_ECONOMICAS_Y_DE_MERCADO: #REF!
Name CIRCUNSTANCIAS_ECONOMICAS_Y_DE_MERCADO: #REF!
Name CIRCUNSTANCIAS_ECONOMICAS_Y_DE_MERCADO: #REF!
Name CIRCUNSTANCIAS_ECONOMICAS_Y_DEL_ESTADO: #REF!
Name CIRCUNSTANCIAS_POLITICAS_Y_LEGISLATIVAS: #REF!
Name CIRCUNSTANCIAS_POLITICAS_Y_LEGISSLATIVAS: #REF!
Name CLAVE: #REF!
Name CLAVECAUSA: [2]CAUSAS!$C$12:$O$12
Name CLAVECONT: #REF!
Name CLAVECONT: #REF!
Name CLAVECONT: #REF!
Name CLAVECONTROL: '[2]NO BORRAR'!$B$41:$B$57
Name CLAVEOBJ: #REF!
Name CLAVEOBJ: #REF!
Name CLAVEOBJ: #REF!
Name CLAVEPOL: #REF!
Name CLAVEPOL: #REF!
Name CLAVEPOL: #REF!
Name CLAVEPOLITICA: '[2]NO BORRAR'!$B$3:$B$17
Name CLAVEPROC: #REF!
Name CLAVEPROC: #REF!
Name CLAVEPROC: #REF!
Name CLAVEPROCEDIMIENTO: '[2]NO BORRAR'!$B$22:$B$38

Sheet Lista
A1: Estado de la Actividad
A2: Cumplida
A3: No Cumplida
A4: Parcialmente
A5: No Programada en el Periodo
A6: Eliminada

Sheet Desagregado
A1: COMPONENTE | B1: ESTRATEGIA | C1: No. Actividades | D1: Código Actividad | E1: Actividad | F1: % Acumulado | G1: Promedio | H1: Responsable
A2: Componente 1. | B2: 1. MECANISMOS PARA LA TRANSPARENCIA Y ACCESO A LA INFORMACIÓN | C2: 20 | D2: 1.1.1 | E2: Adecuar y publicar la información en el modulo participa en la sede electrónica de la SDA. | F2: =+PTEP!#REF! -> #REF! | G2: =+AVERAGE(F2:F21) -> #REF! | H2: Oficina de Participación, Educación y Localidades, Subsecretaria general, Oficina asesora de comunicaciones y DPSIA
D3: 1.1.2 | E3: Adecuar y publicar la información en el modulo atención y servicios a la ciudadanía en la sede electrónica de la SDA. | F3: =+PTEP!#REF! -> #REF! | H3: Subsecretaria general / servicio a la ciudadanía
D4: 1.1.3 | E4: Realizar acompañamiento a la apropiación y uso de las diferentes secciones del modulo participa en la sede electrónica de la SDA. | F4: =+PTEP!#REF! -> #REF! | H4: Subsecretaria General
D5: 1.1.4 | E5: Realizar seguimiento a los pasivos exigibles, reservas presupuestales y saneamiento contable. | F5: =+PTEP!#REF! -> #REF! | H5: Oficina de Control Interno
D6: 1.2.1 | E6: Realizar las publicaciones de información en la sección de transparencia conforme a la Ley 1712 de 2014, Resolución MinTIC 3564 de 2015 en la página web de la SDA, de acuerdo con la producción y actualización de la información solicitada por los procesos o dependencias en la mesa de servicios. | F6: =+PTEP!#REF! -> #REF! | H6: Dirección de Planeación y sistemas de información ambiental / Gestión tecnológica
D7: 1.2.2 | E7: Generar y publicar un informe mensual de gestión de las solicitudes de acceso a la información que incluya copia de las respuestas dadas por la entidad. | F7: =+PTEP!#REF! -> #REF! | H7: Subsecretaria general / servicio a la ciudadanía
D8: 1.3.1 | E8: Actualizar el registro de activos de información e Índice de información clasificada y reservada; y gestionar su aprobación. | F8: =+PTEP!#REF! -> #REF! | H8: Dirección de Planeación y sistemas de información ambiental / Gestión tecnológica
D9: 1.3.2 | E9: Gestionar la aprobación de la Tabla de Retención Documental de la SDA ante el Archivo Distrital. | F9: =+PTEP!#REF! -> #REF! | H9: Dirección de Gestión Corporativa / Gestión documental
D10: 1.3.3 | E10: Actualizar el esquema de publicación de información de la SDA, de acuerdo con la Resolución SDA No. 05466 de 2023 por medio de la cual se adopta el nuevo esquema de publicación de la SDA. | F10: =+PTEP!#REF! -> #REF! | H10: Dirección de Planeación y sistemas de información ambiental / Gestión tecnológica
D11: 1.3.4 | E11: Expedir el acto administrativo por el cual se establecen los costos de reproducción de la información pública solicitada por particulares a la Secretaría Distrital de Ambiente | F11: =+PTEP!#REF! -> #REF! | H11: Dirección de Gestión Corporativa / Gestión documental
D12: 1.3.5 | E12: Actualizar el Programa de Gestión Documental para el periodo comprendido entre agosto de 2023 a agosto 2024 | F12: =+PTEP!#REF! -> #REF! | H12: Dirección de Gestión Corporativa / Gestión documental
D13: 1.4.1 | E13: Gestionar las directrices de accesibilidad web faltantes en la SDA, conforme a lo establecido en la Resolución 1519 de 2020 y el plan de trabajo interno. | F13: =+PTEP!#REF! -> #REF! | H13: Dirección de Planeación y sistemas de información ambiental / Gestión tecnológica
D14: 1.4.2 | E14: Realizar capacitaciones o sensibilizaciones sobre producción documental con criterios de accesibilidad, lenguaje claro y enfoque diferencial, a fin de ser publicados en la sede electrónica de la SDA, según la Resolución Mintic No. 1519 de 2020. | F14: =+PTEP!#REF! -> #REF! | H14: Oficina asesora de comunicaciones / Comunicaciones
... D21: 1.5.7 | E21: Proponer y/o desarrollar estrategias de contenido o alternativas de solución para mejorar el posicionamiento de la sede electrónica de la entidad (ambientebogota.gov.co) y de las plataformas virtuales de la DPSIA, en los motores de búsqueda, conforme a las metas y visión estratégica de la entidad. | F21: =+PTEP!#REF! -> #REF! | H21: Dirección de Planeación y Sistemas de Información Ambiental
A22: Componente 2. | B22: 2. RENDICIÓN DE CUENTAS | C22: 10 | D22: 2.1.1 | E22: Diseñar y ejecutar el plan de comunicaciones de la SDA para la vigencia 2023, el cual incluye la socialización y divulgación de la gestión institucional e información de interés, a través de los canales tanto internos como externos con los que cuenta la entidad | F22: =+PTEP!#REF! -> #REF! | G22: =+AVERAGE(F22:F31) -> #REF! | H22: Oficina asesora de comunicaciones / Comunicaciones
D23: 2.1.2 | E23: Actualizar los indicadores ambientales dispuestos en el Observatorio Ambiental de Bogotá-OAB y en el Observatorio Regional Ambiental y de Desarrollo Sostenible del Río Bogotá-ORARBO. | F23: =+PTEP!#REF! -> #REF! | H23: Dirección de Planeación y Sistemas de Información Ambiental / Planeación Ambiental
D24: 2.1.3 | E24: Elaborar los informes reglamentarios (Acuerdo 067/02, Bogotá Cómo Vamos, Matriz de indicadores de ciudad, ICAU, ODS) que rinden cuenta sobre la gestión de la administración Distrital, el estado y calidad de los recursos naturales. | F24: =+PTEP!#REF! -> #REF! | H24: Dirección de Planeación y Sistemas de Información Ambiental / Planeación Ambiental
D25: 2.2.1 | E25: Vincular nuevos grupos, colectivos u organizaciones al programa de Voluntariado Ambiental | F25: =+PTEP!#REF! -> #REF! | H25: Oficina de Participación, Educación y Localidades / Participación y Educación Ambiental
D26: 2.2.2 | E26: Desarrollar procesos de participación y realizar las actividades de educación ambiental, conforme al plan de acción programado para la vigencia 2023 | F26: =+PTEP!#REF! -> #REF! | H26: Oficina de Participación, Educación y Localidades / Participación y Educación Ambiental
D27: 2.2.3 | E27: Socializar el Plan Institucional de Participación Ciudadana a través de las 20 Comisiones Ambientales Locales del D.C. | F27: =+PTEP!#REF! -> #REF! | H27: Oficina de Participación, Educación y Localidades / Participación y Educación Ambiental
D28: 2.2.4 | E28: Hacer presencia institucional en ferias y eventos de servicio al ciudadano, organizadas por la Alcaldía Mayor de Bogotá y/o otras entidades. | F28: =+PTEP!#REF! -> #REF! | H28: Subsecretaria general / servicio a la ciudadanía
D29: 2.2.5 | E29: Coordinar como cabeza del sector ambiente, las acciones a que haya lugar, para la presentación del informe de balance del PDD para la rendición de cuentas de la Administración Distrital u otros insumos requeridos conforme a los lineamientos metodológicos distritales. | F29: =+PTEP!#REF! -> #REF! | H29: Dirección de Planeación y Sistemas de Información Ambiental, Despacho, Oficina asesora de comunicaciones
D30: 2.2.6 | E30: Atender las preguntas, comentarios y/u observaciones realizadas por la ciudadanía dirigidas al sector ambiente, en el proceso de rendición de cuentas distrital. | F30: =+PTEP!#REF! -> #REF! | H30: Dirección de Planeación y Sistemas de Información Ambiental, despacho, oficina asesora de comunicaciones
D31: 2.2.7 | E31: Realizar una jornada de dialogo ciudadano y rendición de cuenta de la vigencia 2022, conforme a la ruta de trabajo y lineamientos metodológicos de la Administración distrital y la Veeduría Distrital. | F31: =+PTEP!#REF! -> #REF! | H31: Dirección de Planeación y Sistemas de Información Ambiental, despacho, oficina asesora de comunicaciones
A32: Componente 3. | B32: 3. MECANISMOS PARA MEJORAR LA ATENCIÓN AL CIUDADANO | C32: 6 | D32: 3.1.1 | E32: Realizar visitas de seguimiento al servicio prestado en los diferentes puntos de atención presenciales de la SDA. | F32: =+PTEP!#REF! -> #REF! | G32: =+AVERAGE(F32:F37) -> #REF! | H32: Subsecretaria general / servicio a la ciudadanía
D33: 3.2.1 | E33: Implementar acciones del modelo de servicio al ciudadano para la SDA, acorde a los lineamientos dados por la Secretaria General. | F33: =+PTEP!#REF! -> #REF! | H33: Subsecretaria general / servicio a la ciudadanía
D34: 3.3.1 | E34: Realizar actividades de entrenamiento a los servidores del grupo servicio a la ciudadania, en cumplimiento a la política distrital de servicio al ciudadano. | F34: =+PTEP!#REF! -> #REF! | H34: Subsecretaria general / servicio a la ciudadanía
D35: 3.4.1 | E35: Realizar seguimiento a la oportunidad de las PQRS que ingresan a través de los diferentes canales de atención de la SDA, generando las alertas necesarias; y efectuar un informe de evaluación mensual de la oportunidad de respuesta, teniendo en cuenta los plazos establecidos en la Ley 1755 de 2015. | F35: =+PTEP!#REF! -> #REF! | H35: Subsecretaria general / servicio a la ciudadanía
D36: 3.5.1 | E36: Medir el porcentaje de satisfacción del servicio prestado por el grupo servicio a la ciudadanía, mediante la aplicación de una encuesta de percepción a una muestra del 60% de los usuarios atendidos por los canales presencial y telefónico de la SDA. | F36: =+PTEP!#REF! -> #REF! | H36: Subsecretaria general / servicio a la ciudadanía
D37: 3.5.2 | E37: Dar respuesta oportuna y de fondo a las solicitudes reiteradas o allegadas al Defensor del Ciudadano de la SDA. | F37: =+PTEP!#REF! -> #REF! | H37: Subsecretaria general / servicio a la ciudadanía
A38: Componente 4. | B38: 4. RACIONALIZACIÓN DE TRÁMITES | C38: 2 | D38: 4.1.1 | E38: Formular y registrar la estrategia de racionalización de trámites de la SDA para la vigencia 2023 en el SUIT. | F38: =+PTEP!#REF! -> #REF! | G38: =+AVERAGE(F38:F39) -> #REF! | H38: Subsecretaria general / servicio a la ciudadanía
D39: 4.1.2 | E39: Realizar seguimiento a la Estrategia de Racionalización de Trámites 2023 de la SDA, con base en la información disponible en el SUIT de la Función Pública | F39: =+PTEP!#REF! -> #REF! | H39: Oficina de Control Interno
A40: Componente 5. | B40: 5. APERTURA DE INFORMACIÓN Y DATOS ABIERTOS | C40: 4 | D40: 5.1.1 | E40: Realizar depuración, mantenimiento y actualización de los datos abiertos en la plataforma distrital "Datos abiertos Bogotá" https://datosabiertos.bogota.gov.co/ | F40: =+PTEP!#REF! -> #REF! | G40: =+AVERAGE(F40:F43) -> #REF! | H40: Dirección de Planeación y sistemas de información ambiental / Gestión tecnológica
D41: 5.2.1 | E41: Entregar información sobre la gestión institucional en lenguaje claro, a través de los canales de comunicación externa, conforme al plan de comunicaciones de la SDA para la vigencia 2023 y las politicas de operación del procedimiento interno del proceso de comunicaciones. | F41: =+PTEP!#REF! -> #REF! | H41: Oficina asesora de comunicaciones / Comunicaciones
D42: 5.3.1 | E42: Revisión del funcionamiento de los servicios se los objetos geográficos ya dispuestos en la plataforma de datos abiertos, a con el fin de verificar su correcto funcionamiento. | F42: =+PTEP!#REF! -> #REF! | H42: Dirección de Planeación y sistemas de información ambiental / Gestión tecnológica
D43: 5.3.2 | E43: Revisión y actualización del catálogo de objetos, diccionario de datos e informe de calidad de los objetos geográficos conforme a los formatos y lineamientos establecidos IDECA. | F43: =+PTEP!#REF! -> #REF! | H43: Dirección de Planeación y sistemas de información ambiental / Gestión tecnológica
A44: Componente 6. | B44: 6. PARTICIPACIÓN E INNOVACIÓN EN LA GESTIÓN PÚBLICA | C44: 3 | D44: 6.1.1 | E44: Mapear cinco (5) comunidades de práctica y aprendizaje ciudadano para la gestión del conocimiento y la innovación, para la transparencia y ética pública con enfoque ambiental en grandes centros urbanos que tengan condiciones geopolíticas similares a Bogotá para su divulgación y socialización a la ciudadana y servidores públicos. | F44: =+PTEP!#REF! -> #REF! | G44: =+AVERAGE(F44:F46) -> #REF! | H44: Dirección de Planeación y Sistemas de Información Ambiental (Direccionamiento Estrátegico)
D45: 6.2.1 | E45: Proponer estrategias de innovación en temas institucionales | F45: =+PTEP!#REF! -> #REF! | H45: Dirección de Gestión Corporativa / DPSIA / SG
D46: 6.3.1 | E46: Gestionar la integración de la entidad en una red de conocimiento e intercambio de experiencias en materia de gestión del conocimiento e innovación o transparencia y ética pública. | F46: =+PTEP!#REF! -> #REF! | H46: Dirección de Gestión Corporativa / DPSIA / SG
...

Sheet PTEP
C1: PROGRAMA DE TRANSPARENCIA Y ÉTICA PÚBLICA - PTEP SECRETARÍA DISTRITAL DE AMBIENTE VIGENCIA 2024 Versión 2
A3: La Secretaría Distrital de Ambiente, está comprometida con la construcción y aplicación de estrategias que fortalezcan y promuevan una cultura institucional en torno a la transparencia, el desarrollo de comportamientos de cuidado, gestión integral y defensa de lo público, con el fin de prevenir los riesgos de corrupción y posibles conductas de fraude, soborno o conflicto de intereses, de forma tal que fomente en la entidad un ambiente de integridad y ética de lo público. Para ello, formula de forma participativa y abierta este programa, que le permitirá continuar con la implementación de acciones para la lucha contra la corrupción, la gestión transparente, el control y prevención de los riesgos, la racionalización y accesibilidad a sus trámites y servicios, la participación ciudadana, el dialogo y rendición de cuentas, el mejoramiento del servicio a la ciudadanía y la interiorización de los valores del código de integridad en todos los colaboradores, contratistas, funcionarios - servidores públicos de la SDA. Este programa se formula en cumplimiento de la Ley 2195 de 2022, por medio de la cual se adoptan medidas en materia de transparencia, prevención y lucha contra la corrupción y establece en su artículo 31, la necesidad de que las entidades públicas formulen los Programas de Transparencia y Ética pública como herramienta para fortalecer las acciones preventivas en la lucha contra la corrupción; siguiendo las orientaciones impartidas por la Secretaría General de la Alcaldía Mayor de Bogotá para la transición del Plan Anticorrupción y de Atención al Ciudadano a la construcción de los Programas de Transparencia y Ética Pública Distritales.
A4: OBJETIVO: Fijar estrategias institucionales para la vigencia 2024, encaminadas a la lucha contra la corrupción y el acceso a la información pública y transparente, que permitan prevenir, controlar y mitigar el riesgo de corrupción y a su vez posibiliten el fácil acceso a los trámites y servicios de la entidad y la generación de espacios de participación y diálogo con la ciudadanía, a fin de mejorar la eficiencia administrativa, la optimización de recursos y la prestación del servicio con mejores prácticas, accionando bajo los principios y valores de integridad, en procura de la defensa del valor de lo público, en cumplimiento de la misionalidad de la Secretaría Distrital de Ambiente.
O5: REPORTE PRIMERA LÍNEA DE DEFENSA I CUATRIMESTRE (Enero - Abril 2024) (Responsable de la actividad - Líder de proceso) | R5: SEGUIMIENTO SEGUNDA LÍNEA DE DEFENSA I CUATRIMESTRE (Enero - Abril 2024) (Dirección de Planeación y Sistemas de Información Ambiental) | U5: SEGUIMIENTO TERCER LINEA DE DEFENSA III CUATRIMESTRE (Enero - Abril 2024) Oficina de Control Interno - OCI | X5: REPORTE PRIMERA LÍNEA DE DEFENSA II CUATRIMESTRE (Mayo - Agosto 2024) (Responsable de la actividad - Líder de proceso) | AA5: SEGUIMIENTO SEGUNDA LÍNEA DE DEFENSA II CUATRIMESTRE (Mayo - Agosto 2024) (Dirección de Planeación y Sistemas de Información Ambiental) | AD5: SEGUIMIENTO TERCER LINEA DE DEFENSA II CUATRIMESTRE (Mayo - Agosto 2024) Oficina de Control Interno - OCI
A6: DIMENSIÓN MIPG ASOCIADA | B6: POLÍTICA MIPG ASOCIADA | C6: COMPONENTE PROGRAMA | D6: SUBCOMPONENTE PROGRAMA | E6: ID ACTIVIDAD | F6: ACTIVIDAD | G6: META | H6: NOMBRE DEL INDICADOR | I6: FORMULA DEL INDICADOR | J6: DOCUMENTOS DE VERIFICACIÓN | K6: RESPONSABLE (Dependencia / Proceso) | L6: PROGRAMACIÓN (Cuatrimestre 2024) | O6: AVANCE | P6: RESULTADO DEL INDICADOR | Q6: EVIDENCIA Y RUTA DE UBICACIÓN | R6: DESCRIPCIÓN DEL AVANCE | S6: EVIDENCIA Y RUTA DE UBICACIÓN | T6: GRADO DE CUMPLIMIENTO | U6: Estado de la Actividad | V6: DESCRIPCIÓN DEL AVANCE | W6: % AVANCE Indicador Acumulado | X6: AVANCE | Y6: RESULTADO DEL INDICADOR | Z6: EVIDENCIA Y RUTA DE UBICACIÓN | AA6: DESCRIPCIÓN DEL AVANCE | AB6: EVIDENCIA Y RUTA DE UBICACIÓN | AC6: GRADO DE CUMPLIMIENTO | AD6: Estado de la Actividad | AE6: DESCRIPCIÓN DEL AVANCE | AF6: % AVANCE Indicador Acumulado
C7: 1. MECANISMOS PARA LA TRANSPARENCIA Y ACCESO A LA INFORMACIÓN | D7: 1.1 Lineamiento de transparencia activa | E7: 1.1.1 | F7: Adecuar y publicar la información en el modulo atención y servicios a la ciudadanía en la sede electrónica de la SDA. | G7: Módulo atención y servicios a la ciudadanía adecuado en 100% | H7: Porcentaje de adecuación del Módulo atención y servicios a la ciudadanía | I7: (No. de acciones realizadas para la adecuación del Módulo atención y servicios a la ciudadanía / No. de acciones programadas para la adecuación del Módulo atención y servicios a la ciudadanía )*100 | J7: Correos electrónicos, actas de reunión, documentos y pantallazos | K7: Subsecretaria general / servicio a la ciudadanía | L7: X | M7: X | N7: X | O7: Durante el primer trimestre de 2024 , el modulo de atencion se encuentra actualizado en la pagina web de la entidad. Actualmente el menú Participa contiene informacion en todos los módulos, desde la OPEL se aportó información para los temas de: Intancias de participación ciudadana, Plan de participación ciudadana, Participación para el diagnóstico de necidades e identificación de problemas, la informacion se encuestra actualizada al primer trimestre de 2024 https://www.ambientebogota.gov.co/es/participa | P7: 100% modulo de atencion al ciudadano actualizado | Q7: Link: Menu Atencion al ciudadano: https://www.ambientebogota.gov.co/es/atencion-y-servicios-a-la-ciudadania Link Menu participa: https://www.ambientebogota.gov.co/es/participa | R7: Se evidencia información actualizada, organizada y disponible en el módulo atención y servicios a la ciudadanía. Se sugiere revisar en los canales de atención la descripción del chatbot, dado que no fue posible ubicarlo en la parte donde se indica, así mismo se sugiere actualizar la "Carta de trato digno" dado que es de la vigencia 2020. Estan habilitados los link que direcciona al Sistema de Bogota te escucha y otros enlaces web. Se encuentra desactualizados algunos nombres del directorio institucional. Se sugiere actualizar y ampliar las preguntas frecuentes, ya que por ejemplo aun se cita el centro de zoonosis el cual ya se llama Instituto de Protección y Bienestar Animal. El directorio de servidores públicos: contratistas esta actualizado a enero 2024 y el de funcionarios a febrero 2024. Están públicos y actualizados los informes semestrales del defensor del ciudadano. Esta actualizada la información relacionada con Prensa. Se sugiere revisar el item de "Información de Interés" del módulo atención y servicios a la ciudadanía, ya que no contiene información al respecto. También se sugiere la actualización del portafolio de servicios y trámites de la SDA, ya que al descargar el archivo indica "Portafolio de productos, servicios y tramites 2023" Por otra parte, el proceso reporta que el menú participa del portal web contiene información en todos los módulos, la segunda línea verifica y en particular la sección del Plan de participación ciudadana hay información desactualizada porque el plan de participación que direcciona es de la vigencia 2022 y el Plan de Acción de la Estrategia de Participación Ciudadana es del 2023. En cuanto a la sección "Participación para el diagnóstico de necesdades e identificación de problemas" se encuentra información organizada y útil, sin embargo hay información desactualizada con la Territorialización 2023 (corte 31 de julio de 2023) | S7: Menú atención y servicios a la ciudadanía https://www.ambientebogota.gov.co/es/atencion-y-servicios-a-la-ciudadania Menú participa https://www.ambientebogota.gov.co/web/transparencia/plan-de-participacion-ciudadana https://www.ambientebogota.gov.co/es/web/transparencia/participacion-para-la-identificacion-de-problemas-y-diagnostico-de-necesidades | T7: INICIADO | U7: Parcialmente | V7: En atención a la meta e indicador establecidos e identificados como: Meta: Módulo atención y servicios a la ciudadanía adecuado en 100% Indicador: Porcentaje de adecuación del Módulo atención y servicios a la ciudadanía Fórmula Indicador: (No. de acciones realizadas para la adecuación del Módulo atención y servicios a la ciudadanía / No. de acciones programadas para la adecuación del Módulo atención y servicios a la ciudadanía )*100 Revisadas las evidencias, se observaron actualizaciones en el menú atención y servicios a la ciudadanía, así como al módulo participa, no obstante, tal como lo indica segunda línea, se observaron los siguientes botones y documentos desactualizados sobre los cuales se recomienda su revisión y actualización: 1.El chatbot, no se encuentra disponible, 2. la "Carta de trato digno" de la vigencia 2020. 3. el directorio institucional se encuentra desactualizado, 4. las preguntas frecuentes, aun indican el centro de zoonosis el cual actualmente es el Instituto de Protección y Bienestar Animal. 6. El botón "Información de Interés" del módulo atención y servicios a la ciudadanía, no contiene información. 7. Actualizar el "Portafolio de productos, servicios y tramites 2023" es de la vigencia pasada, 8. el Plan De Participación Secretaria Distrital De Ambiente es del 2022, 9. el Plan de Acción de la Estrategia de Participación Ciudadana es del 2023 y 10. la Territorialización es vigencia 2023 con corte 31 de julio de 2023. Respecto a la formula del indicador, no es posible evidenciar su cumplimiento, toda vez que no se observó un documento que dé cuenta del No. de acciones que se tienen programadas durante la vigencia para la adecuación del módulo y servicios a la ciudadanía que permitan a esta oficina verificar el grado o avance de ejecución realizada durante el periodo evaluado, por lo tanto, tampoco se puede determinar cumplimiento del indicador, por lo tanto se recomienta que la medicion del indicador se pueda evidenciar para poder emitir un concepto de avance porcentual sobre la actividad. | W7: 0.2 | X7: Durante el segundo cuatrimestre de 2024 , el modulo de atencion se encuentra actualizado en la pagina web de la entidad. Actualmente el menú Participa contiene informacion en todos los módulos, desde la OPEL se aportó información para los temas de: Intancias de participación ciudadana, Plan de participación ciudadana, Participación para el diagnóstico de necesidades e identificación de problemas, la informacion se encuestra actualizada al primer trimestre de 2024 https://www.ambientebogota.gov.co/es/participa De esta manera se lleva un cumplimiento a la meta planteada del 66,6% a corte de julio. | Y7: 100% modulo de atencion al ciudadano actualizado | Z7: Link: Menu Atencion al ciudadano: https://www.ambientebogota.gov.co/es/atencion-y-servicios-a-la-ciudadania Link Menu participa: https://www.ambientebogota.gov.co/es/participa | AA7: Se evidencia información actualizada, organizada y disponible en el módulo atención y servicios a la ciudadanía. El chatbot aun sigue sin funcionamiento, por otro lado se observa que se actualiza la "Carta de trato digno" .Se reitera la sugerencia de actualizar y ampliar las preguntas frecuentes,Se sugiere revisar el item de "Información de Interés" del módulo atención y servicios a la ciudadanía, ya que no contiene información al respecto. Por otra parte, el proceso reporta que el menú participa del portal web contiene información en todos los módulos, la segunda línea verifica y en particular la sección del Plan de participación ciudadana hay información desactualizada porque el plan de participación que direcciona es de la vigencia 2022 y el Plan de Acción de la Estrategia de Participación Ciudadana es del 2023. En cuanto a la sección "Participación para el diagnóstico de necesdades e identificación de problemas" se encuentra información organizada y útil, sin embargo hay información desactualizada con la Territorialización 2023 (corte 31 de julio de 2023). Se sugiere actualizar la medicion, ya que es dificil poder cuantificar el grado de cumplimiento. | AB7: pagina web | AC7: CUMPLIENDO | AD7: Parcialmente | AE7: En atención a la meta e indicador establecidos e identificados como: Meta: Módulo atención y servicios a la ciudadanía adecuado en 100% Indicador: Porcentaje de adecuación del Módulo atención y servicios a la ciudadanía Fórmula Indicador: (No. de acciones realizadas para la adecuación del Módulo atención y servicios a la ciudadanía / No. de acciones programadas para la adecuación del Módulo atención y servicios a la ciudadanía )*100 Consultado El modulo participa de la pagina web de la sda, se evidencio que esta se encuentra disponible y actualizado, no obstante, una vez consultado el modulo "servicios a la ciudadania" se observó cargada informacion desactualizada como: 1. Plan de participacion ciudadana del 2022, 2. el Plan de Acción de la Estrategia de Participación Ciudadana del 2023, 3. la dispinibilidad de la informacion de "rendicion de cuentas" no cuenta con la carpeta 2024, 4. la informacion disponible de las caminatas es del mes de julio,4. la Territorialización 2023 (corte 31 de julio de 2023),5. finalmente el chatbot sigue sin disponibilidad o funcionamiento. tal como lo indica la segunda linea de defensa. Se reitera la sugerencia de actializar y ampliar las preguntas frecuentes y verificar la disponibilidad de item "informacon de interes" ya que se encuentra vacio. Respecto a la formula del indicador, no es posible evidenciar su cumplimiento, toda vez que no se observó un documento que dé cuenta del No. de acciones que se tienen programadas durante la vigencia para la adecuación del módulo y servicios a la ciudadanía que permitan a esta oficina verificar el grado o avance de ejecución realizada durante el periodo evaluado, por lo tanto, tampoco se puede determinar cumplimiento del indicador, por lo tanto se recomienta que la medicion del indicador se pueda evidenciar para poder emitir un concepto de avance porcentual sobre la actividad. Se asigna un 25% de cumplimiento, debido a las desactualizaciones presentadas | AF7: 0.58
C8: 1. MECANISMOS PARA LA TRANSPARENCIA Y ACCESO A LA INFORMACIÓN | D8: 1.1 Lineamiento de transparencia activa | E8: 1.1.2 | F8: Realizar acompañamiento a la apropiación y uso de las diferentes secciones del modulo participa en la sede electrónica de la SDA. | G8: 3 mesas de trabajo para el uso de las diferentes secciones del modulo participa | H8: Mesas de trabajo para el acompañamiento y apropiación del modulo participa | I8: (No. de mesas de trabajo realizadas para adecuar y publicar información en el modulo participa / 3 mesas de trabajo programadas para adecuar y publicar información en el modulo participa)*100 | J8: Actas de reuniones Memorandos Plan de mejora | K8: Subsecretaria general / servicio a la ciudadanía | L8: X | M8: X | N8: X | O8: Durante el primer trimestre del 2024 se realiza mesa de trabajo para seguir trabajando en mejorar el modulo participa, en esta mesa participa, transparencia, atencion al ciudadano , Opel y comunicaciones | P8: 0.33 | R8: El proceso reporta la realización de 1 de las 3 mesas de trabajo programadas para el acompañamiento y apropiación del módulo participa del portal web. Esta mesa de trabajo se realizó el 27 de marzo en conjunto con la subsecretaria general desde la temática de transparencia, servicio a la ciudadania con la OPEL y la oficina asesora de comunicaciones, donde trataron los lineamientos menú participa Función publica generalidades. | S8: Acta de reunión y lineamientos https://drive.google.com/drive/u/0/folders/1DPyQVA5dpR8cB_MRlF-pENon35L7bscB | T8: CUMPLIENDO | U8: Cumplida | V8: En atención a la meta e indicador establecidos e identificados como: Meta: 3 mesas de trabajo para el uso de las diferentes secciones del modulo participa Indicador: Mesas de trabajo para el acompañamiento y apropiación del modulo participa Fórmula Indicador: (No. de mesas de trabajo realizadas para adecuar y publicar información en el modulo participa / 3 mesas de trabajo programadas para adecuar y publicar información en el modulo participa)*100 Revisadas las evidencias se observo acta de mesa de trabajo, de fecha 27 de marzo de 2024 con temas tratados en: pagina web y lineamientos menú participa Función pública generalidades, no obstante, se recomienda cargar la version final del acta de reunion toda vez, que el acta cargada se encuentra en formato word y contiene errores en la asignacion de la dependencia responsable indicando que es a cargo de la subdireccion financiera y la lista no se encuentra completamente diligenciada, asi mismo se recomienda que aborden los temas de actualizacion de los menus participa y servicio a la ciudadania, los cuales no se mencionaron durante la reunion y en la web de la sda, presentan desactualizacion. Respecto a la meta, indicado y formula del indicador se observo cumplimiento | W8: 0.33 | X8: Se realizan ajustes al menu participa de acuerdo a requerimientos en reunion interna en Opel | Y8: 0.66 | Z8: https://drive.google.com/drive/folders/1Mcaa1J4tN98NWaYc8qgE8lQiBaH171W9 | AA8: El proceso reporta un archivo con todos los cambios realizados en el menu participa, no obstante el indicador se relaciona con mesas de trabajo. | AB8: https://drive.google.com/drive/folders/1Mcaa1J4tN98NWaYc8qgE8lQiBaH171W9 | AC8: INICIADA | AD8: No Cumplida | AE8: En atención a la meta e indicador establecidos e identificados como: Meta: 3 mesas de trabajo para el uso de las diferentes secciones del modulo participa Indicador: Mesas de trabajo para el acompañamiento y apropiación del modulo participa Fórmula Indicador: (No. de mesas de trabajo realizadas para adecuar y publicar información en el modulo participa / 3 mesas de trabajo programadas para adecuar y publicar información en el modulo participa)*100. Revisadas las evidencias, no se observaron documentos relacionados con los documentos de verificacion (Actas de reuniones,Memorandos, Plan de mejora) por lo tanto no se evidencio cumplimiento de la actividad ni de la meta propuesta. Por lo anterior, el estado de la actividad es "no cumplida" y su acumulado es el obtenido en el primer cuatrimestre 33% | AF8: 0.33
C9: 1. MECANISMOS PARA LA TRANSPARENCIA Y ACCESO A LA INFORMACIÓN | D9: 1.1 Lineamiento de transparencia activa | E9: 1.1.3 | F9: Realizar seguimiento a los pasivos exigibles, reservas presupuestales y saneamiento contable. | G9: Un (1) informe de seguimiento emitido y publicado en la página web de la Entidad. | H9: Emisión y publicación del informe de seguimiento | I9: (# de informes emitidos y publicados / 1) * 100 | J9: Memorando de emisión al CICCI. Informe publicado en página web. | K9: Oficina de Control Interno | N9: X | O9: Tercer cuatrimestre | R9: Acción programada para el tercer cuatrimestre | S9: No aplica | T9: PROGRAMADA | U9: No Programada en el Periodo | V9: En atención a la meta e indicador establecidos e identificados como: Meta: Un (1) informe de seguimiento emitido y publicado en la página web de la Entidad. Indicador: Emisión y publicación del informe de seguimiento Fórmula Indicador: (# de informes emitidos y publicados / 1) * 100 Esta actividad no se encuentra programada para este periodo. | W9: 0 | X9: N/A | Y9: N/A | Z9: N/A | AA9: NA | AB9: NA | AC9: NA | AD9: No Programada en el Periodo | AE9: En atención a la meta e indicador establecidos e identificados como: Meta: Un (1) informe de seguimiento emitido y publicado en la página web de la Entidad. Indicador: Emisión y publicación del informe de seguimiento Fórmula Indicador: (# de informes emitidos y publicados / 1) * 100 Esta actividad no se encuentra programada para este periodo. | AF9: 0
C10: 1. MECANISMOS PARA LA TRANSPARENCIA Y ACCESO A LA INFORMACIÓN | D10: 1.2 Lineamientos de transparencia pasiva | E10: 1.2.1 | F10: Realizar las publicaciones de información en la sección de transparencia conforme a la Ley 1712 de 2014, Resolución MinTIC 3564 de 2015 en la página web de la SDA, de acuerdo con la producción y actualización de la información solicitada por los procesos o dependencias en la mesa de servicios. | G10: Publicación del 100% de la información, conforme a las solicitudes de publicación en la sección de transparencia y acceso a la información de la SDA, realizadas por los procesos o dependencias solicitadas en la mesa de servicios. | H10: Porcentaje de publicación en la sección de transparencia y acceso a la información de las SDA. | I10: (No. de publicaciones realizadas en la sección de transparencia de la sede electrónica / No. de publicaciones solicitadas en el sección de transparencia) x 100 | J10: reporte mesa de servicios publicaciones | K10: Dirección de Planeación y sistemas de información ambiental / Gestión tecnológica | L10: X | M10: X | N10: X | O10: Se realizó publicación del 100% de la información solicitada por los procesos o dependencias mediante ticket en la mesa de servicios para publicación en la sección de transparencia y acceso a la información de la SDA. | P10: 1 | Q10: https://drive.google.com/drive/u/0/folders/14HL0SgKB0moYM7jbCJa5H3kP8eybFYsS | R10: Se evidencia el reporte de la mesa de servicios del servicio de publicación en el sitio de transparencia de la página web, con la atención de 122 ticket solicitados por la dependencia con la respectiva publicación de la información | S10: Reporte mesa de servicio https://drive.google.com/drive/u/0/folders/14HL0SgKB0moYM7jbCJa5H3kP8eybFYsS | T10: CUMPLIENDO | U10: Parcialmente | V10: En atención a la meta e indicador establecidos e identificados como: Meta: Publicación del 100% de la información, conforme a las solicitudes de publicación en la sección de transparencia y acceso a la información de la SDA, realizadas por los procesos o dependencias solicitadas en la mesa de servicios. Indicador: Porcentaje de publicación en la sección de transparencia y acceso a la información de las SDA. Fórmula Indicador: (No. de publicaciones realizadas en la sección de transparencia de la sede electrónica / No. de publicaciones solicitadas en el sección de transparencia) x 100 Revisadas las evidencias, se observó cumplimiento de la meta, respecto a la publicacion del 100% de la informacion solicitada por las dependencias para ser publicada en la web de la entidad segun el reporte entregado, no obstante, las evidencias solo dan reporte de los meses de enero, febrero y marzo, del mes de abril no se observo evidencia que permitiera verificar su cumplimiento. Respecto al indicador, su objetivo no es claro y es ambiguo frente a la formula del indicador por tanto, se sugiere la verificacion del cumplimiento de los criterios establecidos en la Ley 1712 de transparencia y no solo al porcentaje que tampoco esta definido, de las publicaciones en la seccion transparencia. | W10: 0.2 | X10: Se realizó publicación del 100% de la información solicitada por los procesos o dependencias mediante ticket en la mesa de servicios para publicación en la sección de transparencia y acceso a la información de la SDA. | Y10: 1 | Z10: https://drive.google.com/drive/folders/1n4LOkWGSuHVtqmYqnW7oN3AcFKt9XuZY?usp=drive_link | AA10: Se evidencia el reporte de la mesa de servicios del servicio de publicación en el sitio de transparencia de la página web, con la atención de 129 ticket solicitados por la dependencia con la respectiva publicación de la información. | AB10: https://drive.google.com/drive/folders/1Mcaa1J4tN98NWaYc8qgE8lQiBaH171W9 | AC10: CUMPLIENDO | AD10: Parcialmente | AE10: En atención a la meta e indicador establecidos e identificados como: Meta: Publicación del 100% de la información, conforme a las solicitudes de publicación en la sección de transparencia y acceso a la información de la SDA, realizadas por los procesos o dependencias solicitadas en la mesa de servicios. Indicador: Porcentaje de publicación en la sección de transparencia y acceso a la información de las SDA. Fórmula Indicador: (No. de publicaciones realizadas en la sección de transparencia de la sede electrónica / No. de publicaciones solicitadas en el sección de transparencia) x 100 Revisadas las evidencias, se observaron los reportes en excel de lo meses de mayo, junio y julio, asi como un consolidado denominado "casos portal web y boletin legal ambiental" no obstante, al validar este reporte consolidado, la informacion no coincide con la reportada mes a mes, es decir: la sumatoria de los reportes mes a mes, da un total de 89 requerimientos solicitados, pero al filtrar el consolidado, esta sumatoria no coincide, generando incertibumbre de dicho reporte, ya que en relacion a la formula del indicador, no fue posible determinar el Numero exacto de publicaciones solicitadas versus el Numero exacto de publicaciones realizadas. Al no observarse evidencia del mes de agosto se asigna un 25% de cumplimiento a la fecha. Asi mismo se reitera que a la fecha no se observo reporte del mes de abril. en cuanto al indicador, se reitera que su objetivo es ambiguo toda vez que no es pocible determinar el porcentaje de publicacion en la seccion de transparencia versus la normatividad aplicable y el reporte realizado. Datos mes a mes Reporte consolidado: 129 requerimientos Reporte mes a mes MAYO 30 JUNIO 27 JULIO 31 TOTAL 88 | AF10: =25%+W10 -> 0.45
C11: 1. MECANISMOS PARA LA TRANSPARENCIA Y ACCESO A LA INFORMACIÓN | D11: 1.2 Lineamiento de transparencia pasiva | E11: 1.2.2 | F11: Generar y publicar un informe mensual de gestión de las solicitudes de acceso a la información que incluya copia de las respuestas dadas por la entidad. | G11: Asignar el 100% de solicitudes de acceso a la información generadas por parte de la ciudadanía en la vigencia 2024 | H11: Porcentaje de asignación de las solicitudes de acceso a la información | I11: (No. de solicitudes de acceso de información asignadas, con seguimiento y publicadas / No. total de solicitudes de acceso de información ingresadas a la entidad) x 100 | J11: informes de solicitud de información | K11: Subsecretaria general / servicio a la ciudadanía | L11: X | M11: X | N11: X | O11: Durante el primer trimestre 2024, se recibieron 28 y se publicaron 21, asi: en enero 8, en febrero 13 y en marzo 7 generando los informes mensuales de solicitudes de acceso a la información | P11: Informes de solicitud de informacion | Q11: Informes publicados en la pagina web : https://www.ambientebogota.gov.co/es/web/transparencia/informe-de-pqrs Drive: https://drive.google.com/drive/u/0/folders/1k7WgCW1Rm90I56cmsSbP-ZSRnvzOqWYX | R11: El proceso reporta la recepción de 28 solicitudes de acceso a la información pública en lo corrido del primer trimestre 2024. Se verifica generación y publicación del informe mensual de gestión de las solicitudes de acceso a la información de los meses enero, febrero y marzo, los cuales contienen copia de las respuestas dadas por la entidad. | S11: Informes de acceso a la información https://www.ambientebogota.gov.co/es/web/transparencia/informe-de-pqrs/-/document_library_display/6nLwHuCsY1JF/view/6189097 | T11: CUMPLIENDO | U11: Parcialmente | V11: En atención a la meta e indicador establecidos e identificados como: Meta: Asignar el 100% de solicitudes de acceso a la información generadas por parte de la ciudadanía en la vigencia 2024 Indicador: Porcentaje de asignación de las solicitudes de acceso a la información Fórmula Indicador: (No. de solicitudes de acceso de información asignadas, con seguimiento y publicadas / No. total de solicitudes de acceso de información ingresadas a la entidad) x 100 A partir de la revision efectuada, se observo cumplimiento de la meta y formula del indicador, no obstante, se sugiere al proceso, contemplar la oportunidad de contar con un reporte sistematizado de todas las solicitudes que llegan por mes, si bien, se evidencio en los informes las solicitudes allegadas, las fechas de recepcion y los soportes de registro y entrega de cada respuesta, es pertinente para el cumplimiento de la formula del indicador, poder fortalecer con un registro lo indicado en el denominador, respecto al No. total de solicitudes ingresadas a la entidad. Respecto al indicador, ni en la descripcion de la actividad ni en los soportes se puede evidenciar cual es el asignación de las solicitudes de acceso a la información tal como lo especifica el indicador que fue definido para esta actividad. Finalmente, se asigna un 20% teniendo en cuenta que a la fecha 8 de mayo, no se encontro publicado en la pagina web, el informe del mes de abril | W11: 0.2 | X11: Durante el segundo cuatrimestre 2024, se recibieron 34 y se publicaron 21, asi: en abril 7, en mayo, en junio 4 y en julio 20 generando los informes mensuales de solicitudes de acceso a la información. Cabe resaltar que debido a que los reportes se realizan mes bencido, se adjunta tambien el informe de abril y el de agosto aun no se ha realizado De acuerdo a esto se recibieron y asignaron el 100% de las solicitudes, cumpliendo de esta manera un avance del 66,6% a corte de julio | Y11: Informes de solicitud de informacion | Z11: Informes publicados en la pagina web : https://www.ambientebogota.gov.co/es/web/transparencia/informe-de-pqrs Drive: https://drive.google.com/drive/u/3/folders/1Rf3TvKIf7qWF0TNq1tXW5ckBkWlMUfWx | AA11: El proceso reporta la recepción de 34 solicitudes de acceso a la información pública en los mese de abril a julio del 2024 . Se verifica generación y publicación del informe mensual de gestión de las solicitudes de acceso a la información de los meses enero, febrero, marzo, abril, mayo, junio y julio los cuales contienen copia de las respuestas dadas por la entidad y los tiempos de respuesta oportunos. | AB11: https://drive.google.com/drive/folders/1Mcaa1J4tN98NWaYc8qgE8lQiBaH171W9 | AC11: CUMPLIENDO | AD11: Cumplida | AE11: En atención a la meta e indicador establecidos e identificados como: Meta: Asignar el 100% de solicitudes de acceso a la información generadas por parte de la ciudadanía en la vigencia 2024 Indicador: Porcentaje de asignación de las solicitudes de acceso a la información Fórmula Indicador: (No. de solicitudes de acceso de información asignadas, con seguimiento y publicadas / No. total de solicitudes de acceso de información ingresadas a la entidad) x 100 Revisadas las evidencias, con relacion a los reportes publicados en la pagina web como "Informe de seguimiento a quejas y reclamos" se evidenciaron los reportes del cuatrimestre evaluado, no obstante una vez efectuado el reporte de primera y segunda linea se identifico lo siguiente: 1. en cuanto a primera linea, no es clara lo reportado donde indica: "(...) se recibieron 34 y se publicaron 21, asi: en abril 7, en mayo, en junio 4 y en julio 20 generando los informes mensuales de solicitudes de acceso a la información (...)" ya que la sumatoria no coincide y fueron tomados datos del mes de abril que no corresponde al cuatrimestre evaluado y no se consideraron los datos del mes de agosto que si pertenece al periodo evaluado. 2. Una vez revisados los reportes cargados en la pagina web, de acuerdo con el link reportado dentro de las evidencias, se observó que el numero real de solicitudes de acceso de informacion ingresadas a la entidad fueron 38, distribuidas asi: MAYO 3, JUNIO 4, JULIO 20 , AGOSTO 11. Por lo anterior, se sugiere realizar una revision detallada de los datos reportados, toda vez, que la información reportada genera incertidumbre de los datos reales allegados y asignados teniendo en cuenta que no fue posible identificar el cumplimiento de la meta definida. Respecto al indicador, ni en la descripcion de la actividad ni en los soportes se puede evidenciar cual es el asignación de las solicitudes de acceso a la información tal como lo especifica el indicador que fue definido para esta actividad. Revisados los reportes se asigna un 33%, por cumplimiento en la actividad | AF11: 0.66
C12: 1. MECANISMOS PARA LA TRANSPARENCIA Y ACCESO A LA INFORMACIÓN | D12: 1.3 Elaboración de instrumentos de gestión de información | E12: 1.3.1 | F12: Gestionar la aprobación de la Tabla de Retención Documental de la SDA ante el Archivo Distrital. | G12: 100% de actividades de gestión realizadas para la aprobación de la Tabla de Retención Documental de la SDA. | H12: Porcentaje de actividades de gestión realizadas para la aprobación de la Tabla de Retención Documental de la SDA. | I12: (No. de actividades de gestión realizadas para la aprobación de la Tabla de Retención Documental de la SDA / No. De actividades de gestión programadas para la aprobación de la Tabla de Retención Documental de la SDA) x 100 | J12: Actas de reunión Comunicaciones Correos electrónicos Acto administrativo | K12: Dirección de Gestión Corporativa / Gestión documental | L12: X | M12: X | N12: X | O12: El 12 de febrero delegados de la SDA- DGC asistieron a mesa de sustentación de TRD ante delegados del Consejo Distrital de Archivos. La conclusión obtenida al finalizar la sesión que tuvo una duración de 5 horas es la no obtención de la convalidación del instrumento archivístico en razón a que en la mayoría de las series documentales misionales, no se cuenta con: i) Fechas extremas de la documentación y ii) volumen documental, lo cual imposibilita al equipo evaluador del Consejo Distrital de Archivos, avalar la valoración secundaria. Se adjunta, invitación a mesa de sustentación de TRD y el concepto técnico de convalidación de TRD el cual fue recibido en la SDA el 5 de marzo de 2024 bajo radicado interno 2024ER52286. | P12: 0 | Q12: Se adjunta, invitación a mesa de sustentación de TRD y el concepto técnico de convalidación de TRD el cual fue recibido en la SDA el 5 de marzo de 2024 bajo radicado interno 2024ER52286. Documentos que reposan en el DRIVE del proceso de Gestión Documental. | R12: Se evidencia la gestión del proceso para lograr la convalidación de la Tabla de Retención Documental de la SDA ante el Archivo Distrital, mediante una mesa de sustentación de TRD ante los delegados del Consejo Distrital de Archivos cuyo propósito es la verificación de requisitos técnicos, solicitada por la SDA. Dicha mesa de sustentación se citó con radicado SDA 2024ER28491 del 2 de febrero de 2024 y radicado de Secretaria General 2-2024-4058 para el día 12 de febrero de 2024. Se evidencia realización de la mesa por la comunicación final emitida por el Director distrital de archivo de Bogotá con radicado SDA 2024ER52266 del 5 de marzo de 2023 y radicado Secretaria General 2-2024-7711, en la cual se determinó la no obtención de la convalidación, realizando la devolución del instrumento de archivo debido a que no cumple con la lista de requisitos técnicos que hagan viable su evaluación. Se adjunta acta de la reunión de la mesa de sustentación efectuada el 12 de febrero de 8am a 12m. | S12: Comunicaciones oficiales y evidencia de reunión https://drive.google.com/drive/u/0/folders/1bu_OGjEBphbCoJrSr3q2jiXDMqsK31M1 | T12: CUMPLIENDO | U12: Parcialmente | V12: En atención a la meta e indicador establecidos e identificados como: Meta: 100% de actividades de gestión realizadas para la aprobación de la Tabla de Retención Documental de la SDA. Indicador: Porcentaje de actividades de gestión realizadas para la aprobación de la Tabla de Retención Documental de la SDA. Fórmula Indicador: (No. de actividades de gestión realizadas para la aprobación de la Tabla de Retención Documental de la SDA / No. De actividades de gestión programadas para la aprobación de la Tabla de Retención Documental de la SDA) x 100 Revisadas las evidencias, se observo la gestion realizada por la SDA respecto a la solicitud de convalidación de la Tabla de Retención Documental -actualización 1, aprobada para el pasado 12 de febrero, de manera presencial , en la cual se dictamino devolucion por: i) Fechas extremas de la documentación y ii) volumen documental, lo cual imposibilita al equipo evaluador del Consejo Distrital de Archivos, avalar la valoración secundaria.; tal como lo reporto la primera linea de defensa. Si bien, se han realizado gestiones al interior de la entidad, con el fin de obtener la aprobacion de las TRD, se recomienda, tener presente que para la convalidacion de las tablas, tal como lo dice el acuerdo 04 de 2019 se debe tener las tablas de valoracion documentadas por tanto se deben abordar y verificar los criterios que identifico el comite y que no se estan cumpliendo, asi mismo, se sugiere, revisar la redaccion del indicador, toda vez que, ni en la descripcion ni en las evidencias se identifica cual es el Porcentaje de actividades de gestión realizadas como lo establece el indicador . | W12: 0.25 | X12: Teniendo en cuenta el radicado 2024ER52286, del 5 de marzo de 2024, en el que el Archivo Distrital de Bogotá se pronuncia sobre la presentación de las Tablas de Retención Documental de la Secretaría Distrital de Ambiente, oficio del ente rector con "Asunto: Devolución de la Tabla de Retención Documental - Actualización 2 de la SDA" cuyo resultado no es favorable, dado que no cumple con los requisitos mínimos para la revisión por parte del Consejo Distrital de Archivo, el equipo entrante de profesionales de Gestión Documental ha iniciado la revisión del oficio con el fin de subsanar las observaciones. Para el segundo cuatrimestre, la primera actividad consiste en la revisión de 117 fichas de valoración documental de las 21 dependencias de la SDA. El objetivo de esta revisión es validar las fechas extremas y la volumetría de cada serie y subserie que componen el cuadro de clasificación documental, ya que estas afectan directamente la Tabla de Retención Documental. | Y12: 0.1 | Z12: Se adjunta actas de reunión con el equipo profesional de Gestión Documental y fichas de valoración analizadas. | AA12: Se evidencia que el proceso gestiona lo pertienente para la convalidación de la Tabla de Retención Documental de la SDA , mediante dos mesas de trabajo internas en los meses de junio y julio donde revisan la metodologia para la revision de la informacion enviada por el archivo distrital , la verificacion de las fichas de valoracion documental de la TRD y el desarrollo de las mismas , en dichas mesas se fijan compromisos para la actualizaciones solicitadas. | AB12: https://drive.google.com/drive/folders/1Mcaa1J4tN98NWaYc8qgE8lQiBaH171W9 | AC12: CUMPLIENDO | AD12: Parcialmente | AE12: En atención a la meta e indicador establecidos e identificados como: Meta: 100% de actividades de gestión realizadas para la aprobación de la Tabla de Retención Documental de la SDA. Indicador: Porcentaje de actividades de gestión realizadas para la aprobación de la Tabla de Retención Documental de la SDA. Fórmula Indicador: (No. de actividades de gestión realizadas para la aprobación de la Tabla de Retención Documental de la SDA / No. De actividades de gestión programadas para la aprobación de la Tabla de Retención Documental de la SDA) x 100. Revisadas las evidencias se observaron 2 actas de reunion, el 16 de junio de 2024 y el 11 de julio de 2024 en las que se abordo la "Revisión de la respuesta dada por el Archivo Distrital de Bogotá, sobre la convalidación de las Tablas de Retención Documental – TRD de la Secretaria Distrital de Ambiente, presentada al Archivo Distrital de Bogotá", en cuanto a lo reportado por la primera linea de defensa asi: "Para el segundo cuatrimestre, la primera actividad consiste en la revisión de 117 fichas de valoración documental de las 21 dependencias de la SDA. (...)", al respecto, en las evidencias aportadas, solo se observo valoracion documental de 14 dependencias de las 21 existentes en la entidad. Lo anterior, no permite validar el cumplimiento de la formula del indicador, ps no es posible terminar el No. de actividades programadas, por cuanto no se evidencio un cronograma o programa de seguimiento en cuanto a la redaccion del indicador, se sugiere validarlo, toda vez que, ni en la descripcion ni en las evidencias se identifica cual es el Porcentaje de actividades de gestión realizadas como lo establece el indicador. Por regla de 3 se asigna el 12,61% considerando que de las 21 dependencias solo se validaron para el cuatrimestre 14 dependencias. (en el entendido de que es la unica actrividad programada, ya que no hay cronograma que permita ratificarlo) | AF12: 0.3761
