Workbook
Name CONDICION_POBLACIONAL: [1]Variables!$C$1:$C$24
Name GRUPO_ETAREO: [1]Variables!$A$1:$A$8
Name GRUPO_ETAREOS: #REF!
Name GRUPO_ETARIO: #REF!
Name GRUPO_ETNICO: #REF!
Name GRUPOETNICO: #REF!
Name GRUPOS_ETNICOS: [1]Variables!$H$1:$H$8
Name LOCALIDAD: #REF!
Name LOCALIZACION: #REF!

Sheet GESTIÓN
G2: SECRETARÍA DISTRITAL DE AMBIENTE
G3: FORMATO DE ACTUALIZACIÓN Y SEGUIMIENTO AL COMPONENTE DE GESTIÓN
G4: DEPENDENCIA: | P4: DIRECCIÓN DE GESTIÓN CORPORATIVA
G5: CÓDIGO Y NOMBRE PROYECTO: | P5: 1033 - FORTALECIMIENTO INSTITUCIONAL PARA LA EFICIENCIA ADMINISTRATIVA
A7: Eje Plan de Desarrollo | P7: SEPTIMO EJE TRANSVERSAL - GOBIERNO LEGÍTIMO, FORTALECIMIENTO LOCAL Y EFICIENCIA
A8: Programa Plan de Desarrollo | C8: Programa Plan de Desarrollo | P8: 43 - Modernización Institucional
A10: 1, PROYECTO PRIORITARIO | C10: 2, META PLAN DE DESARROLLO | E10: 3, INDICADOR ASOCIADO A LA META PLAN DE DESARROLLO | AK10: 4, % CUMPLIMIENTO ACUMULADO (Vigencia) | AL10: 5, % DE AVANCE CUATRIENIO | AM10: 6, DESCRIPCIÓN DE LOS AVANCES Y LOGROS ALCANZADOS | AN10: 7, RETRASOS | AO10: 8, SOLUCIONES PLANTEADAS | AP10: 9, BENEFICIOS | AQ10: 10, FUENTE DE EVIDENCIAS
A11: 1,1 COD. | B11: 1,2 PROYECTO PRIORITARIO | C11: 2,1 COD. | D11: 2,2 META PLAN DE DESARROLLO | E11: 3,1 COD. | F11: 3,2 INDICADOR | G11: 3,3 UNIDAD DE MEDIDA | H11: 3,4 TIPOLOGÍA | I11: 3,5 MAGNITUD PD | J11: 3,6 PROGRAMACIÓN - ACTUALIZACIÓN | AG11: 3,7 SEGUIMIENTO VIGENCIA ACTUAL
J12: 2016 | M12: 2017 | R12: 2018 | W12: 2019 | AB12: 2020 | AG12: MAR | AH12: JUN | AI12: SEPT | AJ12: DIC
J13: SEPT | K13: DIC | L13: EJECUTADO | M13: MAR | N13: JUN | O13: SEPT | P13: DIC | Q13: EJECUTADO | R13: MAR | S13: JUN | T13: SEPT | U13: DIC | V13: EJECUTADO | W13: MAR | X13: JUN | Y13: SEPT | Z13: DIC | AA13: EJECUTADO | AB13: MAR | AC13: JUN | AD13: SEPT | AE13: DIC | AF13: EJECUTADO
A14: 189 | B14: Modernización administrativa | C14: 379 | D14: Desarrollar el 100% de actividades de intervención para el mejoramiento de la infraestructura física, dotacional y administrativa | E14: 411 | F14: Porcentaje de intervención en infraestructura física, dotacional y administrativa | G14: % | H14: Creciente | I14: 1 | J14: 0.1 | M14: 0.4 | R14: 0.65 | W14: 0.9 | AB14: 1
C15: 126PG01-PR02-F-A5-V9.0

Sheet INVERSIÓN
F1: SECRETARÍA DISTRITAL DE AMBIENTE
F2: FORMATO DE ACTUALIZACIÓN Y SEGUIMIENTO AL COMPONENTE DE INVERSIÓN
F3: DEPENDENCIA: | O3: DIRECCIÓN DE GESTIÓN CORPORATIVA
F4: CÓDIGO Y NOMBRE PROYECTO: | O4: 1033 - FORTALECIMIENTO INSTITUCIONAL PARA LA EFICIENCIA ADMINISTRATIVA
A6: 1, LÍNEA DE ACCIÓN | B6: 2, META DE PROYECTO | E6: 3, COD. META PDD A QUE SE ASOCIA META PROY | F6: 4, COD. META PROYECTO PRIORITARIO | G6: 5, VARIABLE REQUERIDA | H6: 6, MAGNITUD PD | I6: 7, PROGRAMACIÓN - ACTUALIZACIÓN | AF6: 8, EJECUCIÓN | AJ6: 9, % CUMPLIMIENTO ACUMULADO (Vigencia) | AK6: 10 ,% DE AVANCE CUATRIENIO | AL6: 11, DESCRIPCIÓN DE LOS AVANCES Y LOGROS ALCANZADOS | AM6: 12, RETRASOS | AN6: 13, SOLUCIONES PLANTEADAS | AO6: 14, BENEFICIOS | AP6: 15, FUENTE DE EVIDENCIAS
I7: 2016 | L7: 2017 | Q7: 2018 | V7: AÑO 4 | AA7: AÑO 5 | AF7: 8,1 SEGUIMIENTO VIGENCIA ACTUAL
B8: 2,1 COD. | C8: 2,2 META | D8: 2,3 TIPOLOGÍA | I8: SEPT | J8: DIC | K8: EJECUTADO | L8: MAR | M8: JUN | N8: SEPT | O8: DIC | P8: EJECUTADO | Q8: MAR | R8: JUN | S8: SEPT | T8: DIC | U8: EJECUTADO | V8: MAR | W8: JUN | X8: SEPT | Y8: DIC | Z8: EJECUTADO | AA8: MAR | AB8: JUN | AC8: SEPT | AD8: DIC | AE8: EJECUTADO | AF8: MAR | AG8: JUN | AH8: SEPT | AI8: DIC
A9: Fortalecimiento institucional | B9: 1 | C9: Ejecutar 100% de las actividades de intervención para el mejoramiento de la infraestructura física y dotación de la SDA | D9: Creciente | E9: 379 | F9: 189 | G9: MAGNITUD META | H9: 1 | I9: 0.2 | L9: 0.67 | Q9: 0.9 | V9: 1 | AA9: 0
G10: PRESUPUESTO VIGENCIA | H10: 1500000000 | I10: 300000000 | L10: 700000000 | Q10: 350000000 | V10: 150000000 | AA10: 0
G11: MAGNITUD META DE RESERVAS | H11: 0 | I11: 0
G12: RESERVA PRESUPUESTAL | H12: 0 | I12: 0
G13: TOTAL MAGNITUD META | H13: =+H9+H11 -> 1 | I13: =+I9+I11 -> 0.2 | L13: =+L9+L11 -> 0.67 | Q13: =+Q9+Q11 -> 0.9 | V13: =+V9+V11 -> 1 | AA13: =+AA9+AA11 -> 0
G14: TOTAL PRESUPUESTO | H14: =+H10+H12 -> 1500000000 | I14: =+I10+I12 -> 300000000 | L14: =+L10+L12 -> 700000000 | Q14: =+Q10+Q12 -> 350000000 | V14: =+V10+V12 -> 150000000 | AA14: =+AA10+AA12 -> 0
B15: 2 | C15: Ejecutar 5 acciones Para el sostenimiento y mejora del PIGA de la SDA | D15: Suma | G15: MAGNITUD META | H15: 5 | I15: 1 | L15: 1 | Q15: 1 | V15: 1 | AA15: 1
G16: PRESUPUESTO VIGENCIA | H16: 1124000000 | I16: 124000000 | L16: 250000000 | Q16: 270000000 | V16: 280000000 | AA16: 200000000
G17: MAGNITUD META DE RESERVAS | H17: 0 | I17: 0
G18: RESERVA PRESUPUESTAL | H18: 0 | I18: 0
G19: TOTAL MAGNITUD META | H19: =+H15+H17 -> 5 | I19: =+I15+I17 -> 1 | L19: =+L15+L17 -> 1 | Q19: =+Q15+Q17 -> 1 | V19: =+V15+V17 -> 1 | AA19: =+AA15+AA17 -> 1
G20: TOTAL PRESUPUESTO | H20: =+H16+H18 -> 1124000000 | I20: =+I16+I18 -> 124000000 | L20: =+L16+L18 -> 250000000 | Q20: =+Q16+Q18 -> 270000000 | V20: =+V16+V18 -> 280000000 | AA20: =+AA16+AA18 -> 200000000
B21: 3 | C21: Realizar 25 actividades orientadas al mejoramiento del clima del clima organizacional | D21: Creciente | G21: MAGNITUD META | H21: 25 | I21: 5 | L21: 10 | Q21: 15 | V21: 20 | AA21: 25
G22: PRESUPUESTO VIGENCIA | H22: 410000000 | I22: 70000000 | L22: 70000000 | Q22: 80000000 | V22: 90000000 | AA22: 100000000
G23: MAGNITUD META DE RESERVAS | H23: 0
G24: RESERVA PRESUPUESTAL | H24: 0
G25: TOTAL MAGNITUD META | H25: =+H21+H23 -> 25 | I25: =+I21+I23 -> 5 | L25: =+L21+L23 -> 10 | Q25: =+Q21+Q23 -> 15 | V25: =+V21+V23 -> 20 | AA25: =+AA21+AA23 -> 25
G26: TOTAL PRESUPUESTO | H26: =+H22+H24 -> 410000000 | I26: =+I22+I24 -> 70000000 | L26: =+L22+L24 -> 70000000 | Q26: =+Q22+Q24 -> 80000000 | V26: =+V22+V24 -> 90000000 | AA26: =+AA22+AA24 -> 100000000
A27: Gestion Documental | B27: 4 | C27: Implementar 10 procesos que integran el Programa de Gestión Documental | D27: Creciente | G27: MAGNITUD META | H27: 10 | I27: 1 | L27: 4 | Q27: 7 | V27: 9 | AA27: 10
G28: PRESUPUESTO VIGENCIA | H28: 2080000000 | I28: 380062738 | L28: 700000000 | Q28: 500000000 | V28: 300000000 | AA28: 200000000
G29: MAGNITUD META DE RESERVAS | H29: 0
G30: RESERVA PRESUPUESTAL | H30: 0
G31: TOTAL MAGNITUD META | H31: =+H27+H29 -> 10 | I31: =+I27+I29 -> 1 | L31: =+L27+L29 -> 4 | Q31: =+Q27+Q29 -> 7 | V31: =+V27+V29 -> 9 | AA31: =+AA27+AA29 -> 10
G32: TOTAL PRESUPUESTO | H32: =+H28+H30 -> 2080000000 | I32: =+I28+I30 -> 380062738 | L32: =+L28+L30 -> 700000000 | Q32: =+Q28+Q30 -> 500000000 | V32: =+V28+V30 -> 300000000 | AA32: =+AA28+AA30 -> 200000000
A33: Direccionamiento juridico integral | B33: 5 | C33: Aumentar al 90% el Direccionamiento Jurídico integral de la SDA | D33: Creciente | G33: MAGNITUD META | H33: 0.9 | I33: 0.85 | L33: 0.865 | Q33: 0.88 | V33: 0.89 | AA33: 0.9
G34: PRESUPUESTO VIGENCIA | H34: 3556438958 | I34: 456438958 | L34: 741000000 | Q34: 763000000 | V34: 786000000 | AA34: 810000000
G35: MAGNITUD META DE RESERVAS | H35: 0
G36: RESERVA PRESUPUESTAL | H36: 0
G37: TOTAL MAGNITUD META | H37: =+H33+H35 -> 0.9 | I37: =+I33+I35 -> 0.85 | L37: =+L33+L35 -> 0.865 | Q37: =+Q33+Q35 -> 0.88 | V37: =+V33+V35 -> 0.89 | AA37: =+AA33+AA35 -> 0.9
G38: TOTAL PRESUPUESTO | H38: =+H34+H36 -> 3556438958 | I38: =+I34+I36 -> 456438958 | L38: =+L34+L36 -> 741000000 | Q38: =+Q34+Q36 -> 763000000 | V38: =+V34+V36 -> 786000000 | AA38: =+AA34+AA36 -> 810000000
B39: 6 | C39: Mantener en el 82 % el éxito procesal en fallos favorables en representación de la SDA | D39: Constante | G39: MAGNITUD META | H39: 0.82 | I39: 0.82 | L39: 0.82 | Q39: 0.82 | V39: 0.82 | AA39: 0.82
G40: PRESUPUESTO VIGENCIA | H40: 2690561042 | I40: 351561042 | L40: 559000000 | Q40: 576000000 | V40: 593000000 | AA40: 611000000
G41: MAGNITUD META DE RESERVAS | H41: 0
...

Sheet ACTIVIDADES
C1: SECRETARÍA DISTRITAL DE AMBIENTE
C2: FORMATO ACTUALIZACIÓN Y SEGUIMIENTO A LAS ACTIVIDADES
C3: DEPENDENCIA: | D3: DIRECCIÓN DE GESTIÓN CORPORATIVA
C4: CÓDIGO Y NOMBRE DE PROYECTO: | D4: 1033 - FORTALECIMIENTO INSTITUCIONAL PARA LA EFICIENCIA ADMINISTRATIVA
A6: 1, LÍNEA DE ACCIÓN | B6: 2, META DE PROYECTO | C6: 3, ACTIVIDAD | D6: 4, SE EJECUTA CON RECURSOS DE: | F6: 5, PONDERACIÓN HORIZONTAL AÑO: 2016 | T6: 6,PONDERACIÓN VERTICAL | V6: 7, OBSERVACIONES AVANCE ACUMULADO VIGENCIA 2016
D7: 4,1 VIGENCIA | E7: 4,2 RESERVA | F7: VARIABLES | G7: Ene | H7: Feb | I7: Mar | J7: Abr | K7: May | L7: Jun | M7: Jul | N7: Ago | O7: Sep | P7: Oct | Q7: Nov | R7: Dic | S7: Total | T7: 6,1 META | U7: 6,2 ACTIVIDAD
A8: Fortalecimiento institucional | B8: Ejecutar 100% de las actividades de intervención para el mejoramiento de la infraestructura física y dotación de la SDA | C8: Revisión de planos y consecución de los permisos necesarios para las modificaciones al semisótano de la SDA | D8: X | F8: Programado | M8: 0.5 | N8: 0.5 | O8: 0 | P8: 0 | Q8: 0 | R8: 0 | S8: =SUM(M8:R8) -> 1 | T8: 0.2 | U8: 0.07
F9: Ejecutado | S9: =SUM(G9:K9) -> 0
C10: Llevar a cabo los procesos precontractuales y contractuales para la adjudicación del contrato de modificación del semisótano de la SDA | D10: X | F10: Programado | M10: 0 | N10: 0 | O10: 0.333 | P10: 0.333 | Q10: 0.334 | R10: 0 | S10: =SUM(M10:R10) -> 1 | U10: 0.07
F11: Ejecutado | S11: =SUM(G11:R11) -> 0
C12: Elaborar el cronograma de obra y preliminares | D12: X | F12: Programado | M12: 0 | N12: 0 | O12: 0 | P12: 0 | Q12: 0 | R12: 1 | S12: =SUM(M12:R12) -> 1 | U12: 0.06
F13: Ejecutado | S13: =SUM(G13:R13) -> 0
B14: Ejecutar 5 acciones Para el sostenimiento y mejora del PIGA de la SDA | C14: Realizar clasificación y almacenamiento temporal de los residuos generados en la SDA. | D14: X | F14: Programado | M14: 0.167 | N14: 0.167 | O14: 0.166 | P14: 0.167 | Q14: 0.167 | R14: 0.166 | S14: =SUM(M14:R14) -> 1 | T14: 0.125 | U14: 0.025
F15: Ejecutado | S15: =SUM(M15:R15) -> 0
C16: Gestionar la entrega de residuos con gestor autorizado | D16: X | F16: Programado | M16: 0.1 | N16: 0.3 | O16: 0.1 | P16: 0.3 | Q16: 0.1 | R16: 0.1 | S16: =SUM(M16:R16) -> 1 | U16: 0.02
F17: Ejecutado | S17: =SUM(M17:R17) -> 0
C18: Acondicionar y /o cambiar los puntos ecológicos en la SDA. | D18: X | F18: Programado | M18: 0 | N18: 0.2 | O18: 0.4 | P18: 0 | Q18: 0.4 | R18: 0 | S18: =SUM(M18:R18) -> 1 | U18: 0.025
F19: Ejecutado | S19: =SUM(M19:R19) -> 0
C20: Realizar practicas de Eco conducción a los conductores con el fin de identificar la destreza en la conducción. | D20: X | F20: Programado | M20: 0 | N20: 0 | O20: 0 | P20: 0.5 | Q20: 0.5 | R20: 0 | S20: =SUM(M20:R20) -> 1 | U20: 0.01
F21: Ejecutado | S21: =SUM(M21:R21) -> 0
C22: Realizar la adquisición de biciparqueaderos para promover el uso de la bicicleta. | D22: X | F22: Programado | M22: 0 | N22: 0 | O22: 0 | P22: 0 | Q22: 0.5 | R22: 0.5 | S22: =SUM(M22:R22) -> 1 | U22: 0.01
F23: Ejecutado | S23: =SUM(M23:R23) -> 0
C24: Acondicionar los jardines interiores para el mejoramiento de las condiciones internas. | D24: X | F24: Programado | M24: 0 | N24: 0.333 | O24: 0.334 | P24: 0.333 | Q24: 0 | R24: 0 | S24: =SUM(M24:R24) -> 1 | U24: 0.01
F25: Ejecutado | S25: =SUM(M25:R25) -> 0
C26: Realizar seguimiento y sostenimiento a cada uno de los programas que hacen parte del PIGA | D26: X | F26: Programado | M26: 0.167 | N26: 0.167 | O26: 0.166 | P26: 0.167 | Q26: 0.167 | R26: 0.166 | S26: =SUM(M26:R26) -> 1 | U26: 0.025
F27: Ejecutado | S27: =SUM(M27:R27) -> 0
B28: Realizar 25 actividades orientadas al mejoramiento del clima del clima organizacional | C28: Llevar a cabo capacitaciones o talleres en temas relacionados con liderazgo, trabajo en equipo, solución de conflictos y comunicación asertiva | D28: X | F28: Programado | M28: 0 | N28: 0.25 | O28: 0.25 | P28: 0.25 | Q28: 0.25 | R28: 0 | S28: =SUM(M28:R28) -> 1 | T28: 0.125 | U28: 0.025
F29: Ejecutado | S29: =SUM(M29:R29) -> 0
C30: Realizar jornadas de integración en pro del fortalecimiento de los valores institucionales | D30: X | F30: Programado | M30: 0 | N30: 0 | O30: 0 | P30: 0.5 | Q30: 0 | R30: 0.5 | S30: =SUM(M30:R30) -> 1 | U30: 0.02
F31: Ejecutado | S31: =SUM(M31:R31) -> 0
C32: Realizar el diagnostico de factores de riesgo Psicosocial a los servidores de la SDA | D32: X | F32: Programado | M32: 0 | N32: 0 | O32: 0 | P32: 0 | Q32: 1 | R32: 0 | S32: =SUM(M32:R32) -> 1 | U32: 0.015
F33: Ejecutado | S33: =SUM(M33:R33) -> 0
C34: Llevar a cabo jornadas de capacitación en temas transversales a los servidores de la SDA | D34: X | F34: Programado | M34: 0 | N34: 0 | O34: 0.5 | P34: 0.5 | Q34: 0 | R34: 0 | S34: =SUM(M34:R34) -> 1 | U34: 0.025
F35: Ejecutado | S35: =SUM(M35:R35) -> 0
C36: Llevar a cabo jornadas de re inducción en temas misionales a los servidores de la SDA | D36: X | F36: Programado | M36: 0.5 | N36: 0 | O36: 0 | P36: 0.5 | Q36: 0 | R36: 0 | S36: =SUM(M36:R36) -> 1 | U36: 0.025
F37: Ejecutado | S37: =SUM(M37:R37) -> 0
C38: Realizar la medición del clima organizacional en la SDA | D38: X | F38: Programado | M38: 0 | N38: 0 | O38: 0 | P38: 0 | Q38: 0 | R38: 1 | S38: =SUM(M38:R38) -> 1 | U38: 0.015
F39: Ejecutado | S39: =SUM(M39:R39) -> 0
A40: Gestión Documental | B40: Implementar 10 procesos que integran el Programa de Gestión Documental | C40: Ejecutar jornadas de sensibilización sobre la importancia de la gestión documental y la necesidad de apoyarla, dirigida a los profesionales y directivos de la entidad. | D40: X | F40: Programado | M40: 0 | N40: 0 | O40: 0.5 | P40: 0 | Q40: 0.5 | R40: 0 | S40: =SUM(M40:R40) -> 1 | T40: 0.2 | U40: 0.03
F41: Ejecutado | S41: =SUM(M41:R41) -> 0
...

Sheet TERRITORIALIZACIÓN 
E1: SECRETARÍA DISTRITAL DE AMBIENTE
E2: FORMATO DE ACTUALIZACIÓN Y SEGUIMIENTO A LA TERRITORIALIZACIÓN DE LA INVERSIÓN
E3: PROYECTO: | G3: 1033 - FORTALECIMIENTO INSTITUCIONAL PARA LA EFICIENCIA ADMINISTRATIVA
E4: PERIODO: | G4: JULIO - DICIEMBRE DE 2016
A5: 1, COD. META | B5: 2, Meta Proyecto | C5: 3, Nombre -Punto de inversión (Localidad, Especial, Distrital) | D5: 4, Variable | E5: 5, Programación-Actualización | F5: 6, ACTUALIZACIÓN VIGENCIA _____ | R5: 7. SEGUIMIENTO VIGENCIA _____ | AD5: 8, LOCALIZACIÓN GEOGRÁFICA | AI5: 9, POBLACIÓN
A6: ID Meta | F6: Enero | G6: Febrero | H6: Marzo | I6: Abril | J6: Mayo | K6: Junio | L6: Julio | M6: Agosto | N6: Septiembre | O6: Octubre | P6: Noviembre | Q6: Diciembre | R6: Enero | S6: Febrero | T6: Marzo | U6: Abril | V6: Mayo | W6: Junio | X6: Julio | Y6: Agosto | Z6: Septiembre | AA6: Octubre | AB6: Noviembre | AC6: Diciembre | AD6: 8,1 LOCALIDADES | AE6: 8,2 UPZ | AF6: 8,3 BARRIO | AG6: 8,4 PUNTO, LÍNEA O POLÍGONO | AH6: 8,5 ÁREA DE INFLUENCIA | AI6: 9,1 NUMERO DE HOMBRES | AJ6: 9,2 NUMERO DE MUJERES | AK6: 9,3 GRUPO ETARIO | AL6: 9,4 CONDICION POBLACIONAL | AM6: 9,5 GRUPOS ETNICOS | AN6: 9,6 TOTAL POBLACIÓN PERSONAS/CANTIDAD
A7: 1 | B7: Ejecutar 100% de las actividades de intervención para el mejoramiento de la infraestructura física y dotación de la SDA | C7: Distrito Capital | D7: Magnitud Vigencia | E7: =[2]INVERSIÓN!H8 -> 0.2 | F7: =+[2]INVERSIÓN!I8 -> 0.2 | G7: =+[2]INVERSIÓN!J8 -> 0.2 | H7: =+[2]INVERSIÓN!K8 -> 0.2 | I7: =+[2]INVERSIÓN!L8 -> 0.2 | J7: =+[2]INVERSIÓN!M8 -> 0.2 | K7: =+[2]INVERSIÓN!N8 -> 0.2 | L7: =+[2]INVERSIÓN!O8 -> 0 | M7: =+[2]INVERSIÓN!P8 -> 0 | ... AC7: =+[2]INVERSIÓN!AF8 -> 0 | AD7: Distrito Capital | AE7: Chapinero | AF7: Chapinero Central | AG7: Avenida Caracas N° 54 - 38 | AH7: Distrito Capital | AI7: Esta información no se puede territorializar toda vez que son acciones que se adelantan en la sede principal y son de carácter administrativo | AJ7: Relacionar la información asociada a la población (Numero de hombres) espacios relacionados al punto de inversión en que se ejecutó la meta. | AK7: Desde nuestra competencia no se hace distinción para los grupos Etareos | AL7: TODOS LOS GRUPOS | AM7: NO IDENTIFICA GRUPOS ETNICOS | AN7: 1053
D8: Recursos Vigencia | E8: =+[2]INVERSIÓN!H9 -> 300000000 | F8: =+[2]INVERSIÓN!I9 -> 0 | G8: =+[2]INVERSIÓN!J9 -> 0 | H8: =+[2]INVERSIÓN!K9 -> 0 | I8: =+[2]INVERSIÓN!L9 -> 0 | J8: =+[2]INVERSIÓN!M9 -> 0 | K8: =+[2]INVERSIÓN!N9 -> 0 | L8: =+[2]INVERSIÓN!O9 -> 0 | ... AC8: =+[2]INVERSIÓN!AF9 -> 0
D9: Magnitud Reservas | E9: =+[2]INVERSIÓN!H10 -> 0 | F9: =+[2]INVERSIÓN!I12 -> 0.2 | G9: =+[2]INVERSIÓN!J12 -> 0.2 | H9: =+[2]INVERSIÓN!K12 -> 0.2 | I9: =+[2]INVERSIÓN!L12 -> 0.2 | J9: =+[2]INVERSIÓN!M12 -> 0.2 | K9: =+[2]INVERSIÓN!N12 -> 0.2 | L9: =+[2]INVERSIÓN!O12 -> 0 | M9: =+[2]INVERSIÓN!P12 -> 0 | ... AC9: =+[2]INVERSIÓN!AF12 -> 0
D10: Reservas Presupuestales | E10: =+[2]INVERSIÓN!H11 -> 0 | F10: =+[2]INVERSIÓN!I11 -> 0 | G10: =+[2]INVERSIÓN!J11 -> 0 | H10: =+[2]INVERSIÓN!K11 -> 0 | I10: =+[2]INVERSIÓN!L11 -> 0 | J10: =+[2]INVERSIÓN!M11 -> 0 | K10: =+[2]INVERSIÓN!N11 -> 0 | L10: =+[2]INVERSIÓN!O11 -> 0 | ... AC10: =+[2]INVERSIÓN!AF11 -> 0
A11: 2 | B11: Ejecutar 5 acciones Para el sostenimiento y mejora del PIGA de la SDA | C11: Distrito Capital | D11: Magnitud Vigencia | E11: =+[2]INVERSIÓN!H14 -> 1 | F11: =+[2]INVERSIÓN!I14 -> 1 | G11: =+[2]INVERSIÓN!J14 -> 1 | H11: =+[2]INVERSIÓN!K14 -> 1 | I11: =+[2]INVERSIÓN!L14 -> 1 | J11: =+[2]INVERSIÓN!M14 -> 1 | K11: =+[2]INVERSIÓN!N14 -> 1 | L11: =+[2]INVERSIÓN!O14 -> 0 | ... AC11: =+[2]INVERSIÓN!AF14 -> 0 | AD11: Distrito Capital | AE11: Chapinero | AF11: Chapinero Central | AG11: Avenida Caracas N° 54 - 38 | AH11: Distrito Capital | AI11: Esta información no se puede territorializar toda vez que son acciones que se adelantan en la sede principal y son de carácter administrativo | AJ11: Relacionar la información asociada a la población (Numero de hombres) espacios relacionados al punto de inversión en que se ejecutó la meta. | AK11: Desde nuestra competencia no se hace distinción para los grupos Etareos | AL11: TODOS LOS GRUPOS | AM11: NO IDENTIFICA GRUPOS ETNICOS | AN11: 1053
D12: Recursos Vigencia | E12: =+[2]INVERSIÓN!H15 -> 124000000 | F12: =+[2]INVERSIÓN!I15 -> 0 | G12: =+[2]INVERSIÓN!J15 -> 0 | H12: =+[2]INVERSIÓN!K15 -> 0 | I12: =+[2]INVERSIÓN!L15 -> 0 | J12: =+[2]INVERSIÓN!M15 -> 0 | K12: =+[2]INVERSIÓN!N15 -> 0 | L12: =+[2]INVERSIÓN!O15 -> 0 | ... AC12: =+[2]INVERSIÓN!AF15 -> 0
D13: Magnitud Reservas | E13: =+[2]INVERSIÓN!H16 -> 0 | F13: =+[2]INVERSIÓN!I16 -> 0 | G13: =+[2]INVERSIÓN!J16 -> 0 | H13: =+[2]INVERSIÓN!K16 -> 0 | I13: =+[2]INVERSIÓN!L16 -> 0 | J13: =+[2]INVERSIÓN!M16 -> 0 | K13: =+[2]INVERSIÓN!N16 -> 0 | L13: =+[2]INVERSIÓN!O16 -> 0 | ... AC13: =+[2]INVERSIÓN!AF16 -> 0
D14: Reservas Presupuestales | E14: =+[2]INVERSIÓN!H17 -> 0 | F14: =+[2]INVERSIÓN!I17 -> 0 | G14: =+[2]INVERSIÓN!J17 -> 0 | H14: =+[2]INVERSIÓN!K17 -> 0 | I14: =+[2]INVERSIÓN!L17 -> 0 | J14: =+[2]INVERSIÓN!M17 -> 0 | K14: =+[2]INVERSIÓN!N17 -> 0 | L14: =+[2]INVERSIÓN!O17 -> 0 | ... AC14: =+[2]INVERSIÓN!AF17 -> 0
A15: 3 | B15: Realizar 25 actividades orientadas al mejoramiento del clima del clima organizacional | C15: Distrito Capital | D15: Magnitud Vigencia | E15: =+[2]INVERSIÓN!H20 -> 5 | F15: =+[2]INVERSIÓN!I20 -> 5 | G15: =+[2]INVERSIÓN!J20 -> 5 | H15: =+[2]INVERSIÓN!K20 -> 5 | I15: =+[2]INVERSIÓN!L20 -> 5 | J15: =+[2]INVERSIÓN!M20 -> 5 | K15: =+[2]INVERSIÓN!N20 -> 5 | L15: =+[2]INVERSIÓN!O20 -> 0 | ... AC15: =+[2]INVERSIÓN!AF20 -> 0 | AD15: Distrito Capital | AE15: Chapinero | AF15: Chapinero Central | AG15: Avenida Caracas N° 54 - 38 | AH15: Distrito Capital | AI15: Esta información no se puede territorializar toda vez que son acciones que se adelantan en la sede principal y son de carácter administrativo | AJ15: Relacionar la información asociada a la población (Numero de hombres) espacios relacionados al punto de inversión en que se ejecutó la meta. | AK15: Desde nuestra competencia no se hace distinción para los grupos Etareos | AL15: TODOS LOS GRUPOS | AM15: NO IDENTIFICA GRUPOS ETNICOS | AN15: 1053
D16: Recursos Vigencia | E16: =+[2]INVERSIÓN!H21 -> 70000000 | F16: =+[2]INVERSIÓN!I21 -> 0 | G16: =+[2]INVERSIÓN!J21 -> 0 | H16: =+[2]INVERSIÓN!K21 -> 0 | I16: =+[2]INVERSIÓN!L21 -> 0 | J16: =+[2]INVERSIÓN!M21 -> 0 | K16: =+[2]INVERSIÓN!N21 -> 0 | L16: =+[2]INVERSIÓN!O21 -> 0 | ... AC16: =+[2]INVERSIÓN!AF21 -> 0
D17: Magnitud Reservas | E17: =+[2]INVERSIÓN!H22 -> 0 | F17: =+[2]INVERSIÓN!I28 -> 0 | G17: =+[2]INVERSIÓN!J28 -> 0 | H17: =+[2]INVERSIÓN!K28 -> 0 | I17: =+[2]INVERSIÓN!L28 -> 0 | J17: =+[2]INVERSIÓN!M28 -> 0 | K17: =+[2]INVERSIÓN!N28 -> 0 | L17: =+[2]INVERSIÓN!O28 -> 0 | M17: =+[2]INVERSIÓN!P28 -> 0 | ... AC17: =+[2]INVERSIÓN!AF28 -> 0
D18: Reservas Presupuestales | E18: =+[2]INVERSIÓN!H23 -> 0 | F18: =+[2]INVERSIÓN!I29 -> 0 | G18: =+[2]INVERSIÓN!J29 -> 0 | H18: =+[2]INVERSIÓN!K29 -> 0 | I18: =+[2]INVERSIÓN!L29 -> 0 | J18: =+[2]INVERSIÓN!M29 -> 0 | K18: =+[2]INVERSIÓN!N29 -> 0 | L18: =+[2]INVERSIÓN!O29 -> 0 | M18: =+[2]INVERSIÓN!P29 -> 0 | ... AC18: =+[2]INVERSIÓN!AF29 -> 0
A19: 4 | B19: Implementar 10 procesos que integran el Programa de Gestión Documental | C19: Distrito Capital | D19: Magnitud Vigencia | E19: =+[2]INVERSIÓN!H26 -> 1 | F19: =+[2]INVERSIÓN!I26 -> 1 | G19: =+[2]INVERSIÓN!J26 -> 1 | H19: =+[2]INVERSIÓN!K26 -> 1 | I19: =+[2]INVERSIÓN!L26 -> 1 | J19: =+[2]INVERSIÓN!M26 -> 1 | K19: =+[2]INVERSIÓN!N26 -> 1 | L19: =+[2]INVERSIÓN!O26 -> 0 | ... AC19: =+[2]INVERSIÓN!AF26 -> 0 | AD19: Distrito Capital | AE19: Chapinero | AF19: Chapinero Central | AG19: Avenida Caracas N° 54 - 38 | AH19: Distrito Capital | AI19: Esta información no se puede territorializar toda vez que son acciones que se adelantan en la sede principal y son de carácter administrativo | AJ19: Relacionar la información asociada a la población (Numero de hombres) espacios relacionados al punto de inversión en que se ejecutó la meta. | AK19: Desde nuestra competencia no se hace distinción para los grupos Etareos | AL19: TODOS LOS GRUPOS | AM19: NO IDENTIFICA GRUPOS ETNICOS | AN19: 1053
D20: Recursos Vigencia | E20: =+[2]INVERSIÓN!H27 -> 380062738 | F20: =+[2]INVERSIÓN!I27 -> 380062738 | G20: =+[2]INVERSIÓN!J27 -> 380062738 | H20: =+[2]INVERSIÓN!K27 -> 380062738 | I20: =+[2]INVERSIÓN!L27 -> 380062738 | J20: =+[2]INVERSIÓN!M27 -> 380062738 | K20: =+[2]INVERSIÓN!N27 -> 380062738 | L20: =+[2]INVERSIÓN!O27 -> 0 | ... AC20: =+[2]INVERSIÓN!AF27 -> 0
D21: Magnitud Reservas | E21: =+[2]INVERSIÓN!H28 -> 0 | F21: =+[2]INVERSIÓN!I36 -> 0.01 | G21: =+[2]INVERSIÓN!J36 -> 0.01 | H21: =+[2]INVERSIÓN!K36 -> 0.01 | I21: =+[2]INVERSIÓN!L36 -> 0.01 | J21: =+[2]INVERSIÓN!M36 -> 0.01 | K21: =+[2]INVERSIÓN!N36 -> 0.01 | L21: =+[2]INVERSIÓN!O36 -> 0 | M21: =+[2]INVERSIÓN!P36 -> 0 | ... AC21: =+[2]INVERSIÓN!AF36 -> 0
D22: Reservas Presupuestales | E22: =+[2]INVERSIÓN!H29 -> 0 | F22: =+[2]INVERSIÓN!I29 -> 0 | G22: =+[2]INVERSIÓN!J29 -> 0 | H22: =+[2]INVERSIÓN!K29 -> 0 | I22: =+[2]INVERSIÓN!L29 -> 0 | J22: =+[2]INVERSIÓN!M29 -> 0 | K22: =+[2]INVERSIÓN!N29 -> 0 | L22: =+[2]INVERSIÓN!O29 -> 0 | ... AC22: =+[2]INVERSIÓN!AF29 -> 0
A23: 5 | B23: Aumentar al 90% el Direccionamiento Jurídico integral de la SDA | C23: Distrito Capital | D23: Magnitud Vigencia | E23: =+[2]INVERSIÓN!H32 -> 0.01 | F23: =+[2]INVERSIÓN!I32 -> 0.01 | G23: =+[2]INVERSIÓN!J32 -> 0.01 | H23: =+[2]INVERSIÓN!K32 -> 0.01 | I23: =+[2]INVERSIÓN!L32 -> 0.01 | J23: =+[2]INVERSIÓN!M32 -> 0.01 | K23: =+[2]INVERSIÓN!N32 -> 0.01 | L23: =+[2]INVERSIÓN!O32 -> 0 | ... AC23: =+[2]INVERSIÓN!AF32 -> 0 | AD23: Distrito Capital | AE23: Chapinero | AF23: Chapinero Central | AG23: Avenida Caracas N° 54 - 38 | AH23: Distrito Capital | AI23: Esta información no se puede territorializar toda vez que son acciones que se adelantan en la sede principal y son de carácter administrativo | AJ23: Relacionar la información asociada a la población (Numero de hombres) espacios relacionados al punto de inversión en que se ejecutó la meta. | AK23: Desde nuestra competencia no se hace distinción para los grupos Etareos | AL23: TODOS LOS GRUPOS | AM23: NO IDENTIFICA GRUPOS ETNICOS | AN23: 1053
D24: Recursos Vigencia | E24: =+[2]INVERSIÓN!H33 -> 456438958 | F24: =+[2]INVERSIÓN!I33 -> 456438958 | G24: =+[2]INVERSIÓN!J33 -> 456438958 | H24: =+[2]INVERSIÓN!K33 -> 456438958 | I24: =+[2]INVERSIÓN!L33 -> 456438958 | J24: =+[2]INVERSIÓN!M33 -> 456438958 | K24: =+[2]INVERSIÓN!N33 -> 456438958 | L24: =+[2]INVERSIÓN!O33 -> 0 | ... AC24: =+[2]INVERSIÓN!AF33 -> 0
D25: Magnitud Reservas | E25: =+[2]INVERSIÓN!H34 -> 0 | F25: =+[2]INVERSIÓN!I36 -> 0.01 | G25: =+[2]INVERSIÓN!J36 -> 0.01 | H25: =+[2]INVERSIÓN!K36 -> 0.01 | I25: =+[2]INVERSIÓN!L36 -> 0.01 | J25: =+[2]INVERSIÓN!M36 -> 0.01 | K25: =+[2]INVERSIÓN!N36 -> 0.01 | L25: =+[2]INVERSIÓN!O36 -> 0 | M25: =+[2]INVERSIÓN!P36 -> 0 | ... AC25: =+[2]INVERSIÓN!AF36 -> 0
D26: Reservas Presupuestales | E26: =+[2]INVERSIÓN!H35 -> 0 | F26: =+[2]INVERSIÓN!I35 -> 0 | G26: =+[2]INVERSIÓN!J35 -> 0 | H26: =+[2]INVERSIÓN!K35 -> 0 | I26: =+[2]INVERSIÓN!L35 -> 0 | J26: =+[2]INVERSIÓN!M35 -> 0 | K26: =+[2]INVERSIÓN!N35 -> 0 | L26: =+[2]INVERSIÓN!O35 -> 0 | ... AC26: =+[2]INVERSIÓN!AF35 -> 0
A27: 6 | B27: Mantener en el 82 % el éxito procesal en fallos favorables en representación de la SDA | C27: Distrito Capital | D27: Magnitud Vigencia | E27: =+[2]INVERSIÓN!H38 -> 0.82 | F27: =+[2]INVERSIÓN!I38 -> 0.82 | G27: =+[2]INVERSIÓN!J38 -> 0.82 | H27: =+[2]INVERSIÓN!K38 -> 0.82 | I27: =+[2]INVERSIÓN!L38 -> 0.82 | J27: =+[2]INVERSIÓN!M38 -> 0.82 | K27: =+[2]INVERSIÓN!N38 -> 0.82 | L27: =+[2]INVERSIÓN!O38 -> 0 | ... AC27: =+[2]INVERSIÓN!AF38 -> 0 | AD27: Distrito Capital | AE27: Chapinero | AF27: Chapinero Central | AG27: Avenida Caracas N° 54 - 38 | AH27: Distrito Capital | AI27: Esta información no se puede territorializar toda vez que son acciones que se adelantan en la sede principal y son de carácter administrativo | AJ27: Relacionar la información asociada a la población (Numero de hombres) espacios relacionados al punto de inversión en que se ejecutó la meta. | AK27: Desde nuestra competencia no se hace distinción para los grupos Etareos | AL27: TODOS LOS GRUPOS | AM27: NO IDENTIFICA GRUPOS ETNICOS | AN27: 1053
D28: Recursos Vigencia | E28: =+[2]INVERSIÓN!H39 -> 351561042 | F28: =+[2]INVERSIÓN!I39 -> 351561042 | G28: =+[2]INVERSIÓN!J39 -> 351561042 | H28: =+[2]INVERSIÓN!K39 -> 351561042 | I28: =+[2]INVERSIÓN!L39 -> 351561042 | J28: =+[2]INVERSIÓN!M39 -> 351561042 | K28: =+[2]INVERSIÓN!N39 -> 351561042 | L28: =+[2]INVERSIÓN!O39 -> 0 | ... AC28: =+[2]INVERSIÓN!AF39 -> 0
D29: Magnitud Reservas | E29: =+[2]INVERSIÓN!H40 -> 0 | F29: =+[2]INVERSIÓN!I40 -> 0 | G29: =+[2]INVERSIÓN!J40 -> 0 | H29: =+[2]INVERSIÓN!K40 -> 0 | I29: =+[2]INVERSIÓN!L40 -> 0 | J29: =+[2]INVERSIÓN!M40 -> 0 | K29: =+[2]INVERSIÓN!N40 -> 0 | L29: =+[2]INVERSIÓN!O40 -> 0 | ... AC29: =+[2]INVERSIÓN!AF40 -> 0
D30: Reservas Presupuestales | E30: =+[2]INVERSIÓN!H41 -> 0 | F30: =+[2]INVERSIÓN!I41 -> 0 | G30: =+[2]INVERSIÓN!J41 -> 0 | H30: =+[2]INVERSIÓN!K41 -> 0 | I30: =+[2]INVERSIÓN!L41 -> 0 | J30: =+[2]INVERSIÓN!M41 -> 0 | K30: =+[2]INVERSIÓN!N41 -> 0 | L30: =+[2]INVERSIÓN!O41 -> 0 | ... AC30: =+[2]INVERSIÓN!AF41 -> 0
A31: TOTALES - PROYECTO | D31: Total recursos vigencia | E31: =+E8+E12+E16+E20+E24+E28 -> 1682062738 | F31: =+F8+F12+F16+F20+F24+F28 -> 1188062738 | G31: =+G8+G12+G16+G20+G24+G28 -> 1188062738 | H31: =+H8+H12+H16+H20+H24+H28 -> 1188062738 | I31: =+I8+I12+I16+I20+I24+I28 -> 1188062738 | J31: =+J8+J12+J16+J20+J24+J28 -> 1188062738 | K31: =+K8+K12+K16+K20+K24+K28 -> 1188062738 | L31: =+L8+L12+L16+L20+L24+L28 -> 0 | ... AC31: =+AC8+AC12+AC16+AC20+AC24+AC28 -> 0
D32: Total recursos reservas | E32: =+E10+E14+E18+E30 -> 0 | F32: =+F10+F14+F18+F30 -> 0 | G32: =+G10+G14+G18+G30 -> 0 | H32: =+H10+H14+H18+H30 -> 0 | I32: =+I10+I14+I18+I30 -> 0 | J32: =+J10+J14+J18+J30 -> 0 | K32: =+K10+K14+K18+K30 -> 0 | L32: =+L10+L14+L18+L30 -> 0 | ... AC32: =+AC10+AC14+AC18+AC30 -> 0
D33: Total Recursos Proyecto | E33: =+E32+E31 -> 1682062738 | F33: =+F32+F31 -> 1188062738 | G33: =+G32+G31 -> 1188062738 | H33: =+H32+H31 -> 1188062738 | I33: =+I32+I31 -> 1188062738 | J33: =+J32+J31 -> 1188062738 | K33: =+K32+K31 -> 1188062738 | L33: =+L32+L31 -> 0 | ... AC33: =+AC32+AC31 -> 0
AK35: 126PG01-PR02-F-A5-V9.0
