Workbook
Name CONDICION_POBLACIONAL: [1]Variables!$C$1:$C$24
Name GRUPO_ETAREO: [1]Variables!$A$1:$A$8
Name GRUPO_ETAREOS: #REF!
Name GRUPO_ETARIO: #REF!
Name GRUPO_ETNICO: #REF!
Name GRUPOETNICO: #REF!
Name GRUPOS_ETNICOS: [1]Variables!$H$1:$H$8
Name LOCALIDAD: #REF!
Name LOCALIZACION: #REF!

Sheet GESTIÓN
G2: SECRETARÍA DISTRITAL DE AMBIENTE
G3: FORMATO DE ACTUALIZACIÓN Y SEGUIMIENTO AL COMPONENTE DE GESTIÓN
G4: DEPENDENCIA: | P4: DIRECCION DE PLANEACION Y SISTEMAS DE INFORMACION AMBIENTAL
G5: CÓDIGO Y NOMBRE PROYECTO: | P5: 1029 - PLANEACIÓN AMBIENTAL PARA UN MODELO DE DESARROLLO SOSTENIBLE EN EL DISTRITO Y LA REGIÓN
A7: Eje Plan de Desarrollo | P7: 6 - Sostenibilidad ambiental basada en eficiencia energética
A8: Programa Plan de Desarrollo | C8: Programa Plan de Desarrollo | P8: 40 - Gestión de la huella ambiental urbana
A10: 1, PROYECTO PRIORITARIO | C10: 2, META PLAN DE DESARROLLO | E10: 3, INDICADOR ASOCIADO A LA META PLAN DE DESARROLLO | AK10: 4, % CUMPLIMIENTO ACUMULADO (Vigencia) | AL10: 5, % DE AVANCE CUATRIENIO | AM10: 6, DESCRIPCIÓN DE LOS AVANCES Y LOGROS ALCANZADOS | AN10: 7, RETRASOS | AO10: 8, SOLUCIONES PLANTEADAS | AP10: 9, BENEFICIOS | AQ10: 10, FUENTE DE EVIDENCIAS | AR10: 6, DESCRIPCIÓN DE LOS AVANCES Y LOGROS ALCANZADOS - Junio | AS10: 7, RETRASOS | AT10: 8, SOLUCIONES PLANTEADAS | AU10: 9, BENEFICIOS | AV10: 10, FUENTE DE EVIDENCIAS
A11: 1,1 COD. | B11: 1,2 PROYECTO PRIORITARIO | C11: 2,1 COD. | D11: 2,2 META PLAN DE DESARROLLO | E11: 3,1 COD. | F11: 3,2 INDICADOR | G11: 3,3 UNIDAD DE MEDIDA | H11: 3,4 TIPOLOGÍA | I11: 3,5 MAGNITUD PD | J11: 3,6 PROGRAMACIÓN - ACTUALIZACIÓN | AG11: 3,7 SEGUIMIENTO VIGENCIA ACTUAL
J12: 2016 | M12: 2017 | R12: 2018 | W12: 2019 | AB12: 2020 | AG12: MAR | AH12: JUN | AI12: SEPT | AJ12: DIC
J13: SEPT | K13: DIC | L13: EJECUTADO | M13: MAR | N13: JUN | O13: SEPT | P13: DIC | Q13: EJECUTADO | R13: MAR | S13: JUN | T13: SEPT | U13: DIC | V13: EJECUTADO | W13: MAR | X13: JUN | Y13: SEPT | Z13: DIC | AA13: EJECUTADO | AB13: MAR | AC13: JUN | AD13: SEPT | AE13: DIC | AF13: EJECUTADO
A14: 181 | B14: Territorio sostenible | C14: 433 | D14: Priorizar y formular las determinantes ambientales | E14: 367 | F14: Número de instrumentos de Planeación Ambiental en los cuales se revisan, actualizan o incorporan determinantes ambientales | G14: Número de Instrumentos | H14: Suma | I14: 14 | J14: 1 | M14: 3 | R14: 4 | W14: 4 | AB14: 2
C15: 126PG01-PR 02-FA5-V.9

Sheet INVERSIÓN
F1: SECRETARÍA DISTRITAL DE AMBIENTE
F2: FORMATO DE ACTUALIZACIÓN Y SEGUIMIENTO AL COMPONENTE DE INVERSIÓN
F3: DEPENDENCIA: | O3: DIRECCION DE PLANEACION Y SISTEMAS DE INFORMACION AMBIENTAL
F4: CÓDIGO Y NOMBRE PROYECTO: | O4: 1029 - PLANEACIÓN AMBIENTAL PARA UN MODELO DE DESARROLLO SOSTENIBLE EN EL DISTRITO Y LA REGIÓN
A6: 1, LÍNEA DE ACCIÓN | B6: 2, META DE PROYECTO | E6: 3, COD. META PDD A QUE SE ASOCIA META PROY | F6: 4, COD. PROYECTO PRIORITARIO | G6: 5, VARIABLE REQUERIDA | H6: 6, MAGNITUD PD | I6: 7, PROGRAMACIÓN - ACTUALIZACIÓN | AF6: 8, EJECUCIÓN | AJ6: 9, % CUMPLIMIENTO ACUMULADO (Vigencia) | AK6: 10 ,% DE AVANCE CUATRIENIO | AL6: 11, DESCRIPCIÓN DE LOS AVANCES Y LOGROS ALCANZADOS | AM6: 12, RETRASOS | AN6: 13, SOLUCIONES PLANTEADAS | AO6: 14, BENEFICIOS | AP6: 15, FUENTE DE EVIDENCIAS
I7: 2016 | L7: 2017 | Q7: 2018 | V7: 2019 | AA7: 2020 | AF7: 8,1 SEGUIMIENTO VIGENCIA ACTUAL
B8: 2,1 COD. | C8: 2,2 META | D8: 2,3 TIPOLOGÍA | I8: SEPT | J8: DIC | K8: EJECUTADO | L8: MAR | M8: JUN | N8: SEPT | O8: DIC | P8: EJECUTADO | Q8: MAR | R8: JUN | S8: SEPT | T8: DIC | U8: EJECUTADO | V8: MAR | W8: JUN | X8: SEPT | Y8: DIC | Z8: EJECUTADO | AA8: MAR | AB8: JUN | AC8: SEPT | AD8: DIC | AE8: EJECUTADO | AF8: MAR | AG8: JUN | AH8: SEPT | AI8: DIC
A9: FORTALECER LA PARTICIPACIÓN EN INSTANCIAS DE COORDINACIÓN INSTITUCIONAL DISTRITAL, REGIONAL Y NACIONAL | B9: 1 | C9: Gestionar 4 actividades de coordinación para la gestión ambiental distrital. | D9: Suma | E9: 433 | F9: 181 | G9: MAGNITUD META | H9: 4 | I9: 0.5 | L9: 1 | Q9: 1 | V9: 1 | AA9: 0.5
G10: PRESUPUESTO VIGENCIA | H10: =+L10+Q10+V10+AA10+I10 -> 977433922 | I10: 187433922 | L10: 196000000 | Q10: 197000000 | V10: 198000000 | AA10: 199000000
G11: MAGNITUD META DE RESERVAS
G12: RESERVA PRESUPUESTAL
G13: TOTAL MAGNITUD META | H13: =+H9+H11 -> 4 | I13: =+I9+I11 -> 0.5 | L13: =+L9+L11 -> 1 | Q13: =+Q9+Q11 -> 1 | V13: =+V9+V11 -> 1 | AA13: =+AA9+AA11 -> 0.5
G14: TOTAL PRESUPUESTO | H14: =+L14+Q14+V14+AA14+I14 -> 977433922 | I14: =+I10+I12 -> 187433922 | L14: =+L10+L12 -> 196000000 | Q14: =+Q10+Q12 -> 197000000 | V14: =+V10+V12 -> 198000000 | AA14: =+AA10+AA12 -> 199000000
B15: 2 | C15: Presentar 6 iniciativas para la agenda regional desde las competencias de la Secretaría Distrital de Ambiente. | D15: Suma | G15: MAGNITUD META | H15: 6 | I15: 1 | L15: 1 | Q15: 2 | V15: 1 | AA15: 1
G16: PRESUPUESTO VIGENCIA | H16: =+L16+Q16+V16+AA16+I16 -> 684000000 | I16: 144000000 | L16: 133000000 | Q16: 134000000 | V16: 136000000 | AA16: 137000000
G17: MAGNITUD META DE RESERVAS
G18: RESERVA PRESUPUESTAL
G19: TOTAL MAGNITUD META | H19: =+H15+H17 -> 6 | I19: =+I15+I17 -> 1 | L19: =+L15+L17 -> 1 | Q19: =+Q15+Q17 -> 2 | V19: =+V15+V17 -> 1 | AA19: =+AA15+AA17 -> 1
G20: TOTAL PRESUPUESTO | H20: =+L20+Q20+V20+AA20+I20 -> 684000000 | I20: =+I16+I18 -> 144000000 | L20: =+L16+L18 -> 133000000 | Q20: =+Q16+Q18 -> 134000000 | V20: =+V16+V18 -> 136000000 | AA20: =+AA16+AA18 -> 137000000
A21: GESTIONAR LAS POLÍTICAS E INSTRUMENTOS DE PLANEACIÓN AMBIENTAL | B21: 3 | C21: Emitir 10 informes de seguimiento de las políticas e instrumentos económicos y de planeación ambiental priorizados, tendiente al desarrollo del nuevo modelo de ciudad sostenible. | D21: Suma | G21: MAGNITUD META | H21: 10 | I21: 2 | L21: 2 | Q21: 2 | V21: 2 | AA21: 2
G22: PRESUPUESTO VIGENCIA | H22: =+L22+Q22+V22+AA22+I22 -> 5979000000 | I22: 699000000 | L22: 1320000000 | Q22: 1320000000 | V22: 1320000000 | AA22: 1320000000
G23: MAGNITUD META DE RESERVAS
G24: RESERVA PRESUPUESTAL
G25: TOTAL MAGNITUD META | H25: 10 | I25: =+I21+I23 -> 2 | L25: =+L21+L23 -> 2 | Q25: =+Q21+Q23 -> 2 | V25: =+V21+V23 -> 2 | AA25: =+AA21+AA23 -> 2
G26: TOTAL PRESUPUESTO | H26: =+L26+Q26+V26+AA26+I26 -> 5979000000 | I26: =+I22+I24 -> 699000000 | L26: =+L22+L24 -> 1320000000 | Q26: =+Q22+Q24 -> 1320000000 | V26: =+V22+V24 -> 1320000000 | AA26: =+AA22+AA24 -> 1320000000
A27: MEJORAR LA CAPACIDAD INSTITUCIONAL PARA LA PLANEACIÓN AMBIENTAL | B27: 4 | C27: Realizar 10 actividades de gestión del conocimiento e investigación ambiental | D27: Suma | G27: MAGNITUD META | H27: 10 | I27: 1 | L27: 2 | Q27: 3 | V27: 3 | AA27: 1
G28: PRESUPUESTO VIGENCIA | H28: =+L28+Q28+V28+AA28+I28 -> 1375000000 | I28: 183000000 | L28: 296000000 | Q28: 297000000 | V28: 299000000 | AA28: 300000000
G29: MAGNITUD META DE RESERVAS
G30: RESERVA PRESUPUESTAL
G31: TOTAL MAGNITUD META | H31: =+H27+H29 -> 10 | I31: =+I27+I29 -> 1 | L31: =+L27+L29 -> 2 | Q31: =+Q27+Q29 -> 3 | V31: =+V27+V29 -> 3 | AA31: =+AA27+AA29 -> 1
G32: TOTAL PRESUPUESTO | H32: =+L32+Q32+V32+AA32+I32 -> 1375000000 | I32: =+I28+I30 -> 183000000 | L32: =+L28+L30 -> 296000000 | Q32: =+Q28+Q30 -> 297000000 | V32: =+V28+V30 -> 299000000 | AA32: =+AA28+AA30 -> 300000000
B33: 5 | C33: Emitir 14 reportes de seguimiento sobre el estado de avance, resultados, alertas y recomendaciones. | D33: Suma | G33: MAGNITUD META | H33: 14 | I33: 1 | L33: 4 | Q33: 4 | V33: 4 | AA33: 1
G34: PRESUPUESTO VIGENCIA | H34: =+L34+Q34+V34+AA34+I34 -> 1947000000 | I34: 259000000 | L34: 419000000 | Q34: 421000000 | V34: 423000000 | AA34: 425000000
G35: MAGNITUD META DE RESERVAS
G36: RESERVA PRESUPUESTAL
G37: TOTAL MAGNITUD META | H37: =+H33+H35 -> 14 | I37: =+I33+I35 -> 1 | L37: =+L33+L35 -> 4 | Q37: =+Q33+Q35 -> 4 | V37: =+V33+V35 -> 4 | AA37: =+AA33+AA35 -> 1
G38: TOTAL PRESUPUESTO | H38: =+L38+Q38+V38+AA38+I38 -> 1947000000 | I38: =+I34+I36 -> 259000000 | L38: =+L34+L36 -> 419000000 | Q38: =+Q34+Q36 -> 421000000 | V38: =+V34+V36 -> 423000000 | AA38: =+AA34+AA36 -> 425000000
B39: 6 | C39: Adelantar 24 actividades de cooperación internacional orientadas al fortalecimiento de las líneas de acción prioritarias de los proyectos estratégicos de la entidad | D39: Suma | G39: MAGNITUD META | H39: 24 | I39: 3 | L39: 6 | Q39: 6 | V39: 6 | AA39: 3
G40: PRESUPUESTO VIGENCIA | H40: =+L40+Q40+V40+AA40+I40 -> 1342999895 | I40: 170999895 | L40: 291000000 | Q40: 292000000 | V40: 294000000 | AA40: 295000000
G41: MAGNITUD META DE RESERVAS
...

Sheet ACTIVIDADES
C1: SECRETARÍA DISTRITAL DE AMBIENTE
C2: FORMATO DE ACTUALIZACIÓN Y SEGUIMIENTO A LAS ACTIVIDADES
C3: DEPENDENCIA: | D3: DIRECCION DE PLANEACION Y SISTEMAS DE INFORMACION AMBIENTAL
C4: CÓDIGO Y NOMBRE DE PROYECTO: | D4: 1029 - PLANEACIÓN AMBIENTAL PARA UN MODELO DE DESARROLLO SOSTENIBLE EN EL DISTRITO Y LA REGIÓN
A6: 1, LÍNEA DE ACCIÓN | B6: 2, META DE PROYECTO | C6: 3, ACTIVIDAD | D6: 4, SE EJECUTA CON RECURSOS DE: | F6: 5, PONDERACIÓN HORIZONTAL AÑO: 2016 | T6: 6,PONDERACIÓN VERTICAL | V6: 7, OBSERVACIONES AVANCE TRIMESTRE 1 DE 2014
D7: 4,1 VIGENCIA | E7: 4,2 RESERVA | F7: VARIABLES | G7: Ene | H7: Feb | I7: Mar | J7: Abr | K7: May | L7: Jun | M7: Jul | N7: Ago | O7: Sep | P7: Oct | Q7: Nov | R7: Dic | S7: Total | T7: 6,1 META | U7: 6,2 ACTIVIDAD
A8: FORTALECER LA PARTICIPACIÓN EN INSTANCIAS DE COORDINACIÓN INSTITUCIONAL DISTRITAL, REGIONAL Y NACIONAL | B8: =+INVERSIÓN!C9 -> Gestionar 4 actividades de coordinación para la gestión ambiental distrital. | C8: ESTABLECER EL ESTADO DE LAS INSTANCIAS AMBIENTALES DE COORDINACIÓN INTERINSTITUCIONAL DEL D.C., FUNCIONAMIENTO DE LA COMISIÓN INTERSECTORIAL CISPAER Y SEGUIMIENTO A LA PARTICIPACIÓN DE LA ENTIDAD EN OTRAS INSTANCIAS DEL D.C. | D8: X | F8: Programado | M8: 0.16 | N8: 0.17 | O8: 0.17 | P8: 0.17 | Q8: 0.17 | R8: 0.16 | S8: =SUM(M8:R8) -> 1 | T8: 0.12 | U8: 0.12 | V8: En desarrollo del Plan Integral Regional de Cambio Climático – PRICC, durante el primer trimestre de 2013 se adelantó la revisión de los productos finales (un documento con los criterios de selección para identificar opciones de adaptación y mitigación, por consenso con actores y grupos de interés y un documento de identificación de medidas y formulación de proyectos de mitigación y adaptación a la variabilidad y al cambio climático en la Región Capital Bogotá-Cundinamarca) del convenio 0944 de 2013 para proceder a la liquidación del mismo. Se está adelantando la constitución nuevo convenio con el Programa de Naciones Unidas por el Desarrollo que tiene por objeto “desarrollar y articular técnicamente las medidas de mitigación y adaptación al cambio climático contenidas en el portafolio del PRICC y que sean de competencia distrital, con los instrumentos definidos en el Artículo 137 del Decreto 364 de 2013 para la reducción de riesgos y la implementación de medidas de adaptación y mitigación al cambio climático.”
F9: Ejecutado
B10: =+INVERSIÓN!C15 -> Presentar 6 iniciativas para la agenda regional desde las competencias de la Secretaría Distrital de Ambiente. | C10: IDENTIFICACIÓN Y PROPUESTA DE INCIATIVAS AMBIENTALES DE ESCALA REGIONAL, CON ENTIDADES NACIONALES, REGIONALES Y DISTRITALES | D10: X | F10: Programado | M10: 0.15 | N10: 0.2 | O10: 0.2 | P10: 0.2 | Q10: 0.2 | R10: 0.05 | S10: =SUM(M10:R10) -> 1 | T10: =+U10 -> 0.1 | U10: 0.1 | V10: Se esta ajustando el Documento Técnico de Soporte del Plan Distrital de Adaptación y Mitigación a la Variabilidad y al Cambio Climático, tomando como base la versión de diciembre 2013, de acuerdo a los lineamientos establecidos en la reunión del 29 de enero de 2014, convocada por la Dirección de Planeación y Sistemas de Información Ambiental -DPSIA, así como a los aportes de información relacionada con temas abordados desde el Observatorio Ambiental de Bogotá, afines al tema de Cambio Climático, el Plan Regional Integral de Cambio Climático -PRICC y aspectos pertinentes a la Estructura Ecológica Principal establecidos en el Decreto 364 de 2013 por el cual se modifican excepcionalmente las normas urbanísticas del Plan de Ordenamiento Territorial de Bogotá, D.C.; así mismo, el tema de la matriz energética para Bogotá, en lo atinente a lineamientos para la sostenibilidad del tema, asociado a la adaptación de la capital. Así mismo está en proceso de ajuste el documento del Plan Distrital de Adaptación y Mitigación a la Variabilidad y el Cambio Climático - PDAMVCC y en definición por parte de la DPSIA, de la estrategia de socialización del PDAMVCC.
F11: Ejecutado
A12: GESTIONAR LAS POLÍTICAS E INSTRUMENTOS DE PLANEACIÓN AMBIENTAL | B12: =+INVERSIÓN!C21 -> Emitir 10 informes de seguimiento de las políticas e instrumentos económicos y de planeación ambiental priorizados, tendiente al desarrollo del nuevo modelo de ciudad sostenible. | C12: REVISIÓN DEL ESTADO ACTUAL DE LAS POLÍTICAS E INSTRUMENTOS DE PLANEACIÓN AMBIENTAL PRIORIZADOS, TENDIENTE AL DESARROLLO DEL NUEVO MODELO DE CIUDAD SOSTENIBLE. | D12: X | F12: Programado | M12: 0.1 | N12: 0.15 | O12: 0.2 | P12: 0.2 | Q12: 0.2 | R12: 0.15 | S12: =SUM(M12:R12) -> 1 | T12: =+U12+U14 -> 0.4 | U12: 0.3 | V12: Política Pública Distrital de Protección y Bienestar Animal – PPDPBA: Se presentaron en enero los avances del proceso de formulación de la Política, así mismo se recibió de la Dirección Legal Ambiental el concepto de las normas relacionadas con la Protección y Bienestar animal, y el análisis jurídico respecto al tema. En este periodo simultáneamente se retroalimentó el documento y los aportes generados por cada la área de la SDA, se organizaron entre la Subdirección de Silvicultura Flora y Fauna Silvestre- SSFFS, y la Subdirección de Políticas y Planes Ambientales – SPPA obteniendo la tercera versión del Documento Técnico de Soporte – DTS. Política de Ecourbanismo y Construcción Sostenible: se realizó una presentación al equipo técnico de la SDP y del SEGAE de la Secretaria Distrital de Ambiente para orientar la construcción del plan de acción de la política, se desarrolló un ejercicio con los técnicos involucrados (SDP y SEGAE-SDA) y se construyó la primera matriz de encadenamiento de la estructura programática de la política. Planes Ambientales Locales: En este trimestre se dio continuidad al acompañamiento y asesoría a los procesos locales de planeación ambiental, específicamente al seguimiento a los Planes Ambientales Locales PAL. En este orden, se realizaron reuniones de coordinación con los gestores ambientales (SDA) y con los referentes ambientales (alcaldías locales), tanto en la Secretaría Distrital de Ambiente como en las Alcaldías Locales. A su vez, se asistió y participó en otros espacios locales de participación y coordinación interinstitucional, como las Comisiones Ambientales Locales CAL, y otras instancias como los Gobiernos Zonales. Específicamente en cuanto a los PAL, se hizo una revisión técnica de sus contenidos (acciones e inversión), con lo cual se inició el cargue de dicha información a la herramienta STORM-User, incluyendo también la articulación con lo dispuesto en el Plan de Desarrollo Distrital (proyectos prioritarios) y el Plan de Gestión Ambiental PGA (objetivos y estrategias). Sistema Distrital de Gestión de Riesgos y Cambio Climático: Se apoyó la elaboración de la matriz de análisis para a la propuesta de reglamentación del Sistema Distrital de Gestión de Riesgos y Cambio Climático. Esta matriz propone la organización de las instancias del sistema alrededor de:un Consejo Distrital de Gestión de Riesgo y Cambio Climático, una Comisión Intersectorial para la coordinación y ejecución de los procesos de riesgo y cambio climático, en su correspondiente distribución por Mesas de Trabajo, un Consejo Consultivo de Gestión de Riesgos y Cambio Climático y Consejos Locales de Gestión de Riegos y Cambio Climático.
F13: Ejecutado
C14: SEGUIMIENTO Y ESTADO DE AVANCE DE LOS INSTRUMENTOS ECONÓMICOS PRIORIZADOS PARA EL DESARROLLO DEL NUEVO MODELO DE CIUDAD SOSTENIBLE. | D14: X | F14: Programado | M14: 0.1 | N14: 0.15 | O14: 0.2 | P14: 0.2 | Q14: 0.2 | R14: 0.15 | S14: =SUM(M14:R14) -> 1 | U14: 0.1 | V14: Se orientó y acompañó a las entidades participantes en el instrumento PACA, en el Seguimiento a la pre adopción del PACA Bogotá Humana, para lo cual se desarrollaron veinte ocho (28) reuniones personalizadas con estas entidades. A la fecha se cuenta con el 80% de los reportes de Seguimiento a la pre adopción del PACA Bogotá Humana de las entidades participantes, sin embargo, de acuerdo a lo establecido en el parágrafo 2, del artículo 1, del Decreto 597 del 2013 y a los lineamientos definidos por la Subdirección de Políticas y Planes Ambientales de la SDA, los informes están en revisión y ajuste de acuerdo a las necesidades de las entidades. Se ha garantizado el buen funcionamiento de la herramienta Storm, mediante el seguimiento a las incidencias (requerimientos) y los ajustes a la misma, para lo cual se han desarrollado tres (3) reuniones. Se consolidó la evaluación del análisis a la implementación y mejora del instrumento Plan de Acción Cuatrienal Ambiental – PACA, diligenciada por el 85% de las entidades participantes en el mismo y se ajustaron las propuestas que permitan mejorar articuladamente la operatividad del instrumento. Se gestionó la Publicación en la página web de la Secretaría Distrital de Ambiente, del Documento contentivo del PACA Bogotá Humana y el Decreto 597 de 2013 que lo adopta. Se construyó y público un comunicado de prensa del PACA Bogotá Humana adoptado mediante Decreto 597 del 26 de Diciembre del 2013. Se culminó el ajuste del Instructivo Herramienta Storm User – PACA, con el fin de ser actualizados en el Procedimiento Orientación para la Formulación de Instrumentos de Planeación 126PM02-PR12 y en la página Web de la SDA. En el marco de Mesa de Instrumentos de Planeación Ambiental del PACA Distrital llevada a cabo el pasado 17 de Marzo de 2014, se definieron acciones a desarrollar para fortalecer el PACA como instrumento que permita evidenciar resultados de impacto, se socializaron los lineamientos de los ajustes requeridos al PACA, que permitan el cumplimento de los compromisos ambientales establecidos en el Plan de Desarrollo y se coordinó el reporte de indicadores del PACA Distrital del Observatorio Ambiental de Bogotá – OAB. Se dio inicio a la coordinación de los indicadores de las mestas del PACA Distrital Bogotá Humana para el reporte en el Observatorio Ambiental de Bogotá – OAB,
F15: Ejecutado
A16: MEJORAR LA CAPACIDAD INSTITUCIONAL PARA LA PLANEACIÓN AMBIENTAL | B16: =+INVERSIÓN!C27 -> Realizar 10 actividades de gestión del conocimiento e investigación ambiental | C16: REALIZAR LABORES DE ADMINISTRACIÓN, GESTIÓN Y ACTUALIZACIÓN DEL OBSERVATORIO AMBIENTAL DE BOGOTÁ -OAB- Y DEL OBSERVATORIO REGIONAL AMBIENTAL Y DE DESARROLLO SOSTENIBLE DEL RÍO BOGOTÁ -ORARBO | D16: X | F16: Programado | M16: 0.15 | N16: 0.15 | O16: 0.2 | P16: 0.2 | Q16: 0.15 | R16: 0.15 | S16: =SUM(M16:R16) -> 1 | T16: =+U16+U18 -> 0.15 | U16: 0.1 | V16: 1. Se orientó y dio respuesta a las entidades distritales, en relación con la formulación, implementación, seguimiento y verificación del cumplimiento del PIGA, con los siguientes resultados: - (39) Reuniones de asesoría PIGA a entidades - Se realizó una socialización de la Resolución 242 de 2014 sobre nuevos lineamientos PIGA, con todas las entidades tanto distritales como voluntarias que se acogen al mismo - En reunión realizada en conjunto con la SCASP y la DGA, se discutió el Plan de Capacitaciones para 2014 2. Se hizo revisión de la información correspondiente al tercer y cuarto trimestre de 2013 así: Se revisó la información correspondiente al tercer trimestre de 2013 con fecha de corte 2013/09/30 de 37 entidades; y a 17 entidades con fecha de corte 2013/12/31; revisión a 25 entidades (33 revisiones) de la formulación plan de acción 2014 con fecha de corte 2013/12/31 y 7 revisiones al informe de huella de carbono con fecha de corte 2013/12/31. 3. Indicadores de ecoeficiencia: Se solicitó mediante el ticket N° 028224 apoyo SIG de la SPPA con el fin de elaborar la georeferenciación de las sedes PIGA y como respuesta se generaron las capas para los años 2011 y 2012 que deben cargar en formato KML al Observatorio Ambiental de Bogotá. Se consolidó la información correspondiente a consumos totales de agua y energía para el año 2013 de cada una de las entidades públicas del distrito como apoyo a la definición de indicadores. Se desarrolló una reunión con el fin de analizar los posibles ajustes a los indicadores de ecoeficiencia contemplando alguna cantidad de visitantes y plantear la creación de un nuevo indicador para compras verdes. Se dio respuesta a la solicitud de "Bogotá cómo vamos" presentando el consolidado de generación de residuos sólidos aprovechables para las entidades públicas del distrito. Se ajustó, analizó y publicó la información de consumo per cápita de las entidades distritales para agua, energía y residuos. 4. Otras actividades: Se elaboró un boletín informativo sobre movilidad sostenible, como apoyo para las entidades en el marco del nuevo programa de "Implementación de Prácticas Sostenibles". Se realizaron dos reuniones para ajustar la tabla de contenido del programa distrital de compras verdes y elaborar un cronograma guía para adelantar este proceso al interior de la SDA. Se ajustó el formato de lista de chequeo para revisión de documentos PIGA de acuerdo a los nuevos lineamientos establecidos en la Resolución 242 de 2014. El Grupo PIGA participó en una reunión con el Banco Mundial, el IDRD y otras dependencias de la SDA, para el tema de eficiencia energética del Proyecto TRACE (ANEXO 4.6) Se realizó una reunión con integrantes de la SCASP y la DGA, para definir el tema de la cobertura PIGA para el IDRD.
F17: Ejecutado
C18: REALIZAR SEGUIMIENTO E IDENTIFICACIÓN DE ACCIONES DE INVESTIGACIÓN AMBIENTAL | D18: X | F18: Programado | M18: 0.15 | N18: 0.15 | O18: 0.2 | P18: 0.2 | Q18: 0.15 | R18: 0.15 | S18: =SUM(M18:R18) -> 1 | U18: 0.05
F19: Ejecutado
B20: =+INVERSIÓN!C33 -> Emitir 14 reportes de seguimiento sobre el estado de avance, resultados, alertas y recomendaciones. | C20: HACER EL SEGUIMIENTO, LA REPROGRAMACIÓN y ACTUALIZACIÓN DE LOS PROYECTOS DE INVERSION DE LA SDA EN LOS DIFERENTES COMPONENTES DEL PLAN DE ACCIÓN.. | D20: X | F20: Programado | M20: 0.3 | N20: 0.1 | O20: 0.1 | P20: 0.3 | Q20: 0.1 | R20: 0.1 | S20: =SUM(M20:R20) -> 1 | T20: =+U20+U22+U24+U26 -> 0.16 | U20: 0.08 | V20: En cuanto a los avances en la Formulación del Plan Estratégico para la Gestión de las Áreas Protegidas y La Estructura Ecológica Principal, se iniciaron reuniones de coordinación entre la Secretaría Distrital de Ambiente – SDA y la Secretaría Distrital de Planeación- SDP con el fin de establecer la metodología y el cronograma para elaborar el plan. Se elaboraron las memorias del TALLER “HACIA UN PLAN ESTRATÉGICO PARA LA GESTIÓN DE LAS ÁREAS PROTEGIDAS Y LA EEP DE BOGOTÁ” organizado por la Secretaria Distrital de Ambiente, la Secretaría Distrital de Planeación y La Fundación Friedrich Ebert Stiftung - FESCOL, con el fin de obtener insumos para la Formulación del Plan estratégico para la Gestión del Sistema Distrital de Áreas Protegidas y de la Estructura Ecológica Principal Bogotá. El 6 de marzo se llevó a cabo una reunión interna en la Subdirección de Políticas de la SDA en la cual se elaboró una propuesta de metodología y cronograma para este proceso. El 18 de marzo se realizó reunión con la SDP con el fin de revisar los anteriores documentos y definir las acciones a seguir. El 31 de marzo se realizo reunión preparatoria del taller “Marco de referencia para la elaboración del plan” para lo cual se definió la presentación de contextualización y la metodología para este taller. El 21 de enero de 2014 se firmó el acta de inicio del contrato 1505 de 2013 suscrito con la firma AITEC S.A.S, cuyo objeto es la Formulación Participativa del Plan de Manejo Ambiental del Parque Ecológico Distrital Montaña Cerro de Torca. En el marco de dicho contrato, se realizó visita de reconocimiento al área y presentación del proyecto a los propietarios de los predios ubicados en la misma. Se recibieron los siguientes documentos: Estrategia de participación, identificación de actores estratégicos, plan de acción y cronograma, de los cuales se encuentra en ajustes el documento de identificación de actores estratégicos, los demás productos fueron aprobados por la supervisión del contrato. El 3 de enero de 2014 se firmó el acta de inicio del contrato 1383 de 2013 suscrito con el consorcio Eco-Asodesam, cuyo objeto es "Adelantar el estudio técnico de soporte para la recategorización de las áreas protegidas del orden distrital ubicadas en las cuencas del río Sumapaz y del río Blanco en la localidad de Sumapaz". En el marco de dicho contrato se realizó la presentación del proyecto ante la Junta Administradora Local – JAL de Sumapaz; se realizó el reconocimiento de las áreas protegidas objeto del contrato, y se recibieron los siguientes productos: Plan de Acción, Cronograma, Estrategia de participación, identificación de actores y contexto regional, los cuales se encuentran en revisión y ajustes.
F21: Ejecutado
C22: REALIZAR EL ACOMPAÑAMIENTO A LA PROGRAMACIÓN, Y ACTUALIZACIÓN DEL PLAN ANUAL DE ADQUISISCIONES DE LOS PROYECTOS DE INVERSIÓN. | D22: X | F22: Programado | M22: 0.3 | N22: 0.14 | O22: 0.14 | P22: 0.14 | Q22: 0.14 | R22: 0.14 | S22: =SUM(M22:R22) -> 1 | U22: 0.03
F23: Ejecutado
C24: REALIZAR LA REVISION Y VIABILIZACIÓN DE LOS ESTUDIOS PREVIOS DE LOS PROYECTOS DE INVERSION | D24: X | F24: Programado | M24: 0.3 | N24: 0.1 | O24: 0.1 | P24: 0.1 | Q24: 0.1 | R24: 0.3 | S24: =R24+Q24+P24+O24+N24+M24 -> 1 | U24: 0.02
F25: Ejecutado
C26: ELABORAR INFORMES INTEGRALES DE SEGUIMIENTO A LOS PROYECTOS DE INVERSIÓN. | D26: X | F26: Programado | M26: 0 | N26: 0 | O26: 0 | P26: 1 | Q26: 0 | R26: 0 | S26: =SUM(M26:R26) -> 1 | U26: 0.03
F27: Ejecutado
B28: =+INVERSIÓN!C39 -> Adelantar 24 actividades de cooperación internacional orientadas al fortalecimiento de las líneas de acción prioritarias de los proyectos estratégicos de la entidad | C28: REALIZAR LA IDENTIFICACION Y DAR INICIO A LA GESTION DE LOS DIFERENTES PROCESOS DE COOPERACIÓN INTERNACIONAL Y ALIANZAS, ORIENTADAS AL FORTALECIMIENTO MISIONAL Y ESTRATEGICO DE LA ENTIDAD. | D28: X | F28: Programado | M28: 0.1 | N28: 0.1 | O28: 0.2 | P28: 0.2 | Q28: 0.2 | R28: 0.2 | S28: =R28+P28+N28+Q28+O28+M28 -> 1 | T28: =+U28 -> 0.07 | U28: 0.07 | V28: El marco del desarrollo del Modelo de Gestión Intersectorial en Salud Ambiental-MGISA, durante el primer trimestre del 2014 se desarrollaron las siguientes actividades: Se adelantó la gestión requerida para el proceso de seguimiento a Política Distrital de Salud Ambiental-PDSA, con corte a diciembre de 2013. Se realizó una reunión conjunta con los referentes de la SDA y la SDS delegados para el proceso de formulación del Modelo de Gestión Intersectorial en Salud Ambiental-MGISA, en el cual se definieron las actividades a realizar en el 2014 para la culminación del proceso de formulación El 28 de enero se coordinó la sesión de la Mesa Distrital de Salud Ambiental de la Comisión Intersectorial para la Sostenibilidad, la Protección Ambiental, el Ecourbanismo y la Ruralidad-CISPAER, en la cual se presentó el desarrollo de la Red de la PDSA, como base del desarrollo del Modelo de Gestión. El 29 de enero se coordinó la realización de la Mesa Distrital de Salud Ambiental del Consejo Consultivo de Ambiente, que es uno de los componentes del Modelo. Esta sesión se llevó a cabo en la Localidad de Barrios Unidos, por solicitud de los participantes de la Mesa, quienes quieren que este espacio se descentralice. En esta reunión se desarrolló un taller para la definición del Reglamento de la Mesa y la agenda que se llevará a cabo durante el 2014. Debido a que una sola sesión no fue suficiente para abordar estos temas, se realizó una segunda reunión con este mismo tema el 18 de febrero . El 26 de febrero se realizó una reunión con delegados de la SDS y la OPEL, para la definición del proceso que se seguirá para la articulación de los dos sectores (Ambiente y salud) en las localidades en el marco del MGISA, en el componente de participación. El 18 de marzo se coordinó la realización de una reunión con los referentes de de Gestión de Salud Ambiental - GESA de la Secretaría de Salud y los Gestores Locales de la Secretaría de Ambiente para coordinar la articulación del MGISA en las localidades del D.C.. Durante la reunión también se revisaron los avances en el desarrollo del MGISA y desde cada localidad el grupo de trabajo de SDA y SDS, presentó los avances del Plan de Acción Local de Salud Ambiental del 2014. El 26 de marzo se realizó una presentación de los avances de la formulación del MGISA a la Asesora del despacho de la SDS y se realizaron ajustes al mismo. Se avanzó en la elaboración del documento del marco conceptual del MGISA. El 26 de marzo se realizó una reunión para realizar la revisión de las observaciones realizadas por la Universidad Nacional, en el marco del Convenio Interadministrativo No. 016 de 2012, suscrito con la SDA, a los indicadores de salud ambiental que se encuentran en el Observatorio Ambiental de Bogotá. Este proceso aporta al MGISA, toda vez que el Observatorio de Salud Ambiental es la herramienta base del sistema de información de salud ambiental que se está planteando en el MGISA.
F29: Ejecutado
A30: TOTAL PONDERACIÓN | T30: =SUM(T8:T29) -> 1 | U30: =SUM(U8:U29) -> 1

Sheet TERRITORIALIZACION
F1: SECRETARÍA DISTRITAL DE AMBIENTE
F2: FORMATO DE ACTUALIZACIÓN Y SEGUIMIENTO A LA TERRITORIALIZACIÓN DE LA INVERSIÓN
F3: PROYECTO: | G3: 1029 - PLANEACIÓN AMBIENTAL PARA UN MODELO DE DESARROLLO SOSTENIBLE EN EL DISTRITO Y LA REGIÓN
F4: PERIODO: | G4: 2016
A5: 1, COD. META | B5: 2, Meta Proyecto | C5: 3, Nombre -Punto de inversión (Localidad, Especial, Distrital) | D5: 4, Variable | E5: 5, Programación-Actualización | F5: 6, ACTUALIZACIÓN | J5: 7, SEGUIMIENTO META | N5: 8, LOCALIZACIÓN GEOGRÁFICA | R5: 9, POBLACIÓN
A6: ID Meta | F6: 6,1 Actualización Septiembre | G6: 6,2 Actualización Junio | H6: 6,3 Actualización Septiembre | I6: 6,4 Actualización Diciembre | J6: 7,1 Seguimiento Marzo | K6: 7,2 Seguimiento Junio | L6: 7,3 Seguimiento Septiembre | M6: 7,4 Seguimiento Diciembre | N6: 8,2 UPZ | O6: 8,3 BARRIO | P6: 8,4 PUNTO, LÍNEA O POLÍGONO | Q6: 8,5 ÁREA DE INFLUENCIA | R6: 9,1 NUMERO DE HOMBRES | S6: 9,2 NUMERO DE MUJERES | T6: 9,3 GRUPO ETARIO | U6: 9,4 CONDICION POBLACIONAL | V6: 9,6 TOTAL POBLACIÓN PERSONAS/CANTIDAD
A7: 1 | B7: GESTIONAR 4 ACTIVIDADES DE COORDINACIÓN PARA LA GESTIÓN AMBIENTAL DISTRITAL | C7: Distrital | D7: Magnitud | E7: =+INVERSIÓN!H9 -> 4 | F7: =+INVERSIÓN!I9 -> 0.5 | J7: 0 | N7: N/A | O7: N/A | P7: N/A | Q7: DISTRITO CAPITAL | R7: 3861626 | S7: 4118375 | T7: NO IDENTIFICA GRU´POS ETNICOS | U7: TODOS LOS GRUPOS | V7: 7980001
D8: Recursos | E8: =+INVERSIÓN!H10 -> 977433922 | F8: =+INVERSIÓN!I10 -> 187433922 | J8: 0
D9: Magnitud Reservas | E9: =+INVERSIÓN!H11 -> 0 | F9: =+INVERSIÓN!V11 -> 0
D10: Reservas Presupuestales | E10: =+INVERSIÓN!H12 -> 0 | F10: =+INVERSIÓN!V12 -> 0 | J10: 0
A11: 2 | B11: PRESENTAR 6 INICIATIVAS PARA LA AGENDA REGIONAL DESDE LAS COMPETENCIAS DE LA SECRETARÍA DISTRITAL DE AMBIENTE | C11: Especial | D11: Magnitud | E11: =+INVERSIÓN!H15 -> 6 | F11: =+INVERSIÓN!I15 -> 1 | J11: 0 | N11: N/A | O11: N/A | P11: N/A | Q11: DISTRITO CAPITAL | R11: 3861626 | S11: 4118375 | T11: NO IDENTIFICA GRU´POS ETNICOS | U11: TODOS LOS GRUPOS | V11: 7980001
D12: Recursos | E12: =+INVERSIÓN!H16 -> 684000000 | F12: =+INVERSIÓN!I16 -> 144000000 | J12: 0
D13: Magnitud Reservas | E13: =+INVERSIÓN!H17 -> 0 | F13: =+INVERSIÓN!V17 -> 0
D14: Reservas Presupuestales | E14: =+INVERSIÓN!H18 -> 0 | F14: =+INVERSIÓN!V18 -> 0 | J14: 0
A15: 3 | B15: EMITIR 10 INFORMES DE SEGUIMIENTO A LAS POLÍTICAS E INSTRUMENTOS ECONÓMICOS Y DE PLANEACIÓN AMBIENTAL PRIORIZADOS TENDIENTE AL DESARROLLO DEL NUEVO MODELO DE CIUDAD SOSTENIBLE | C15: Distrital | D15: Magnitud | E15: =+INVERSIÓN!H21 -> 10 | F15: =+INVERSIÓN!I21 -> 2 | J15: 0 | N15: N/A | O15: N/A | P15: N/A | Q15: DISTRITO CAPITAL | R15: 3861626 | S15: 4118375 | T15: NO IDENTIFICA GRU´POS ETNICOS | U15: TODOS LOS GRUPOS | V15: 7980001
D16: Recursos | E16: =+INVERSIÓN!H22 -> 5979000000 | F16: =+INVERSIÓN!I22 -> 699000000 | J16: 0
D17: Magnitud Reservas | E17: =+INVERSIÓN!H23 -> 0 | F17: =+INVERSIÓN!V23 -> 0
D18: Reservas Presupuestales | E18: =+INVERSIÓN!H24 -> 0 | F18: =+INVERSIÓN!V24 -> 0 | J18: 0
A19: 4 | B19: REALIZAR 10 ACTIVIDADES DE GESTIÓN DEL CONOCIMIENTO E INVESTIGACIÓN AMBIENTAL | C19: Distrital | D19: Magnitud | E19: =+INVERSIÓN!H27 -> 10 | F19: =+INVERSIÓN!I27 -> 1 | J19: 0 | N19: N/A | O19: N/A | P19: N/A | Q19: DISTRITO CAPITAL | R19: 3861626 | S19: 4118375 | T19: NO IDENTIFICA GRU´POS ETNICOS | U19: TODOS LOS GRUPOS | V19: 7980001
D20: Recursos | E20: =+INVERSIÓN!H28 -> 1375000000 | F20: =+INVERSIÓN!I28 -> 183000000 | J20: 0
D21: Magnitud Reservas | E21: =+INVERSIÓN!H29 -> 0 | F21: =+INVERSIÓN!V29 -> 0
D22: Reservas Presupuestales | E22: =+INVERSIÓN!H30 -> 0 | F22: =+INVERSIÓN!V30 -> 0 | J22: 0
A23: 5 | B23: EMITIR 14 REPORTES DE SEGUIMIENTO SOBRE EL ESTADO DE AVANCE, RESULTADOS, ALERTAS Y RECOMENDACIONES. | C23: Distrital | D23: Magnitud | E23: =+INVERSIÓN!H33 -> 14 | F23: =+INVERSIÓN!I33 -> 1 | J23: 0 | N23: N/A | O23: N/A | P23: N/A | Q23: DISTRITO CAPITAL | R23: 3861626 | S23: 4118375 | T23: NO IDENTIFICA GRU´POS ETNICOS | U23: TODOS LOS GRUPOS | V23: 7980001
D24: Recursos | E24: =+INVERSIÓN!H34 -> 1947000000 | F24: =+INVERSIÓN!I34 -> 259000000 | J24: 0
D25: Magnitud Reservas | E25: =+INVERSIÓN!H35 -> 0 | F25: =+INVERSIÓN!V35 -> 0
D26: Reservas Presupuestales | E26: =+INVERSIÓN!H36 -> 0 | F26: =+INVERSIÓN!V36 -> 0 | J26: 0
A27: 6 | B27: ADELANTAR 24 ACTIVIDADES DE COOPERACIÓN INTERNACIONAL ORIENTADAS AL FORTALECIMIENTO DE LAS LÍNEAS DE ACCIÓN PRIORITARIAS DE LOS PROYECTOS ESTRATÉGICOS DE LA ENTIDAD | C27: Distrital | D27: Magnitud | E27: =+INVERSIÓN!H39 -> 24 | F27: =+INVERSIÓN!I39 -> 3 | J27: 0 | N27: N/A | O27: N/A | P27: N/A | Q27: DISTRITO CAPITAL | R27: 3861626 | S27: 4118375 | T27: NO IDENTIFICA GRU´POS ETNICOS | U27: TODOS LOS GRUPOS | V27: 7980001
D28: Recursos | E28: =+INVERSIÓN!H40 -> 1342999895 | F28: =+INVERSIÓN!I40 -> 170999895 | J28: 0
D29: Magnitud Reservas | E29: =+INVERSIÓN!H41 -> 0 | F29: =+INVERSIÓN!V41 -> 0
D30: Reservas Presupuestales | E30: =+INVERSIÓN!H42 -> 0 | F30: =+INVERSIÓN!V42 -> 0 | J30: 0
A31: TOTALES - PROYECTO | D31: Total Recursos Vigencia - Proyecto | E31: =+E28+E24+E20+E16+E12+E8 -> 12305433817 | F31: =+F28+F24+F20+F16+F12+F8 -> 1643433817 | J31: 0 | K31: 0
D32: Total Recursos Reservas - Proyecto | E32: =+E30+E26+E22+E18+E14+E10 -> 0 | F32: =+F30+F26+F22+F18+F14+F10 -> 0 | J32: 0 | K32: 0
T34: 126PG01-PR 02-FA8-V.9
