Workbook
Name CONDICION_POBLACIONAL: [1]Variables!$C$1:$C$24
Name GRUPO_ETAREO: [1]Variables!$A$1:$A$8
Name GRUPO_ETAREOS: #REF!
Name GRUPO_ETAREOS: #REF!
Name GRUPO_ETAREOS: #REF!
Name GRUPO_ETARIO: #REF!
Name GRUPO_ETARIO: #REF!
Name GRUPO_ETARIO: #REF!
Name GRUPO_ETNICO: #REF!
Name GRUPO_ETNICO: #REF!
Name GRUPO_ETNICO: #REF!
Name GRUPOETNICO: #REF!
Name GRUPOETNICO: #REF!
Name GRUPOETNICO: #REF!
Name GRUPOS_ETNICOS: [1]Variables!$H$1:$H$8
Name LOCALIDAD: #REF!
Name LOCALIDAD: #REF!
Name LOCALIDAD: #REF!
Name LOCALIZACION: #REF!
Name LOCALIZACION: #REF!
Name LOCALIZACION: #REF!

Sheet GESTIÓN
G2: DIRECCIONAMIENTO ESTRATÉGICO
G3: Formato: Programación, actualización y seguimiento del plan de acción Actualización y seguimiento al Componente de Gestión
G4: Código: PE01-PR02-F2 | DT4: Versión: 12
A5: DEPENDENCIA: | G5: SUBDIRECCION DE ECOURBANISMO Y GESTIÓN AMBIENTAL EMPRESARIAL
A6: CÓDIGO Y NOMBRE PROYECTO: | G6: 7794 - Fortalecimiento de la gestión ambiental sectorial, el ecourbanismo y cambio climático en el D.C.Bogotá
A7: Propósito Plan de Desarrollo | G7: 02. Cambiar nuestros hábitos de vida para reverdecer a Bogotá y adaptarnos y mitigar la crisis climática
A8: Programa Plan de Desarrollo | G8: 27. Cambio Cultural para la gestión de la crisis climática
A10: ESTRUCTURA DEL PLAN DE DESARROLLO | C10: 2, META PLAN DE DESARROLLO | E10: 3, INDICADOR ASOCIADO A LA META PLAN DE DESARROLLO | EF10: 4, % CUMPLIMIENTO ACUMULADO (Vigencia) | EG10: 5, % DE AVANCE CUATRIENIO | EH10: 6, DESCRIPCIÓN DE LOS AVANCES Y LOGROS ALCANZADOS | EI10: 7, RETRASOS | EJ10: 8, SOLUCIONES PLANTEADAS | EK10: 9, BENEFICIOS | EL10: 10, FUENTE DE EVIDENCIAS
A11: 1.1 Propósito | B11: 1.2 Programa | C11: 2,1 COD. | D11: 2,2 META PLAN DE DESARROLLO | E11: 3,1 COD. | F11: 3,2 INDICADOR | G11: 3,3 UNIDAD DE MEDIDA | H11: 3,4 TIPOLOGÍA | I11: 3,5 MAGNITUD PD | J11: 3,6 PROGRAMACIÓN - ACTUALIZACIÓN | DT11: 3,7 SEGUIMIENTO VIGENCIA ACTUAL
J12: PROGRAMACIÓN INICIAL CUATRIENIO | K12: AÑO 2020 | X12: AÑO 2021 | AW12: AÑO 2022 | BV12: AÑO 2023 | CU12: AÑO 2024 | DT12: ENE. | DU12: FEB | DV12: MAR | DW12: ABR | DX12: MAY | DY12: JUN | DZ12: JUL | EA12: AGO | EB12: SEP | EC12: OCT | ED12: NOV | EE12: DIC
K13: PROGRAMACIÓN VIGENCIA | L13: PROGR. ANUAL MES JUL. | M13: EJECUTADO JUL. | N13: PROGR. ANUAL MES AGO. | O13: EJECUTADO AGO. | P13: PROGR. ANUAL MES SEP. | Q13: EJECUTADO SEP. | R13: PROGR. ANUAL MES OCT. | S13: EJECUTADO OCT. | T13: PROGR. ANUAL MES NOV. | U13: EJECUTADO NOV. | V13: PROGR. ANUAL MES DIC. | W13: EJECUTADO ACUMULADO AÑO 2020 | X13: REPROGRAMACIÓN VIGENCIA | Y13: PROGR. ANUAL MES ENE. | Z13: EJECUTADO ENE. | AA13: PROGR. ANUAL MES FEB. | AB13: EJECUTADO FEB. | AC13: PROGR. ANUAL MES MAR. | AD13: EJECUTADO MAR. | AE13: PROGR. ANUAL MES ABR. | AF13: EJECUTADO ABR. | AG13: PROGR. ANUAL MES MAY. | AH13: EJECUTADO MAY. | AI13: PROGR. ANUAL MES JUN. | AJ13: EJECUTADO JUN. | AK13: PROGR. ANUAL MES JUL. | AL13: EJECUTADO JUL. | AM13: PROGR. ANUAL MES AGO. | AN13: EJECUTADO AGO. | AO13: PROGR. ANUAL MES SEP. | AP13: EJECUTADO SEP. | AQ13: PROGR. ANUAL MES OCT. | AR13: EJECUTADO OCT. | AS13: PROGR. ANUAL MES NOV. | AT13: EJECUTADO NOV. | AU13: PROGR. ANUAL MES DIC. | AV13: EJECUTADO ACUMUALDO AÑO 2021 | AW13: REPROGRAMACIÓN VIGENCIA | AX13: PROGR. ANUAL MES ENE. | AY13: EJECUTADO ENE. | AZ13: PROGR. ANUAL MES FEB. | BA13: EJECUTADO FEB. | BB13: PROGR. ANUAL MES MAR. | BC13: EJECUTADO MAR. | BD13: PROGR. ANUAL MES ABR. | BE13: EJECUTADO ABR. | BF13: PROGR. ANUAL MES MAY. | BG13: EJECUTADO MAY. | BH13: PROGR. ANUAL MES JUN. | BI13: EJECUTADO JUN. | BJ13: PROGR. ANUAL MES JUL. | BK13: EJECUTADO JUL. | BL13: PROGR. ANUAL MES AGO. | BM13: EJECUTADO AGO. | BN13: PROGR. ANUAL MES SEP. | BO13: EJECUTADO SEP. | BP13: PROGR. ANUAL MES OCT. | BQ13: EJECUTADO OCT. | BR13: PROGR. ANUAL MES NOV. | BS13: EJECUTADO NOV. | BT13: PROGR. ANUAL MES DIC. | BU13: EJECUTADO ACUMUALDO AÑO 2022 | BV13: REPROGRAMACIÓN VIGENCIA | BW13: PROGR. ANUAL MES ENE. | BX13: EJECUTADO ENE. | BY13: PROGR. ANUAL MES FEB. | BZ13: EJECUTADO FEB. | CA13: PROGR. ANUAL MES MAR. | CB13: EJECUTADO MAR. | CC13: PROGR. ANUAL MES ABR. | CD13: EJECUTADO ABR. | CE13: PROGR. ANUAL MES MAY. | CF13: EJECUTADO MAY. | CG13: PROGR. ANUAL MES JUN. | CH13: EJECUTADO JUN. | CI13: PROGR. ANUAL MES JUL. | CJ13: EJECUTADO JUL. | CK13: PROGR. ANUAL MES AGO. | CL13: EJECUTADO AGO. | CM13: PROGR. ANUAL MES SEP. | CN13: EJECUTADO SEP. | CO13: PROGR. ANUAL MES OCT. | CP13: EJECUTADO OCT. | CQ13: PROGR. ANUAL MES NOV. | CR13: EJECUTADO NOV. | CS13: PROGR. ANUAL MES DIC. | CT13: EJECUTADO ACUMUALDO AÑO 2023 | CU13: REPROGRAMACIÓN VIGENCIA | CV13: PROGR. ANUAL MES ENE. | CW13: EJECUTADO ENE. | CX13: PROGR. ANUAL MES FEB. | CY13: EJECUTADO FEB. | CZ13: PROGR. ANUAL MES MAR. | DA13: EJECUTADO MAR. | DB13: PROGR. ANUAL MES ABR. | DC13: EJECUTADO ABR. | DD13: PROGR. ANUAL MES MAY. | DE13: EJECUTADO MAY. | DF13: PROGR. ANUAL MES JUN. | DG13: EJECUTADO JUN. | DH13: PROGR. ANUAL MES JUL. | DI13: EJECUTADO JUL. | DJ13: PROGR. ANUAL MES AGO. | DK13: EJECUTADO AGO. | DL13: PROGR. ANUAL MES SEP. | DM13: EJECUTADO SEP. | DN13: PROGR. ANUAL MES OCT. | DO13: EJECUTADO OCT. | DP13: PROGR. ANUAL MES NOV. | DQ13: EJECUTADO NOV. | DR13: PROGR. ANUAL MES DIC. | DS13: EJECUTADO ACUMUALDO AÑO 2024
A14: 2 | B14: 27 | C14: 198 | D14: Articular e implementar el Plan de Acción Climática Bogotá D.C. 2020-2050 incluyendo la gestión necesaria para lograr una reducción de por lo menos 15% en la emisión de gases de efecto invernadero de Bogotá para 2024, incluyendo herramientas como la participación de la ciudad en los mercados de carbono. | E14: 212 | F14: Número de estrategias consolidadas e implementadas | G14: Número | H14: SUMA | I14: 1 | J14: 1 | K14: 0.15 | L14: 0.15 | M14: 0.03 | N14: 0.15 | O14: 0.05 | P14: 0.15 | Q14: 0.08 | R14: 0.15 | S14: 0.1 | T14: 0.15 | U14: 0.13 | V14: 0.15 | W14: 0.15 | X14: 0.25 | AW14: 0.25 | BV14: 0.25 | CU14: 0.1 | DZ14: 0.03 | EA14: 0.05 | EB14: 0.08 | EC14: 0.1 | ED14: 0.13 | EE14: 0.15 | EF14: =EE14/V14 -> 1 | EG14: =EE14/J14 -> 0.15 | EH14: En la vigencia 2020 se ejecutaron acciones de adaptación al cambio climático, con avance del indicador del 0,15 así: - Gestión del riesgo por incendio forestal: a) Conocimiento: campaña de prevención de incendios forestales "MenosIncendiosMásVida" (1 realizada e inicio de otra); aportes para elaborar el Plan de Contingencia de la 2a temporada de menos lluvias 2020 y la 1ra de 2021; elaboración y actualización de matrices de gran complejidad de incendios 2020; realización de capacitaciones; consecución e inicio de revisión de Planes de Manejo Humedales para verificar existencia de medidas de contingencia por incendio forestal; revisión de Zonas de Interfaz Urbano-Forestal - ZIUF, tipologías y acciones de prevención y mitigación de incendios para socializar en Comisión. b) Reducción: realización de labores de mitigación; realización de acciones de prevención. c) Manejo: proceso de restauración ecológica en 3 ha afectadas por fuego; culminación de valoración económica y ambiental de daños ocasionados por el incendio de Tibanica, Meandro del Say y Bosa; realización de visitas para georreferenciar eventos forestales ocurridos en 2020; georreferenciación de dichos eventos y generación de shapes y salidas gráficas. d) Presidencia de la Comisión Distrital para la Prevención y Mitigación de Incendios Forestales. - Respuesta a emergencias: la entidad realizó la activación de 856 emergencias, a las cuales se dio respuesta. | EI14: N/A | EJ14: N/A | EK14: La ciudad cuenta con acciones para adaptarse al cambio climático, a fin de enfrentar de la mejor manera sus efectos y favorecer la resiliencia. | EL14: Informes de convenios y contratos, reportes de emergencias respondidas por la entidad, informes de seguimiento y de evaluación del PACA, actas de reunión y ayudas de memoria, informes de gestión, reportes de seguimiento.
C15: 199 | D15: Implementar una (1) Estrategia Distrital de Crecimiento Verde con enfoque de sostenibilidad ambiental e innovación que impulse la eficiencia energética, las fuentes no convencionales de energías renovables y la economía circular de manera articulada con los grandes y pequeños generadores y consumidores y que incorpore un sistema de monitoreo para medir la transición hacia un crecimiento verde y el cumplimiento de los ODS | E15: 213 | F15: Numero de estrategias distritales de crecimiento verde implementadas | G15: Número | H15: SUMA | I15: 1 | J15: 1 | K15: 0.05 | L15: 0.05 | M15: 0 | N15: 0.05 | O15: 0.01 | P15: 0.05 | Q15: 0.02 | R15: 0.05 | S15: 0.03 | T15: 0.05 | U15: 0.04 | V15: 0.05 | W15: 0.05 | X15: 0.3 | AW15: 0.3 | BV15: 0.3 | CU15: 0.05 | DZ15: 0 | EA15: 0.01 | EB15: 0.02 | EC15: 0.03 | ED15: 0.04 | EE15: 0.05 | EF15: =EE15/V15 -> 1 | EG15: =EE15/J15 -> 0.05 | EH15: En la vigencia 2020 se ejecutaron acciones para el Diseño e Implementación de la Estrategia Distrital de Crecimiento Verde (EDCV), con avance del indicador para el mes de diciembre en 0,009. De esta manera se logra cumplimiento de la meta anual de 0,05 según la programación. El consolidado de acciones: se inició la construcción de la Estrategia Distrital de Crecimiento Verde (EDCV) con la búsqueda, obtención, selección y clasificación de información secundaria y en fuentes propias de la Secretaría Distrital de Ambiente (SDA), así como del aporte extraído de la reunión con diferentes actores pertenecientes de la academia y entidades del distrito de las cuales se identificaron roles y se vienen desarrollando articulaciones para la generación de nuevos programas y la integración en otros existentes. Se construyó una matriz alimentada con información de fuentes secundarias y propias de la Secretaría Distrital de Ambiente y los encuentros con entidades externas, con esta información se estructuró la conceptualización gráfica de la EDCV en formato PPT, igualmente, la versión inicial de tabla de contenido del documento, con lo cual se comenzó la conformación de los capítulos 1 "Antecedes del CV", el numeral 2 “Justificación” y 3 “Estrategia Distrital de Crecimiento Verde”, que con modificaciones pasó a llamarse “Diagnóstico de los elementos fundamentales para la implementación de la EDCV” al igual que se incluyó en versión preliminar de glosario, abreviaturas y anexos. Para el mes de diciembre, la versión inicial de los capítulos anteriormente mencionados fue enviada a revisión del doctor Oscar Vargas funcionario y experto en Gestión Ambiental Empresarial de la SDA. Paralelamente se realizó el mapeo de entidades de financiamiento de proyectos verdes para Bogotá y se inició la estructuración de cuestionario para aplicarlo en el sector empresarial participante en el programa GAE a fin de obtener precisiones en la modelación de los programas que integran la EDCV. En la articulación de la SDA con la Decretaría Distrital de Desarrollo Económico (SDDE), que tiene gran participación en este proceso, se continuó concertación y articulación de estrategias conjuntas, es así que, con el fin de fortalecer competencias de acción de las dos entidades, la SDA con el apoyo y desarrollo voluntario del Dr Paulo Romero de la UNAL, lidero el montaje del curso “Ecodiseño en la economía Circular” realizado los días 10, 15 y 17 de diciembre de 8 a 10am a colaboradores de la SDDE y la SDA. Es importante tener en cuenta que los avances en las metas dirigidas al uso eficiente de los recursos con la asistencia a proyectos presentados por las empresas, acompañamiento y promoción a negocios verdes, economía circular y producción más limpia en sectores priorizados apuntan a la implementación de la EDCV las cuales hacen parte de los libros inversión y actividades del presente documento. | EI15: N/A | EJ15: N/A | EK15: La implementación de una Estrategia Distrital de Crecimiento Verde permitirá realizar acciones que incentiven la competitividad en el sector empresarial con la sostenibilidad en el uso de los recursos, menor generación en impactos ambientales y con la promoción de nuevas oportunidades de negocios basados en el aprovechamiento sostenible del capital natural. | EL15: Archivo de gestión SEGAE.
C16: 200 | D16: Realizar la gestión y seguimiento a la aplicación de los determinantes ambientales en 1.000 proyectos de ciudad tomando en cuenta medidas de adaptación y mitigación a la crisis climática. | E16: 214 | F16: Número de proyectos de ciudad con gestión para la incorporación de determinantes ambientales con medidas de mitigación y adaptación al cambio climático. | G16: Numero | H16: SUMA | I16: 600 | J16: 600 | K16: 66 | L16: 66 | M16: 11 | N16: 66 | O16: 22 | P16: 66 | Q16: 33 | R16: 66 | S16: 44 | T16: 66 | U16: 55 | V16: 66 | W16: 66 | X16: 109 | AW16: 172 | BV16: 172 | CU16: 81 | DZ16: 11 | EA16: 22 | EB16: 33 | EC16: 44 | ED16: 55 | EE16: 66 | EF16: =EE16/V16 -> 1 | EG16: =EE16/J16 -> 0.11 | EH16: El acumulado ejecutado en la vigencia 2020, corresponde a 66 proyectos, los cuales se han avanzado en la vigencia 2020 y corresponden a proyectos urbanos y arquitectónicos de diferentes escalas, tanto en espacio público como en privado, promoviendo la construcción sostenible y el ecourbanismo en la ciudad. Los proyectos a los cuales se les incorporó criterios de sostenibilidad corresponden a: Tres (03) Plan Parcial de Desarrollo, dos (02) Plan Parcial de Renovación Urbana, tres (03) Proyectos de Legalización y Regularización de Barrios, seis (06) Planes de Implantación, un (01) Plan de Regularización y Manejo, cuatro (04) Planes Directores para parques, dos (02) Planes de Manejo de Humedales, treinta y cuatro (34) Diseños paisajísticos de parques y zonas verdes, cuatro (04) proyectos de compatibilidad de uso de vivienda en suelo restringido, un (01) Patio zonal para el Sistema Integrado de Transporte Publico - SITP y seis (06) proyectos de infraestructura especial como colegios, tramos viales en intervenciones en Zonas de Manejo y Preservación Ambiental. | EI16: N/A | EJ16: N/A | EK16: La aplicación y seguimiento de determinantes ambientales en proyectos urbanos y arquitectónicos de diferentes escalas, así como a instrumentos de planeamiento urbano, promueve la construcción sostenible y el ecourbanismo en la ciudad, mediante la armonización de los proyectos urbanos y el modelo de ocupación del territorio con la Estructura ecológica Principal, garantizando mejores espacios para la habitabilidad urbana y mayor equidad e igualdad en la población capitalina. | EL16: Oficios FOREST, Actas, Archivo de Gestión SEGAE.
E17: 215 | F17: Numero de proyectos de ciudad con seguimiento de la aplicación de los determinantes ambientales | G17: Numero | H17: SUMA | I17: 400 | J17: 400 | K17: 20 | L17: 20 | M17: 0 | N17: 20 | O17: 0 | P17: 20 | Q17: 2 | R17: 20 | S17: 6 | T17: 20 | U17: 12 | V17: 20 | W17: 20 | X17: 77 | AW17: 121 | BV17: 121 | CU17: 61 | DZ17: 0 | EA17: 0 | EB17: 2 | EC17: 6 | ED17: 12 | EE17: 20 | EF17: =EE17/V17 -> 1 | EG17: =EE17/J17 -> 0.05 | EH17: El acumulado ejecutado en la vigencia 2020, corresponde a 20 proyectos verificados en la incorporación de sus determinantes ambientales, correspondiente a trece (13) Planes Directores de Parques de la Ciudad y siete (07) Diseños paisajísticos de parques y zonas verdes. | EI17: N/A | EJ17: N/A | EK17: La Secretaría Distrital de Ambiente ha realizado importantes esfuerzos incorporando criterios de ecourbanismo y construcción sostenible en proyectos urbanos y arquitectónicos en la Ciudad, por lo cual es necesario realizar la verificación en la incorporación de los lineamientos y determinantes ambientales de ecourbanismo y construcción sostenible a proyectos de infraestructura que actualmente están en operación, evaluando su aporte a las políticas nacionales y distritales que rigen en esta materia y su aporte a la gestión de la crisis climática; así mismo, esta verificación permitirá conocer las dificultades por parte del sector construcción en la incorporación de estos criterios, permitiendo que desde la administración distrital genere estrategias para promover y fortalecer la construcción sostenible en la Ciudad. | EL17: Oficios FOREST, Actas, Archivo de Gestión SEGAE.
C18: 201 | D18: Reverdecer 20.000 m2 en la ciudad a través del fortalecimiento de la infraestructura vegetada | E18: 216 | F18: M2 reverdecidos en la ciudad a través del fortalecimiento de la infraestructura vegetada (techos verdes y jardines verticales con acompañamiento técnico) | G18: M2 | H18: SUMA | I18: 20000 | J18: 20000 | K18: 2500 | L18: 2500 | M18: 0 | N18: 2500 | O18: 741 | P18: 2500 | Q18: 1257 | R18: 2500 | S18: 1908 | T18: 2500 | U18: 2210 | V18: 2500 | W18: 2500 | X18: 3500 | AW18: 5500 | BV18: 5500 | CU18: 3000 | DZ18: 0 | EA18: 741 | EB18: 1257 | EC18: 1908 | ED18: 2210 | EE18: 2500 | EF18: =EE18/V18 -> 1 | EG18: =EE18/J18 -> 0.125 | EH18: El acumulado ejecutado en el segundo semestre del 2020 corresponde al 2500 m2 de techos verdes y jardines verticales con acompañamiento técnico y promovidos en las siguientes localidades: San Cristóbal (5 m2), Barrios Unidos (15 m2), Engativá (17 m2), Puente Aranda (390 m2), Teusaquillo (93 m2), Santa Fe (26 m2), Chapinero (1421 m2), Usaquén (405 m2), Suba (30 m2) y Candelaria (98 m2). | EI18: N/A | EJ18: N/A | EK18: El acompañamiento técnico a techos verdes y jardines verticales, promueve la conservación y mejoramiento de estas estructuras, las cuales ofrecen múltiples beneficios ambientales (Eje. Retienen el agua lluvia, mitigan el efecto isla de calor, absorben el ruido), sociales (Eje. Mejoran el paisaje urbano, aumentan el área verde de la ciudad, mejoran la calidad de vida) y económicos (Eje. Mantienen la comodidad térmica al interior de las edificaciones, evitando el uso de calefactores, valorizan el predio, permiten integrarse con sistemas de aprovechamiento de agua lluvia, ahorrando consumo de agua), para la ciudad y sus habitantes. | EL18: Matriz de reporte, archivo de gestión SEGAE.
D22: CONTROL DE CAMBIOS
D23: Versión | E23: Descripción de la Modificación | L23: No. Acto Administrativo y fecha
D24: 11 | E24: Se modifica el código, se incluye encabezado y control de cambios | L24: Radicado 2019IE63564 de marzo 19 de 2019
D25: 12 | E25: Se modifica la periodicidad de reporte y la estructura del documento se ajustó de acuerdo al plan de desarrollo vigente | L25: Radicado 2020IE152434 de septiembre 08 de 2020

Sheet INVERSIÓN
F1: DIRECCIONAMIENTO ESTRATÉGICO
F2: Formato: Programación, actualización y seguimiento del plan de acción Actualización y seguimiento al Componente de Inversión
F3: Código: PE01-PR02-F2 | DS3: Versión: 12
A4: DEPENDENCIA: | F4: SUBDIRECCION DE ECOURBANISMO Y GESTIÓN AMBIENTAL EMPRESARIAL
A5: CÓDIGO Y NOMBRE PROYECTO: | F5: 7794 - Fortalecimiento de la gestión ambiental sectorial, el ecourbanismo y cambio climático en el D.C. Bogotá.
A7: 1, LÍNEA DE ACCIÓN | B7: 2, META DE PROYECTO | E7: 3, COD. META PDD A QUE SE ASOCIA META PROY | F7: 4, VARIABLE REQUERIDA | G7: 5, VALOR CUATRIENIO | H7: 6, PROGRAMACIÓN - ACTUALIZACIÓN | DQ7: 7, EJECUCIÓN | EC7: 8, % CUMPLIMIENTO ACUMULADO (Vigencia) | ED7: 9 ,% DE AVANCE CUATRIENIO | EE7: 10, DESCRIPCIÓN DE LOS AVANCES Y LOGROS ALCANZADOS | EF7: 11, RETRASOS | EG7: 12, SOLUCIONES PLANTEADAS | EH7: 13, BENEFICIOS | EI7: 14, FUENTE DE EVIDENCIAS
H8: AÑO 2020 | U8: AÑO 2021 | AT8: AÑO 2022 | BS8: AÑO 2023 | CR8: AÑO 2024 | DQ8: 7,1 SEGUIMIENTO VIGENCIA ACTUAL
B9: 2,1 COD. | C9: 2,2 META | D9: 2,3 TIPOLOGÍA | H9: PROGRAMACIÓN INICIAL AÑO 2020 | I9: PROGR. ANUAL MES JUL. | J9: EJECUTADO JUL. | K9: PROGR. ANUAL MES AGO. | L9: EJECUTADO AGO. | M9: PROGR. ANUAL MES SEP. | N9: EJECUTADO SEP. | O9: PROGR. ANUAL MES OCT. | P9: EJECUTADO OCT. | Q9: PROGR. ANUAL MES NOV. | R9: EJECUTADO NOV. | S9: PROGR. ANUAL MES DIC. | T9: EJECUTADO ACUMULADO AÑO 2020 | U9: REPROGRAMACIÓN VIGENCIA | V9: PROGR. ANUAL MES ENE. | W9: EJECUTADO ENE. | X9: PROGR. ANUAL MES FEB. | Y9: EJECUTADO FEB. | Z9: PROGR. ANUAL MES MAR. | AA9: EJECUTADO MAR. | AB9: PROGR. ANUAL MES ABR. | AC9: EJECUTADO ABR. | AD9: PROGR. ANUAL MES MAY. | AE9: EJECUTADO MAY. | AF9: PROGR. ANUAL MES JUN. | AG9: EJECUTADO JUN. | AH9: PROGR. ANUAL MES JUL. | AI9: EJECUTADO JUL. | AJ9: PROGR. ANUAL MES AGO. | AK9: EJECUTADO AGO. | AL9: PROGR. ANUAL MES SEP. | AM9: EJECUTADO SEP. | AN9: PROGR. ANUAL MES OCT. | AO9: EJECUTADO OCT. | AP9: PROGR. ANUAL MES NOV. | AQ9: EJECUTADO NOV. | AR9: PROGR. ANUAL MES DIC. | AS9: EJECUTADO ACUMUALDO AÑO 2021 | AT9: REPROGRAMACIÓN VIGENCIA | AU9: PROGR. ANUAL MES ENE. | AV9: EJECUTADO ENE. | AW9: PROGR. ANUAL MES FEB. | AX9: EJECUTADO FEB. | AY9: PROGR. ANUAL MES MAR. | AZ9: EJECUTADO MAR. | BA9: PROGR. ANUAL MES ABR. | BB9: EJECUTADO ABR. | BC9: PROGR. ANUAL MES MAY. | BD9: EJECUTADO MAY. | BE9: PROGR. ANUAL MES JUN. | BF9: EJECUTADO JUN. | BG9: PROGR. ANUAL MES JUL. | BH9: EJECUTADO JUL. | BI9: PROGR. ANUAL MES AGO. | BJ9: EJECUTADO AGO. | BK9: PROGR. ANUAL MES SEP. | BL9: EJECUTADO SEP. | BM9: PROGR. ANUAL MES OCT. | BN9: EJECUTADO OCT. | BO9: PROGR. ANUAL MES NOV. | BP9: EJECUTADO NOV. | BQ9: PROGR. ANUAL MES DIC. | BR9: EJECUTADO ACUMUALDO AÑO 2022 | BS9: REPROGRAMACIÓN VIGENCIA | BT9: PROGR. ANUAL MES ENE. | BU9: EJECUTADO ENE. | BV9: PROGR. ANUAL MES FEB. | BW9: EJECUTADO FEB. | BX9: PROGR. ANUAL MES MAR. | BY9: EJECUTADO MAR. | BZ9: PROGR. ANUAL MES ABR. | CA9: EJECUTADO ABR. | CB9: PROGR. ANUAL MES MAY. | CC9: EJECUTADO MAY. | CD9: PROGR. ANUAL MES JUN. | CE9: EJECUTADO JUN. | CF9: PROGR. ANUAL MES JUL. | CG9: EJECUTADO JUL. | CH9: PROGR. ANUAL MES AGO. | CI9: EJECUTADO AGO. | CJ9: PROGR. ANUAL MES SEP. | CK9: EJECUTADO SEP. | CL9: PROGR. ANUAL MES OCT. | CM9: EJECUTADO OCT. | CN9: PROGR. ANUAL MES NOV. | CO9: EJECUTADO NOV. | CP9: PROGR. ANUAL MES DIC. | CQ9: EJECUTADO ACUMUALDO AÑO 2023 | CR9: REPROGRAMACIÓN VIGENCIA | CS9: PROGR. ANUAL MES ENE. | CT9: EJECUTADO ENE. | CU9: PROGR. ANUAL MES FEB. | CV9: EJECUTADO FEB. | CW9: PROGR. ANUAL MES MAR. | CX9: EJECUTADO MAR. | CY9: PROGR. ANUAL MES ABR. | CZ9: EJECUTADO ABR. | DA9: PROGR. ANUAL MES MAY. | DB9: EJECUTADO MAY. | DC9: PROGR. ANUAL MES JUN. | DD9: EJECUTADO JUN. | DE9: PROGR. ANUAL MES JUL. | DF9: EJECUTADO JUL. | DG9: PROGR. ANUAL MES AGO. | DH9: EJECUTADO AGO. | DI9: PROGR. ANUAL MES SEP. | DJ9: EJECUTADO SEP. | DK9: PROGR. ANUAL MES OCT. | DL9: EJECUTADO OCT. | DM9: PROGR. ANUAL MES NOV. | DN9: EJECUTADO NOV. | DO9: PROGR. ANUAL MES DIC. | DP9: EJECUTADO ACUMUALDO AÑO 2024 | DQ9: ENE. | DR9: FEB. | DS9: MAR. | DT9: ABR. | DU9: MAY. | DV9: JUN. | DW9: JUL. | DX9: AGO. | DY9: SEP. | DZ9: OCT. | EA9: NOV. | EB9: DIC
A10: Ecourbanismo y construcción sostenible | B10: 1 | C10: Realizar a 600 proyectos de infraestructura, la gestión para la aplicación de determinantes ambientales. | D10: SUMA | E10: 200 | F10: MAGNITUD FÍSICA | G10: =+H10+U10+AT10+BS10+CR10 -> 600 | H10: 66 | I10: 66 | J10: 11 | K10: 66 | L10: 22 | M10: 66 | N10: 33 | O10: 66 | P10: 44 | Q10: 66 | R10: 55 | S10: 66 | T10: 66 | U10: 109 | AT10: 172 | BS10: 172 | CR10: 81 | DW10: 11 | DX10: 22 | DY10: 33 | DZ10: 44 | EA10: 55 | EB10: =+T10 -> 66 | EC10: =EB10/S10 -> 1 | ED10: =EB10/G10 -> 0.11 | EE10: El acumulado ejecutado en la vigencia 2020, corresponde a 66 proyectos y corresponden a proyectos urbanos y arquitectónicos de diferentes escalas, tanto en espacio público como en privado, promoviendo la construcción sostenible y el ecourbanismo en la ciudad. Los proyectos a los cuales se les incorporó criterios de sostenibilidad corresponden a: Tres (03) Plan Parcial de Desarrollo, dos (02) Plan Parcial de Renovación Urbana, tres (03) Proyectos de Legalización y Regularización de Barrios, seis (06) Planes de Implantación, un (01) Plan de Regularización y Manejo, cuatro (04) Planes Directores para parques, dos (02) Planes de Manejo de Humedales, treinta y cuatro (34) Diseños paisajísticos de parques y zonas verdes, cuatro (04) proyectos de compatibilidad de uso de vivienda en suelo restringido, un (01) Patio zonal para el Sistema Integrado de Transporte Publico - SITP y seis (06) proyectos de infraestructura especial como colegios, tramos viales en intervenciones en Zonas de Manejo y Preservación Ambiental. | EF10: N/A | EG10: N/A | EH10: La aplicación de determinantes ambientales en proyectos urbanos y arquitectónicos de diferentes escalas, así como a instrumentos de planeamiento urbano, promueve la construcción sostenible y el ecourbanismo en la ciudad, mediante la armonización de los proyectos urbanos y el modelo de ocupación del territorio con la Estructura ecológica Principal, garantizando mejores espacios para la habitabilidad urbana y mayor equidad e igualdad en la población capitalina. | EI10: Oficios FOREST, Actas, Archivo de Gestión SEGAE.
F11: PRESUPUESTO VIGENCIA | G11: =+S11+U11+AT11+BS11+CR11 -> 3522606000 | H11: 370304000 | I11: 370304000 | J11: 140580000 | K11: 361860000 | L11: 262457000 | M11: 361860000 | N11: 262457000 | O11: 384597000 | P11: 262457000 | Q11: 384597000 | R11: 312457000 | S11: 384597000 | T11: 384597000 | U11: 574654000 | AT11: 997331000 | BS11: 1029360000 | CR11: 536664000 | DW11: 140580000 | DX11: =+L11 -> 262457000 | DY11: 262457000 | DZ11: =+P11 -> 262457000 | EA11: 312457000 | EB11: =+T11 -> 384597000 | EC11: =EB11/S11 -> 1 | ED11: =EB11/G11 -> 0.10917968
F12: MAGNITUD FÍSICA RESERVAS | EB12: =+T12 -> 0 | EC12: =EB12/S12 -> #DIV/0! | ED12: =EB12/G12 -> #DIV/0!
F13: RESERVA PRESUPUESTAL | EB13: =+T13 -> 0 | EC13: =EB13/S13 -> #DIV/0! | ED13: =EB13/G13 -> #DIV/0!
F14: TOTAL MAGNITUD FÍSICA | G14: =+G10+G12 -> 600 | H14: =+H10 -> 66 | I14: =+I10 -> 66 | J14: =+J10 -> 11 | K14: 66 | L14: =+L10 -> 22 | M14: 66 | N14: =+N10 -> 33 | O14: 66 | P14: =+P10 -> 44 | Q14: 66 | R14: 55 | S14: 66 | T14: 66 | U14: =+U10 -> 109 | AT14: =+AT10 -> 172 | BS14: =+BS10 -> 172 | CR14: =+CR10 -> 81 | DW14: =+DW10 -> 11 | DX14: =+DX10 -> 22 | DY14: =+DY10 -> 33 | DZ14: 44 | EA14: 55 | EB14: =+T14 -> 66 | EC14: =EB14/S14 -> 1 | ED14: =EB14/G14 -> 0.11
F15: TOTAL PRESUPUESTO DE LA META | G15: =+G11+G13 -> 3522606000 | H15: =+H11 -> 370304000 | I15: =+I11 -> 370304000 | J15: =+J11 -> 140580000 | K15: 361860000 | L15: =+L11 -> 262457000 | M15: 361860000 | N15: =+N11 -> 262457000 | O15: =+O11 -> 384597000 | P15: =+P11 -> 262457000 | Q15: =+Q11 -> 384597000 | R15: =+R11 -> 312457000 | S15: =+S11 -> 384597000 | T15: =+T11 -> 384597000 | U15: =+U11 -> 574654000 | AT15: =+AT11 -> 997331000 | BS15: =+BS11 -> 1029360000 | CR15: =+CR11 -> 536664000 | DW15: =+DW11 -> 140580000 | DX15: =+DX11 -> 262457000 | DY15: =+DY11 -> 262457000 | DZ15: =+P15 -> 262457000 | EA15: 312457000 | EB15: =+T15 -> 384597000 | EC15: =EB15/S15 -> 1 | ED15: =EB15/G15 -> 0.10917968
B16: 2 | C16: Realizar a 400 proyectos de infraestructura en etapa de operación, el seguimiento a la incorporación de determinantes ambientales. | D16: SUMA | E16: 200 | F16: MAGNITUD FÍSICA | G16: =+H16+U16+AT16+BS16+CR16 -> 400 | H16: 20 | I16: =+H16 -> 20 | J16: 0 | K16: 20 | L16: 0 | M16: 20 | N16: 2 | O16: 20 | P16: 6 | Q16: 20 | R16: 12 | S16: 20 | T16: 20 | U16: 77 | AT16: 121 | BS16: 121 | CR16: 61 | DW16: 0 | DX16: =+T16 -> 20 | DY16: 2 | DZ16: 6 | EA16: 12 | EB16: =+T16 -> 20 | EC16: =EB16/S16 -> 1 | ED16: =EB16/G16 -> 0.05 | EE16: El acumulado ejecutado en la vigencia 2020, corresponde a 20 proyectos verificados en la incorporación de sus determinantes ambientales, correspondiente a trece (13) Planes Directores de Parques de la Ciudad y siete (07) Diseños paisajísticos de parques y zonas verdes. | EF16: N/A | EG16: N/A | EH16: La Secretaría Distrital de Ambiente ha realizado importantes esfuerzos incorporando criterios de ecourbanismo y construcción sostenible en proyectos urbanos y arquitectónicos en la Ciudad, por lo cual es necesario realizar la verificación en la incorporación de los lineamientos y determinantes ambientales de ecourbanismo y construcción sostenible a proyectos de infraestructura que actualmente están en operación, evaluando su aporte a las políticas nacionales y distritales que rigen en esta materia y su aporte a la gestión de la crisis climática; así mismo, esta verificación permitirá conocer las dificultades por parte del sector construcción en la incorporación de estos criterios, permitiendo que desde la administración distrital genere estrategias para promover y fortalecer la construcción sostenible en la Ciudad. | EI16: Archivo de Gestión SEGAE.
F17: PRESUPUESTO VIGENCIA | G17: =+S17+U17+AT17+BS17+CR17 -> 1280821163 | H17: 151328000 | I17: 151328000 | J17: 0 | K17: 142884000 | L17: 71774000 | M17: 142884000 | N17: 71774000 | O17: 140462163 | P17: 71774000 | Q17: 140462163 | R17: 121774000 | S17: 140462163 | T17: 138662000 | U17: 198130000 | AT17: 361141000 | BS17: 371274000 | CR17: 209814000 | DW17: 0 | DX17: =+T17 -> 138662000 | DY17: 71774000 | DZ17: =+P17 -> 71774000 | EA17: 121774000 | EB17: =+T17 -> 138662000 | EC17: =EB17/S17 -> 0.987184 | ED17: =EB17/G17 -> 0.10826023
F18: MAGNITUD FÍSICA RESERVAS | EB18: =+T18 -> 0 | EC18: =EB18/S18 -> #DIV/0! | ED18: =EB18/G18 -> #DIV/0!
F19: RESERVA PRESUPUESTAL | EB19: =+T19 -> 0 | EC19: =EB19/S19 -> #DIV/0! | ED19: =EB19/G19 -> #DIV/0!
F20: TOTAL MAGNITUD FÍSICA | G20: =+G16 -> 400 | H20: =+H16 -> 20 | I20: =+I16 -> 20 | J20: =+J16 -> 0 | K20: 20 | L20: =+L16 -> 0 | M20: 20 | N20: =+N16 -> 2 | O20: 20 | P20: =+P16 -> 6 | Q20: 20 | R20: =+R16 -> 12 | S20: 20 | T20: 20 | U20: =+U16 -> 77 | AT20: =+AT16 -> 121 | BS20: =+BS16 -> 121 | CR20: =+CR16 -> 61 | DW20: =+DW16 -> 0 | DX20: =+DX16 -> 20 | DY20: =+DY16 -> 2 | DZ20: 6 | EA20: 12 | EB20: =+T20 -> 20 | EC20: =EB20/S20 -> 1 | ED20: =EB20/G20 -> 0.05
F21: TOTAL PRESUPUESTO DE LA META | G21: =+G17 -> 1280821163 | H21: =+H17 -> 151328000 | I21: =+I17 -> 151328000 | J21: =+J17 -> 0 | K21: 142884000 | L21: =+L17 -> 71774000 | M21: 142884000 | N21: =+N17 -> 71774000 | O21: =+O17 -> 140462163 | P21: =+P17 -> 71774000 | Q21: =+Q17 -> 140462163 | R21: =+R17 -> 121774000 | S21: =+S17 -> 140462163 | T21: 138662000 | U21: =+U17 -> 198130000 | AT21: =+AT17 -> 361141000 | BS21: =+BS17 -> 371274000 | CR21: =+CR17 -> 209814000 | DW21: =+DW17 -> 0 | DX21: =+DX17 -> 138662000 | DY21: =+DY17 -> 71774000 | DZ21: =+P21 -> 71774000 | EA21: 121774000 | EB21: =+T21 -> 138662000 | EC21: =EB21/S21 -> 0.987184 | ED21: =EB21/G21 -> 0.10826023
B22: 3 | C22: Realizar a 20000 m2 de techos verdes y jardines verticales, el acompañamiento técnico | D22: SUMA | E22: 201 | F22: MAGNITUD FÍSICA | G22: =+H22+U22+AT22+BS22+CR22 -> 20000 | H22: 2500 | I22: 2500 | J22: 0 | K22: 2500 | L22: 741 | M22: 2500 | N22: 1257 | O22: 2500 | P22: 1908 | Q22: 2500 | R22: 2210 | S22: 2500 | T22: 2500 | U22: 3500 | AT22: 5500 | BS22: 5500 | CR22: 3000 | DW22: 0 | DX22: 741 | DY22: 1257 | DZ22: 1908 | EA22: 2210 | EB22: =+T22 -> 2500 | EC22: =EB22/S22 -> 1 | ED22: =EB22/G22 -> 0.125 | EE22: El acumulado ejecutado en el segundo semestre del 2020 corresponde al 2500 m2 de techos verdes y jardines verticales con acompañamiento técnico y promovidos en las siguientes localidades: San Cristóbal (5 m2), Barrios Unidos (15 m2), Engativá (17 m2), Puente Aranda (390 m2), Teusaquillo (93 m2), Santa Fe (26 m2), Chapinero (1421 m2), Usaquén (405 m2), Suba (30 m2) y Candelaria (98 m2). | EF22: N/A | EG22: N/A | EH22: El acompañamiento técnico a techos verdes y jardines verticales, promueve la conservación y mejoramiento de estas estructuras, las cuales ofrecen múltiples beneficios ambientales (Eje. Retienen el agua lluvia, mitigan el efecto isla de calor, absorben el ruido), sociales (Eje. Mejoran el paisaje urbano, aumentan el área verde de la ciudad, mejoran la calidad de vida) y económicos (Eje. Mantienen la comodidad térmica al interior de las edificaciones, evitando el uso de calefactores, valorizan el predio, permiten integrarse con sistemas de aprovechamiento de agua lluvia, ahorrando consumo de agua), para la ciudad y sus habitantes. | EI22: Archivo de Gestión SEGAE.
F23: PRESUPUESTO VIGENCIA | G23: =+S23+U23+AT23+BS23+CR23 -> 628734000 | H23: 24546000 | I23: 24546000 | J23: 0 | K23: 24546000 | L23: 10624000 | M23: 24546000 | N23: 10624000 | O23: 13280000 | P23: 10624000 | Q23: 13280000 | R23: 10624000 | S23: 13280000 | T23: 13280000 | U23: 34285000 | AT23: 248040000 | BS23: 250193000 | CR23: 82936000 | DW23: 0 | DX23: 10624000 | DY23: 10624000 | DZ23: =+P23 -> 10624000 | EA23: 10624000 | EB23: =+T23 -> 13280000 | EC23: =EB23/S23 -> 1 | ED23: =EB23/G23 -> 0.02112181
F24: MAGNITUD FÍSICA RESERVAS | EB24: =+T24 -> 0 | EC24: =EB24/S24 -> #DIV/0! | ED24: =EB24/G24 -> #DIV/0!
F25: RESERVA PRESUPUESTAL | EB25: =+T25 -> 0 | EC25: =EB25/S25 -> #DIV/0! | ED25: =EB25/G25 -> #DIV/0!
F26: TOTAL MAGNITUD FÍSICA | G26: =+G22 -> 20000 | H26: =+H22 -> 2500 | I26: =+I22 -> 2500 | J26: =+J22 -> 0 | K26: 2500 | L26: =+L22 -> 741 | M26: 2500 | N26: =+N22 -> 1257 | O26: 2500 | P26: =+P22 -> 1908 | Q26: 2500 | R26: =+R22 -> 2210 | S26: 2500 | T26: 2500 | U26: =+U22 -> 3500 | AT26: =+AT22 -> 5500 | BS26: =+BS22 -> 5500 | CR26: =+CR22 -> 3000 | DW26: =+DW22 -> 0 | DX26: =+DX22 -> 741 | DY26: =+DY22 -> 1257 | DZ26: 1908 | EA26: 2210 | EB26: =+T26 -> 2500 | EC26: =EB26/S26 -> 1 | ED26: =EB26/G26 -> 0.125
F27: TOTAL PRESUPUESTO DE LA META | G27: =+G23 -> 628734000 | H27: =+H23 -> 24546000 | I27: =+I23 -> 24546000 | J27: =+J23 -> 0 | K27: 24546000 | L27: =+L23 -> 10624000 | M27: 24546000 | N27: =+N23 -> 10624000 | O27: =+O23 -> 13280000 | P27: =+P23 -> 10624000 | Q27: =+Q23 -> 13280000 | R27: =+R23 -> 10624000 | S27: =+S23 -> 13280000 | T27: 13280000 | U27: =+U23 -> 34285000 | AT27: =+AT23 -> 248040000 | BS27: =+BS23 -> 250193000 | CR27: =+CR23 -> 82936000 | DW27: =+DW23 -> 0 | DX27: =+DX23 -> 10624000 | DY27: =+DY23 -> 10624000 | DZ27: =+P27 -> 10624000 | EA27: 10624000 | EB27: =+T27 -> 13280000 | EC27: =EB27/S27 -> 1 | ED27: =EB27/G27 -> 0.02112181
A28: Gestión Ambiental Empresarial | B28: 4 | C28: Diseñar y hacer seguimiento a 1 estrategia de crecimiento verde con enfoque de sostenibilidad, economía circular e innovación | D28: CRECIENTE | E28: 199 | F28: MAGNITUD FÍSICA | G28: 1 | H28: 0.05 | I28: =+H28 -> 0.05 | J28: 0 | K28: 0.05 | L28: 0.01 | M28: 0.05 | N28: 0.02 | O28: 0.05 | P28: 0.03 | Q28: 0.05 | R28: 0.04 | S28: 0.05 | T28: 0.05 | U28: 0.2 | AT28: 0.65 | BS28: 0.95 | CR28: 1 | DW28: 0 | DX28: 0.01 | DY28: 0.02 | DZ28: 0.03 | EA28: 0.04 | EB28: =+T28 -> 0.05 | EC28: =EB28/S28 -> 1 | ED28: =EB28/G28 -> 0.05 | EE28: El acumulado ejecutado en la vigencia 2020, corresponde a 0,05. El consolidado de acciones: se inició la construcción de la Estrategia Distrital de Crecimiento Verde (EDCV) con la búsqueda, obtención, selección y clasificación de información secundaria y en fuentes propias de la Secretaría Distrital de Ambiente, así como del aporte extraído de la reunión con diferentes actores pertenecientes de la academia y entidades del distrito de las cuales se identificaron roles y se vienen desarrollando articulaciones para la generación de nuevos programas y la integración en otros existentes. Se construyó una matriz alimentada con información de fuentes secundarias y propias de la Secretaría Distrital de Ambiente y los encuentros con entidades externas, con esta información se estructuró la conceptualización gráfica de la EDCV en formato PPT, igualmente, la versión inicial de tabla de contenido del documento, con lo cual se comenzó la conformación de los capítulos 1 "Antecedes del CV", el numeral 2 “Justificación” y 3 “Estrategia Distrital de Crecimiento Verde”, que con modificaciones pasó a llamarse “Diagnóstico de los elementos fundamentales para la implementación de la EDCV” al igual que se incluyó en versión preliminar de glosario, abreviaturas y anexos. Para el mes de diciembre, la versión inicial de los capítulos anteriormente mencionados fue enviada a revisión del doctor Oscar Vargas funcionario y experto en Gestión Ambiental Empresarial de la SDA. Paralelamente se realizó el mapeo de entidades de financiamiento de proyectos verdes para Bogotá y se inició la estructuración de cuestionario para aplicarlo en el sector empresarial participante en el programa GAE a fin de obtener precisiones en la modelación de los programas que integran la EDCV. En la articulación de la SDA con la SDDE, que tiene gran participación en este proceso, se continuó concertación y articulación de estrategias conjuntas, es así que, con el fin de fortalecer competencias de acción de las dos entidades, la SDA con el apoyo y desarrollo voluntario del Dr Paulo Romero de la UNAL, lidero el montaje del curso “Ecodiseño en la economía Circular” realizado los días 10, 15 y 17 de diciembre de 8 a 10am a colaboradores de la SDDE y la SDA. | EF28: N/A | EG28: N/A | EH28: La implementación de una Estrategia Distrital de Crecimiento Verde permitirá realizar acciones que incentiven la competitividad en el sector empresarial con la sostenibilidad en el uso de los recursos, menor generación en impactos ambientales y con la promoción de nuevas oportunidades de negocios basados en el aprovechamiento sostenible del capital natural. | EI28: Archivo de gestión SEGAE.
F29: PRESUPUESTO VIGENCIA | G29: =+S29+U29+AT29+BS29+CR29 -> 405347000 | H29: 90000000 | I29: =+H29 -> 90000000 | J29: 0 | K29: 90000000 | L29: 69812000 | M29: 90000000 | N29: 69812000 | O29: 90000000 | P29: 69812000 | Q29: 95347000 | R29: 69812000 | S29: 95347000 | T29: 95159000 | U29: 68299000 | AT29: 111701000 | BS29: 100000000 | CR29: 30000000 | DW29: 0 | DX29: 69812000 | DY29: 69812000 | DZ29: =+P29 -> 69812000 | EA29: 69812000 | EB29: =+T29 -> 95159000 | EC29: =EB29/S29 -> 0.99802825 | ED29: =EB29/G29 -> 0.23475935 | EI29: Archivo de gestión SEGAE.
F30: MAGNITUD FÍSICA RESERVAS | EB30: =+T30 -> 0 | EC30: =EB30/S30 -> #DIV/0! | ED30: =EB30/G30 -> #DIV/0! | EI30: Archivo de gestión SEGAE.
F31: RESERVA PRESUPUESTAL | EB31: =+T31 -> 0 | EC31: =EB31/S31 -> #DIV/0! | ED31: =EB31/G31 -> #DIV/0! | EI31: Archivo de gestión SEGAE.
F32: TOTAL MAGNITUD FÍSICA | G32: =+G28 -> 1 | H32: 0.05 | I32: =+H32 -> 0.05 | J32: =+J28 -> 0 | K32: 0.05 | L32: =+L28 -> 0.01 | M32: 0.05 | N32: 0.01 | O32: 0.05 | P32: =+P28 -> 0.03 | Q32: 0.05 | R32: =+R28 -> 0.04 | S32: 0.05 | T32: 0.05 | U32: =+U28 -> 0.2 | AT32: =+AT28 -> 0.65 | BS32: =+BS28 -> 0.95 | CR32: =+CR28 -> 1 | DW32: =+DW28 -> 0 | DX32: =+DX28 -> 0.01 | DY32: =DY28 -> 0.02 | DZ32: =+DZ28 -> 0.03 | EA32: 0.04 | EB32: =+T32 -> 0.05 | EC32: =EB32/S32 -> 1 | ED32: =EB32/G32 -> 0.05 | EI32: Archivo de gestión SEGAE.
F33: TOTAL PRESUPUESTO DE LA META | G33: =+G29 -> 405347000 | H33: =+H29 -> 90000000 | I33: =+I29 -> 90000000 | J33: =+J29 -> 0 | K33: 90000000 | L33: =+L29 -> 69812000 | M33: 90000000 | N33: =+N29 -> 69812000 | O33: 90000000 | P33: =+P29 -> 69812000 | Q33: =+Q29 -> 95347000 | R33: =+R29 -> 69812000 | S33: =+S29 -> 95347000 | T33: 95159000 | U33: =+U29 -> 68299000 | AT33: =+AT29 -> 111701000 | BS33: =+BS29 -> 100000000 | CR33: =+CR29 -> 30000000 | DW33: =+DW29 -> 0 | DX33: =+DX29 -> 69812000 | DY33: =+DY29 -> 69812000 | DZ33: =+P33 -> 69812000 | EA33: 69812000 | EB33: =+T33 -> 95159000 | EC33: =EB33/S33 -> 0.99802825 | ED33: =EB33/G33 -> 0.23475935 | EI33: Archivo de gestión SEGAE.
B34: 5 | C34: Asistir a 800 proyectos participantes de programas voluntarios ofrecidos por la SEGAE, para el mejoramiento del desempeño ambiental. | D34: SUMA | E34: 199 | F34: MAGNITUD FÍSICA | G34: =+H34+U34+AT34+BS34+CR34 -> 800 | H34: 50 | I34: =+H34 -> 50 | J34: 0 | K34: 50 | L34: 5 | M34: 50 | N34: 10 | O34: 50 | P34: 30 | Q34: 50 | R34: 45 | S34: 50 | T34: 50 | U34: 160 | AT34: 240 | BS34: 240 | CR34: 110 | DW34: 0 | DX34: 5 | DY34: 10 | DZ34: 30 | EA34: 45 | EB34: =+T34 -> 50 | EC34: =EB34/S34 -> 1 | ED34: =EB34/G34 -> 0.0625 | EE34: El acumulado ejecutado en la vigencia 2020, corresponde a empresas participantes en el Programa de Gestión Ambiental Empresarial (Estrategia ACERCAR y Programa de Excelencia Ambiental Distrital (PREAD)), de acuerdo al reporte programado y cumpliendo con la meta, se presenta un avance consolidado de 50 proyectos dirigidos al uso eficiente al recursos naturales y materiales, (5 reportados en agosto, 10 en el mes de septiembre, 15 en el mes de octubre, 15 para el mes de noviembre y 5 para el mes de diciembre). Las empresas a las que se les brindó acompañamiento y presentaron sus proyectos fueron: C.I SIGRA S.A, PROASEPSIS S.A.S., CENTRO MAYOR CENTRO COMERCIAL P.H., DINATECH MOBILE S.A.S., GASEOSAS LUX S.A.S., AUTOMOTORES SAN JORGE S.A., PAVIMENTOS COLOMBIA S.A.S., PROLACTEOS JR S.A.S., LINCOLN SOLDADURAS DE COLOMBIA LTDA., JA BELTRAN RECICLAJE ECOLOGICO AMBIENTAL S EN C, DHL GLOBAL FORWARDING DEPOSITO ADUANERO COLOMBIA SA, COLTANQUES S.A.S., MINISTERIO DE MINAS Y ENERGIA, PROCABLES S.A.S., PIARO IMPRESORES SAS, CABLE MÓVIL, SOMOS BOGOTÁ USME S.A.S., CONALSEBOS S.A.S., GRUPO KOPELLE, ABC GOTUPLAS S.A.S, TITAN PLAZA CENTRO COMERCIAL Y EMPRESARIAL PH, INDES S.A.S - SEDE CALLE 65 A 93 – 28, FEPCO ZONA FRANCA S.A.S, FRIGORIFICO GUADALUPE SAS, AVANT PLAST S.A. AVANCES TECNOLÓGICOS PLASTICOS S.A., FRIGORIFICO GUADALUPE SAS, GASEOSAS COLOMBIANAS S.A.S. PLANTA CENTRO, GASEOSAS LUX S.A.S., MULTIDIMENSIONALES S.A.S, CENTRO COMERCIAL PLAZA DE LAS AMÉRICAS, DIJIN, FONDO DE FINANCIAMIENTO DEL SECTOR AGROPECUARIO, LILI-PLAST S.A.S, LIMPIEZA METROPOLITANA S.A. E.S.P., MARKETEANDO GRAFIPRINT S.A.S, XPRESS ESTUDIO GRÁFICO Y DIGITAL SAS, AVÍCOLA MILUC S. A. S., MULTICARGO LTDA., RANSA COLOMBIA S.A.S., RGD AIRE ACONDICIONADO S.A.S, AUTORIDAD NACIONAL DE LICENCIAS AMBIENTALES - ANLA, CAPITAL BUS S.A.S., AROMATHEKA S.A.S, ESPECTROFARMA S. A. S., TRASNPORTES ESPECIALES COLEGIOS Y TURISMO S. A., NACIONAL DE ELÉCTRICOS HH LTDA - CENTRO 1, NACIONAL DE ELÉCTRICOS HH LTDA - CENTRO 6, UNIVERSIDAD NACIONAL ABIERTA Y A DISTANCIA. CEAD JOSÉ ACEVEDO Y GÓMEZ, ALTEA FARMACÉUTICA S. A., COLOMPACK S. A. | EF34: N/A | EG34: N/A | EH34: El logro del mejoramiento ambiental de las organizaciones a partir de estrategias de prevención, que permitan minimizar el impacto ambiental generado en la ciudad. | EI34: Archivo de gestión SEGAE.
F35: PRESUPUESTO VIGENCIA | G35: =+S35+U35+AT35+BS35+CR35 -> 3901313327 | H35: 668935490 | I35: 668935490 | J35: 328110000 | K35: 641192490 | L35: 519353000 | M35: 641192490 | N35: 532019000 | O35: 734428327 | P35: 532019000 | Q35: 714428327 | R35: 556969163 | S35: 714428327 | T35: 706859293 | U35: 699388000 | AT35: 1010205000 | BS35: 1010205000 | CR35: 467087000 | DW35: 328110000 | DX35: 519353000 | DY35: 532019000 | DZ35: =+P35 -> 532019000 | EA35: 556969163 | EB35: =+T35 -> 706859293 | EC35: =EB35/S35 -> 0.98940547 | ED35: =EB35/G35 -> 0.18118496
F36: MAGNITUD FÍSICA RESERVAS | EB36: =+T36 -> 0 | EC36: =EB36/S36 -> #DIV/0! | ED36: =EB36/G36 -> #DIV/0!
F37: RESERVA PRESUPUESTAL | EB37: =+T37 -> 0 | EC37: =EB37/S37 -> #DIV/0! | ED37: =EB37/G37 -> #DIV/0!
F38: TOTAL MAGNITUD FÍSICA | G38: =+G34 -> 800 | H38: =+H34 -> 50 | I38: =+I34 -> 50 | J38: =+J34 -> 0 | K38: 50 | L38: =+L34 -> 5 | M38: 50 | N38: 10 | O38: 50 | P38: =+P34 -> 30 | Q38: 50 | R38: =+R34 -> 45 | S38: 50 | T38: 50 | U38: =+U34 -> 160 | AT38: =+AT34 -> 240 | BS38: =+BS34 -> 240 | CR38: =+CR34 -> 110 | DW38: =+DW34 -> 0 | DX38: =+DX34 -> 5 | DY38: 10 | DZ38: =+DZ34 -> 30 | EA38: 45 | EB38: =+T38 -> 50 | EC38: =EB38/S38 -> 1 | ED38: =EB38/G38 -> 0.0625
F39: TOTAL PRESUPUESTO DE LA META | G39: =+G35 -> 3901313327 | H39: =+H35 -> 668935490 | I39: =+I35 -> 668935490 | J39: =+J35 -> 328110000 | K39: 641192490 | L39: =+L35 -> 519353000 | M39: 641192490 | N39: =+N35 -> 532019000 | O39: =+O35 -> 734428327 | P39: =+P35 -> 532019000 | Q39: =+Q35 -> 714428327 | R39: =+R35 -> 556969163 | S39: =+S35 -> 714428327 | T39: 706859293 | U39: =+U35 -> 699388000 | AT39: =+AT35 -> 1010205000 | BS39: =+BS35 -> 1010205000 | CR39: =+CR35 -> 467087000 | DW39: =+DW35 -> 328110000 | DX39: =+DX35 -> 519353000 | DY39: =+DY35 -> 532019000 | DZ39: =+P39 -> 532019000 | EA39: 556969163 | EB39: =+T39 -> 706859293 | EC39: =EB39/S39 -> 0.98940547 | ED39: =EB39/G39 -> 0.18118496
B40: 6 | C40: Acompañar y promover a 100 empresas en el proceso de verificación de los criterios de Negocios verdes. | D40: SUMA | E40: 199 | F40: MAGNITUD FÍSICA | G40: =+H40+U40+AT40+BS40+CR40 -> 100 | H40: 10 | I40: =+H40 -> 10 | J40: 2 | K40: 10 | L40: 4 | M40: 10 | N40: 6 | O40: 10 | P40: 8 | Q40: 10 | R40: 9 | S40: 10 | T40: 10 | U40: 20 | AT40: 27 | BS40: 27 | CR40: 16 | DW40: 2 | DX40: 4 | DY40: 6 | DZ40: 8 | EA40: 9 | EB40: =+T40 -> 10 | EC40: =EB40/S40 -> 1 | ED40: =EB40/G40 -> 0.1 | EE40: El acumulado ejecutado en la vigencia 2020 es de diez (10) negocios verdes, Durante el mes de diciembre se reconoce a un (1) negocio verde. Adicionalmente, se realizó el proceso de acompañamiento basado en la apertura de la convocatoria CREE de Impulsa y una campaña de anchetas navideñas de productos verdes. | EF40: N/A | EG40: N/A | EH40: Permite promover el fortalecimiento de actividades económicas que ofrecen bienes o servicios que generan impactos ambientales positivos y que, además, incorpora buenas prácticas ambientales, sociales, económicas, con enfoque de ciclo de vida, contribuyendo al consumo sostenible y a la conservación del ambiente como capital natural que soporta el desarrollo de la región y la estrategia de crecimiento verde. | EI40: Listado de negocios verdes.
F41: PRESUPUESTO VIGENCIA | G41: =+S41+U41+AT41+BS41+CR41 -> 2117624000 | H41: 120000000 | I41: =+H41 -> 120000000 | J41: 0 | K41: 104955000 | L41: 90696000 | M41: 104955000 | N41: 90696000 | O41: 104955000 | P41: 90696000 | Q41: 109624000 | R41: 90696000 | S41: 109624000 | T41: 109624000 | U41: 349839000 | AT41: 636720000 | BS41: 636720000 | CR41: 384721000 | DW41: 0 | DX41: 90696000 | DY41: 90696000 | DZ41: =+P41 -> 90696000 | EA41: 90696000 | EB41: =+T41 -> 109624000 | EC41: =EB41/S41 -> 1 | ED41: =EB41/G41 -> 0.051767453
...

Sheet ACTIVIDADES
D1: DIRECCIONAMIENTO ESTRATÉGICO
D2: Formato: Programación, actualización y seguimiento del plan de acción Actualización y seguimiento a Actividades
D3: Codigo:PE01-PR02-F2 | V3: Versión: 12
A4: DEPENDENCIA: | D4: SUBDIRECCION DE ECOURBANISMO Y GESTIÓN AMBIENTAL EMPRESARIAL
A5: CÓDIGO Y NOMBRE PROYECTO: | D5: 7794 - Fortalecimiento de la gestión ambiental sectorial, el ecourbanismo y cambio climático en el D.C. Bogotá.
A7: 1, LÍNEA DE ACCIÓN | B7: 2, META DE PROYECTO | C7: 3, CÓDIGO Y NOMBRE DE LA ACTIVIDAD | D7: 4, SE EJECUTA CON RECURSOS DE: | F7: 5, PONDERACIÓN HORIZONTAL AÑO: 2020 | T7: 6,PONDERACIÓN VERTICAL | V7: 7, AVANCE CORTE A DICIEMBRE AÑO 2020
D8: 4,1 VIGENCIA | E8: 4,2 RESERVA | F8: VARIABLES | G8: Ene | H8: Feb | I8: Mar | J8: Abr | K8: May | L8: Jun | M8: Jul | N8: Ago. | O8: Sep. | P8: Oct | Q8: Nov | R8: Dic | S8: Total | T8: 6,1 META | U8: 6,2 ACTIVIDAD
A9: Ecourbanismo y construcción sostenible | B9: Realizar a 600 proyectos de infraestructura, la gestión para la aplicación de determinantes ambientales. | C9: 1. Realizar el acompañamiento para la incorporación de criterios y determinantes ambientales en proyectos de infraestructura. | D9: X | F9: Programado | M9: 0.16 | N9: 0.17 | O9: 0.17 | P9: 0.17 | Q9: 0.17 | R9: 0.16 | S9: =SUM(G9:R9) -> 1 | T9: 0.1 | U9: 0.1 | V9: El acumulado ejecutado en la vigencia 2020, corresponde a 66 proyectos, los cuales se han avanzado en la vigencia 2020 y corresponden a proyectos urbanos y arquitectónicos de diferentes escalas, tanto en espacio público como en privado, promoviendo la construcción sostenible y el ecourbanismo en la ciudad. Los proyectos a los cuales se les incorporó criterios de sostenibilidad corresponden a: Tres (03) Plan Parcial de Desarrollo, dos (02) Plan Parcial de Renovación Urbana, tres (03) Proyectos de Legalización y Regularización de Barrios, seis (06) Planes de Implantación, un (01) Plan de Regularización y Manejo, cuatro (04) Planes Directores para parques, dos (02) Planes de Manejo de Humedales, treinta y cuatro (34) Diseños paisajísticos de parques y zonas verdes, cuatro (04) proyectos de compatibilidad de uso de vivienda en suelo restringido, un (01) Patio zonal para el Sistema Integrado de Transporte Publico - SITP y seis (06) proyectos de infraestructura especial como colegios, tramos viales en intervenciones en Zonas de Manejo y Preservación Ambiental.
F10: Ejecutado | M10: 0.16 | N10: 0.17 | O10: 0.17 | P10: 0.17 | Q10: 0.17 | R10: 0.16 | S10: =SUM(G10:R10) -> 1
B11: Realizar a 400 proyectos de infraestructura en etapa de operación, el seguimiento a la incorporación de determinantes ambientales. | C11: 2. Verificar en proyectos de infraestructura la incorporación de criterios y determinantes ambientales en proyectos de infraestructura. | D11: X | F11: Programado | M11: 0 | N11: 0 | O11: 0.1 | P11: 0.2 | Q11: 0.3 | R11: 0.4 | S11: =SUM(G11:R11) -> 1 | T11: 0.1 | U11: 0.1 | V11: El acumulado ejecutado en la vigencia 2020, corresponde a 20 proyectos verificados en la incorporación de sus determinantes ambientales, correspondiente a trece (13) Planes Directores de Parques de la Ciudad y siete (07) Diseños paisajísticos de parques y zonas verdes. Durante el mes de diciembre de 2020, se verifico la incorporación de determinantes ambientales a ocho (08) proyectos de infraestructura en el espacio público como son: (01) Plan Director para Parques, correspondiente al Parque Zonal Morato y siete (07) Diseños paisajísticos de parques y zonas verdes. Estos proyectos verificados se encuentran localizados en las siguientes localidades: uno (01) Usaquén, uno (01) Suba, uno (01) Fontibón, uno (01) Barrios Unidos, tres (03) Kennedy y uno (01) Antonio Nariño.
F12: Ejecutado | M12: 0 | N12: 0 | O12: 0.1 | P12: 0.2 | Q12: 0.3 | R12: 0.4 | S12: =SUM(G12:R12) -> 1
B13: Realizar a 20000 m2 de techos verdes y jardines verticales, el acompañamiento técnico | C13: 3. Realizar el acompañamiento técnico a techos verdes y jardines verticales en la Ciudad. | D13: X | F13: Programado | M13: 0 | N13: 0.3 | O13: 0.175 | P13: 0.175 | Q13: 0.175 | R13: 0.175 | S13: =SUM(G13:R13) -> 1 | T13: 0.1 | U13: 0.1 | V13: El acumulado ejecutado en el segundo semestre del 2020 corresponde al 2500 m2 de techos verdes y jardines verticales con acompañamiento técnico y promovidos en las siguientes localidades: San Cristóbal (5 m2), Barrios Unidos (15 m2), Engativá (17 m2), Puente Aranda (390 m2), Teusaquillo (93 m2), Santa Fe (26 m2), Chapinero (1421 m2), Usaquén (405 m2), Suba (30 m2) y Candelaria (98 m2).
F14: Ejecutado | M14: 0 | N14: 0.3 | O14: 0.175 | P14: 0.175 | Q14: 17.50% | R14: 17.50% | S14: =SUM(G14:R14) -> 0.65
A15: Gestión Ambiental Empresarial | B15: Diseñar y hacer seguimiento a 1 estrategia de crecimiento verde con enfoque de sostenibilidad, economía circular e innovación | C15: 4. Prediseñar la estrategia de crecimiento verde para la ciudad. | D15: X | F15: Programado | M15: 0 | N15: 0.1 | O15: 0.2 | P15: 0.3 | Q15: 0.3 | R15: 0.1 | S15: =SUM(G15:R15) -> 1 | T15: 0.1 | U15: 0.1 | V15: Se avanzó en el desarrollo del numeral 3 titulado “Estrategia Distrital de Crecimiento Verde” de la tabla de contenido en versión inicial, para lograrlo, se consultó información secundaria variada como cifras consultadas en diferentes observatorios, DANE, fuentes internas de la Secretaria Distrital de Ambiente, web de varias entidades, entre otras. Con esta consolidación se realizó análisis, observaciones, selección y consolidación de en los subtemas con los títulos que lo componen. Por otra parte, se continuo con la articulación externa de la SDA específicamente con la Secretaría Distrital de Desarrollo Económico, con el trabajo de concertar, articular y modelar estrategias conjuntas de fortalecimiento y creación de líneas verdes para el financiamiento de proyectos en el año 2021 y programas de acompañamiento empresarial para la reactivación económica a través de estrategias sostenibles como la de economía circular en donde el componente ambiental se soporte en la eficiencia de procesos producción de bienes o servicios y de armonización y conservación de los recursos naturales y materiales. Así mismo, producto de las sinergias desarrolladas se desarrolló el webinar Mecanismos de financiamiento hacia la transición para un crecimiento verde, cuyos panelistas invitados fueron la doctora Carolina Ávila Morales, Gerente del Fondo de Innovación Tecnología e Industrias Creativas – FITIC de la Secretaría Distrital de Desarrollo Económico, de la embajada Británica, el doctor Santiago Briceño, Director de Financiamiento Climático Internacional para los programas de crecimiento limpio del Reino Unido en Colombia y de la Secretaría Distrital de Ambiente el ingeniero Diego Francisco Rubio Goyes. Con este evento se generó el interés en el sector empresarial de participar en los diferentes mecanismos de acompañamiento y financiamiento empresarial que ofrece el gobierno.
F16: Ejecutado | M16: 0 | N16: 0.1 | O16: 0.2 | P16: 0.3 | Q16: 0.3 | R16: 0.1 | S16: =SUM(G16:R16) -> 1
B17: Asistir a 800 proyectos participantes de programas voluntarios ofrecidos por la SEGAE, para el mejoramiento del desempeño ambiental. | C17: 5. Desarrollar proyectos de asistencia técnica para el mejoramiento del desempeño ambiental en empresas participantes de programas voluntarios ofrecidos por la SEGAE. | D17: X | F17: Programado | M17: 0 | N17: 0.1 | O17: 0.2 | P17: 0.3 | Q17: 0.3 | R17: 0.1 | S17: =SUM(G17:R17) -> 1 | T17: 0.1 | U17: 0.05 | V17: En el marco del programa Gestión Ambiental Empresarial integrado por la Estrategia ACERCAR y PREAD, se vienen acompañando a las empresas que voluntariamente se han vinculado. En la Estrategia ACERCAR para la presente vigencia 2020 se inició con la convocatoria, inscripción voluntaria de empresas, respuesta, acompañamiento - asistencia técnica y seguimiento a través de visitas virtuales o de campo en donde se realizó la validación al cumplimiento en trámites y obligaciones ambientales, avance en el montaje o fortalecimiento del sistema de Gestión Ambiental, el reporte de datos para la evaluación del desempeño en uso eficiente de los recursos naturales y materiales y en el diseño, implementación y conclusiones de proyectos ambientales como aporte al mejoramiento al desempeño ambiental. Para el mes de diciembre se validaron las observaciones generadas a los pre informes, se continuo con la verificación de requisitos habilitantes como son cumplimiento en tramites ambientales y reporte de indicadores ambientales en el aplicativo web file de la SDA De acuerdo a lo programado, resultado del acompañamiento empresarial generado por el PREAD y la Estrategia ACERCAR, se reporta un avance consolidado de 50 proyectos dirigidos al mejoramiento ambiental (27 proyectos desarrollados por las empresas participantes en la estrategia ACERCAR y 23 por las empresas postuladas y auditadas en el PREAD).
F18: Ejecutado | M18: 0 | N18: 0.1 | O18: 0.2 | P18: 0.3 | Q18: 0.3 | R18: 0.1 | S18: =SUM(G18:R18) -> 1
C19: 6.Desarrollar las actividades programadas en cada convocatoria del Programa de Excelencia Ambiental Distrital - PREAD. | D19: X | F19: Programado | M19: 0 | N19: 0.1 | O19: 0.2 | P19: 0.3 | Q19: 0.3 | R19: 0.1 | S19: =SUM(G19:R19) -> 1 | U19: 0.05 | V19: El Programa de Excelencia Ambiental Distrital (PREAD) desarrolla la XX convocatoria del año 2020, compone su operación a través de varias etapas: postulación, verificación, notificación, planeación, ejecución, revisión, validación y final con la entrega de informes y reconocimiento. En el mes de diciembre se realizó la XX ceremonia de reconocimiento virtual, en la que se reconocieron a 206 empresas por su gestión y desempeño ambiental. De acuerdo a lo programado, resultado del acompañamiento empresarial generado por el PREAD y la Estrategia ACERCAR, se reporta un avance consolidado de 50 proyectos dirigidos al mejoramiento ambiental (27 proyectos desarrollados por las empresas participantes en la estrategia ACERCAR y 23 por las empresas postuladas y auditadas en el PREAD).
F20: Ejecutado | M20: 0 | N20: 0.1 | O20: 0.2 | P20: 0.3 | Q20: 0.3 | R20: 0.1 | S20: =SUM(G20:R20) -> 1
B21: Acompañar y promover a 100 empresas en el proceso de verificación de los criterios de Negocios verdes. | C21: 7. Diseño de estrategias para los negocios verdes. | D21: X | F21: Programado | M21: 0.05 | N21: 0.1 | O21: 0.2 | P21: 0.25 | Q21: 0.25 | R21: 0.15 | S21: =SUM(G21:R21) -> 1 | T21: 0.1 | U21: 0.0333 | V21: Se llevó a cabo la campaña de anchetas verdes con los productos de los negocios, para ello se gestionó el desarrollo de diferentes campañas en los medios de comunicación de la Secretaría Distrital de Ambiente.
F22: Ejecutado | M22: 0.05 | N22: 0.1 | O22: 0.2 | P22: 0.25 | Q22: 0.25 | R22: 0.15 | S22: =SUM(G22:R22) -> 1
C23: 8. Realizar el acompañamiento en el proceso de fortalecimiento de negocios verdes | D23: X | F23: Programado | M23: 0.05 | N23: 0.15 | O23: 0.2 | P23: 0.2 | Q23: 0.2 | R23: 0.2 | S23: =SUM(G23:R23) -> 1 | U23: 0.0333 | V23: Se realizó un proceso de acompañamiento, consistente en la charla introductoria de la convocatoria Impulsa para la generación de una solución innovadora que fortalezca el proceso empresarial de los NV participantes en ésta.
F24: Ejecutado | M24: 0.05 | N24: 0.15 | O24: 0.2 | P24: 0.2 | Q24: 0.2 | R24: 0.2 | S24: =SUM(G24:R24) -> 1
C25: 9. Verificación y seguimiento a los criterios de negocios verdes. | D25: X | F25: Programado | M25: 0.05 | N25: 0.15 | O25: 0.2 | P25: 0.2 | Q25: 0.2 | R25: 0.2 | S25: =SUM(G25:R25) -> 1 | U25: 0.0333 | V25: Se realizaron 6 seguimientos a los negocios verdes verificados, con el fin, de brindarles oportunidades de mejora en los diferentes criterios que componen el puntaje de negocio verde.
F26: Ejecutado | M26: 0.05 | N26: 0.15 | O26: 0.2 | P26: 0.2 | Q26: 0.2 | R26: 0.2 | S26: =SUM(G26:R26) -> 1
B27: Desarrollar 6 proyectos pilotos de economía circular en sectores productivos priorizados | C27: 10. Diseño de los proyectos de economía circular. | D27: X | F27: Programado | M27: 0.05 | N27: 0.15 | O27: 0.2 | P27: 0.2 | Q27: 0.2 | R27: 0.2 | S27: =SUM(G27:R27) -> 1 | T27: 0.1 | U27: 0.0333 | V27: Se genera el documento de formulación del proyecto de laboratorio de economía circular para las empresas.
F28: Ejecutado | M28: 0.05 | N28: 0.15 | O28: 0.2 | P28: 0.2 | Q28: 0.2 | R28: 0.2 | S28: =SUM(G28:R28) -> 1
C29: 11. Realizar el acompañamiento de los procesos de promoción de los proyectos. | D29: X | F29: Programado | M29: 0.05 | N29: 0.15 | O29: 0.2 | P29: 0.2 | Q29: 0.2 | R29: 0.2 | S29: =SUM(G29:R29) -> 1 | U29: 0.0333 | V29: Como parte del proceso de acompañamiento, se realizó el reconocimiento a las empresas que se destacaron por sus avances en los proyectos de economía circular y sostenibilidad energética en la ceremonia virtual del PREAD el 01 de diciembre de 2020.
F30: Ejecutado | M30: 0.05 | N30: 0.15 | O30: 0.2 | P30: 0.2 | Q30: 0.2 | R30: 0.2 | S30: =SUM(G30:R30) -> 1
C31: 12. Presentación de informes de avance en los proyectos | D31: X | F31: Programado | M31: 0.05 | N31: 0.15 | O31: 0.2 | P31: 0.2 | Q31: 0.2 | R31: 0.2 | S31: =SUM(G31:R31) -> 1 | U31: 0.0334 | V31: Se desarrollaron los informes de avance individuales para las empresas participantes en los proyectos de economía circular y sostenibilidad energética.
F32: Ejecutado | M32: 0.05 | N32: 0.15 | O32: 0.2 | P32: 0.2 | Q32: 0.2 | R32: 0.2 | S32: =SUM(G32:R32) -> 1
