Workbook

Sheet GESTIÓN
G2: DIRECCIONAMIENTO ESTRATÉGICO
G3: Formato: Programación, Actualización y Seguimiento del Plan de Acción - Componente de gestión
G4: Código: PE01-PR02-F2 | ET4: Versión : 14
A5: DEPENDENCIA: | G5: DIRECCIÓN DE GESTIÓN CORPORATIVA
A6: CÓDIGO Y NOMBRE PROYECTO: | G6: 7816- Construcción de Espacios de calidad para el Sector Ambiental Bogotá
A7: Propósito Plan de Desarrollo | G7: 5-Construir Bogotá Región con gobierno abierto, transparente y ciudadanía consciente.
A8: Programa Plan de Desarrollo | G8: 56-Gestión Pública Efectiva
A10: 1. ESTRUCTURA DEL PLAN DE DESARROLLO | J10: 2. PROGRAMACIÓN Y EJECUCIÓN | ET10: 3, % CUMPLIMIENTO (En el periodo) | EU10: 4, % CUMPLIMIENTO ACUMULADO (al periodo) | EV10: 5, % CUMPLIMIENTO ACUMULADO (Vigencia) SEGPLAN | EW10: 6, % CUMPLIMIENTO ACUMULADO (al periodo) cuatrienio | EX10: 7 ,% DE AVANCE CUATRIENIO | EY10: 8, DESCRIPCIÓN DE LOS AVANCES Y LOGROS ALCANZADOS | EZ10: 9, RETRASOS | FA10: 10, SOLUCIONES PLANTEADAS | FB10: 11, BENEFICIOS O RESULTADOS A LA POBLACIÓN | FC10: 12, FUENTE DE EVIDENCIAS
A11: 1.1. META PLAN DE DESARROLLO | J11: AÑO 2020 | AD11: AÑO 2021 | BH11: AÑO 2022 | CL11: AÑO 2023 | DP11: AÑO 2024
A12: 1.1.1. Propósito | B12: 1.1.2. Programa | C12: 1.1.3. COD. | D12: 1.1.4. META PLAN DE DESARROLLO | E12: 1.1.5. COD. | F12: 1.1.6. INDICADOR | G12: 1.1.7.UNIDAD DE MEDIDA | H12: 1.1.8. TIPOLOGÍA | I12: 1.1.9. MAGNITUD PD | J12: REPROGRAMACIÓN VIGENCIA (VALOR INICIAL) | K12: PROGRAMADO JUN. | L12: EJECUTADO JUN. | M12: PROGRAMADO JUL. | N12: EJECUTADO JUL. | O12: PROGRAMADO AGO. | P12: EJECUTADO AGO. | Q12: PROGRAMADO SEP. | R12: EJECUTADO SEP. | S12: PROGRAMADO OCT. | T12: EJECUTADO OCT. | U12: PROGRAMADO NOV. | V12: EJECUTADO NOV. | W12: PROGRAMADO DIC. | X12: EJECUTADO DIC. | Y12: PROGRAMADO VALOR ABSOLUTO VIGENCIA | Z12: PROGRAMADO ACUMULADO AL PERIODO AÑO 2020 | AA12: EJECUTADO ACUMUALDO AL PERIODO AÑO 2020 | AB12: PROGRAMADO ACUMULADO SEGPLAN AÑO 2020 | AC12: EJECUTADO ACUMUALDO SEGPLAN AÑO 2020 | AD12: REPROGRAMACIÓN VIGENCIA (VALOR INICIAL) | AE12: PROGRAMADO ENE. | AF12: EJECUTADO ENE. | AG12: PROGRAMADO FEB. | AH12: EJECUTADO FEB. | AI12: PROGRAMADO MAR. | AJ12: EJECUTADO MAR. | AK12: PROGRAMADO ABR. | AL12: EJECUTADO ABR. | AM12: PROGRAMADO MAY. | AN12: EJECUTADO MAY. | AO12: PROGRAMADO JUN. | AP12: EJECUTADO JUN. | AQ12: PROGRAMADO JUL. | AR12: EJECUTADO JUL. | AS12: PROGRAMADO AGO. | AT12: EJECUTADO AGO. | AU12: PROGRAMADO SEP. | AV12: EJECUTADO SEP. | AW12: PROGRAMADO OCT. | AX12: EJECUTADO OCT. | AY12: PROGRAMADO NOV. | AZ12: EJECUTADO NOV. | BA12: PROGRAMADO DIC. | BB12: EJECUTADO DIC. | BC12: PROGRAMADO VALOR ABSOLUTO VIGENCIA | BD12: PROGRAMADO ACUMULADO AL PERIODO AÑO 2021 | BE12: EJECUTADO ACUMUALDO AL PERIODO AÑO 2021 | BF12: PROGRAMADO ACUMULADO SEGPLAN AÑO 2021 | BG12: EJECUTADO ACUMUALDO SEGPLAN AÑO 2021 | BH12: REPROGRAMACIÓN VIGENCIA (VALOR INICIAL) | BI12: PROGRAMADO ENE. | BJ12: EJECUTADO ENE. | BK12: PROGRAMADO FEB. | BL12: EJECUTADO FEB. | BM12: PROGRAMADO MAR. | BN12: EJECUTADO MAR. | BO12: PROGRAMADO ABR. | BP12: EJECUTADO ABR. | BQ12: PROGRAMADO MAY. | BR12: EJECUTADO MAY. | BS12: PROGRAMADO JUN. | BT12: EJECUTADO JUN. | BU12: PROGRAMADO JUL. | BV12: EJECUTADO JUL. | BW12: PROGRAMADO AGO. | BX12: EJECUTADO AGO. | BY12: PROGRAMADO SEP. | BZ12: EJECUTADO SEP. | CA12: PROGRAMADO OCT. | CB12: EJECUTADO OCT. | CC12: PROGRAMADO NOV. | CD12: EJECUTADO NOV. | CE12: PROGRAMADO DIC. | CF12: EJECUTADO DIC. | CG12: PROGRAMADO VALOR ABSOLUTO VIGENCIA | CH12: PROGRAMADO ACUMULADO AL PERIODO AÑO 2022 | CI12: EJECUTADO ACUMUALDO AL PERIODO AÑO 2022 | CJ12: PROGRAMADO ACUMULADO SEGPLAN AÑO 2022 | CK12: EJECUTADO ACUMUALDO SEGPLAN AÑO 2022 | CL12: REPROGRAMACIÓN VIGENCIA (VALOR INICIAL) | CM12: PROGRAMADO ENE. | CN12: EJECUTADO ENE. | CO12: PROGRAMADO FEB. | CP12: EJECUTADO FEB. | CQ12: PROGRAMADO MAR. | CR12: EJECUTADO MAR. | CS12: PROGRAMADO ABR. | CT12: EJECUTADO ABR. | CU12: PROGRAMADO MAY. | CV12: EJECUTADO MAY. | CW12: PROGRAMADO JUN. | CX12: EJECUTADO JUN. | CY12: PROGRAMADO JUL. | CZ12: EJECUTADO JUL. | DA12: PROGRAMADO AGO. | DB12: EJECUTADO AGO. | DC12: PROGRAMADO SEP. | DD12: EJECUTADO SEP. | DE12: PROGRAMADO OCT. | DF12: EJECUTADO OCT. | DG12: PROGRAMADO NOV. | DH12: EJECUTADO NOV. | DI12: PROGRAMADO DIC. | DJ12: EJECUTADO DIC. | DK12: PROGRAMADO VALOR ABSOLUTO VIGENCIA | DL12: PROGRAMADO ACUMULADO AL PERIODO AÑO 2023 | DM12: EJECUTADO ACUMUALDO AL PERIODO AÑO 2023 | DN12: PROGRAMADO ACUMULADO SEGPLAN AÑO 2023 | DO12: EJECUTADO ACUMUALDO SEGPLAN AÑO 2023 | DP12: REPROGRAMACIÓN VIGENCIA (VALOR INICIAL) | DQ12: PROGRAMADO ENE. | DR12: EJECUTADO ENE. | DS12: PROGRAMADO FEB. | DT12: EJECUTADO FEB. | DU12: PROGRAMADO MAR. | DV12: EJECUTADO MAR. | DW12: PROGRAMADO ABR. | DX12: EJECUTADO ABR. | DY12: PROGRAMADO MAY. | DZ12: EJECUTADO MAY. | EA12: PROGRAMADO JUN. | EB12: EJECUTADO JUN. | EC12: PROGRAMADO JUL. | ED12: EJECUTADO JUL. | EE12: PROGRAMADO AGO. | EF12: EJECUTADO AGO. | EG12: PROGRAMADO SEP. | EH12: EJECUTADO SEP. | EI12: PROGRAMADO OCT. | EJ12: EJECUTADO OCT. | EK12: PROGRAMADO NOV. | EL12: EJECUTADO NOV. | EM12: PROGRAMADO DIC. | EN12: EJECUTADO DIC. | EO12: PROGRAMADO VALOR ABSOLUTO VIGENCIA | EP12: PROGRAMADO ACUMULADO AL PERIODO AÑO 2024 | EQ12: EJECUTADO ACUMUALDO AL PERIODO AÑO 2024 | ER12: PROGRAMADO ACUMULADO SEGPLAN AÑO 2024 | ES12: EJECUTADO ACUMUALDO SEGPLAN AÑO 2024
A13: 5 | B13: 56 | C13: 538 | D13: Realizar el 100% de las acciones de mejoramiento de la infraestructura física de la SDA y JBB | E13: 587 | F13: Porcentaje de avance en las acciones de mejoramiento la infraestructura física | G13: Porcentaje | H13: suma | I13: 1 | J13: 0.4 | M13: 0.4 | N13: 0 | O13: 0.4 | P13: 0.03 | Q13: 0.4 | R13: 0.09 | S13: 0.4 | T13: 0.13 | U13: 0.4 | V13: 0.14 | W13: 0.4 | X13: 0.35579769 | Y13: =+W13 -> 0.4 | Z13: =+Y13 -> 0.4 | AA13: =+X13 -> 0.35579769 | AB13: =+Z13 -> 0.4 | AC13: =+AA13 -> 0.35579769 | AD13: =39%+4.42% -> 0.4342 | AE13: 0 | AF13: 0 | AG13: 0.0004 | AH13: 0.0004 | AI13: 0.0105 | AJ13: 0.0105 | AK13: 0.0047 | AL13: 0.0047 | AM13: 0.0149 | AN13: 0.0111 | AO13: 0.0161 | AP13: 0.0102 | AQ13: 0.01732338 | AR13: 0.0108 | AS13: 0.0309 | AT13: 0.0227 | AU13: 0.0426 | AV13: 0.015 | AW13: =11.61%+7.98% -> 0.1959 | AX13: 0.1188 | AY13: 0.0553 | AZ13: 0.0122 | BA13: 0.0456 | BB13: 0.0317 | BC13: =+AE13+AG13+AI13+AK13+AM13+AO13+AQ13+AS13+AU13+AW13+AY13+BA13 -> 0.43422338 | BD13: =+AE13+AG13+AI13+AK13+AM13+AO13+AQ13+AS13+AU13+AW13+AY13+BA13 -> 0.43422338 | BE13: =+AF13+AH13+AJ13+AL13+AN13+AP13+AR13+AT13+AV13+AX13+AZ13+BB13 -> 0.2481 | BF13: =BC13 -> 0.43422338 | BG13: =AF13+AH13+AJ13+AL13+AN13+AP13+AR13+AT13+AV13+AX13+AZ13+BB13 -> 0.2481 | BH13: 0.3061 | BI13: 0 | BJ13: 0 | BK13: 0.0154 | BL13: 0.0058 | BM13: 0.0173 | BN13: 0.0108 | BO13: 0.0195 | BP13: 0.0044 | BQ13: 0.0252 | BR13: 0.0039 | BS13: 0.0252 | BT13: 0.0097 | BU13: 0.034 | BV13: 0.0107 | BW13: 0.034 | BX13: 0.0206 | BY13: 0.034 | BZ13: 0.0015 | CA13: 0.0316 | CB13: 0.0015 | CC13: 0.0362 | CD13: 0.0077 | CE13: 0.0337 | CF13: 0.0047 | CG13: =+BI13+BK13+BM13+BO13+BQ13+BS13+BU13+BW13+BY13+CA13+CC13+CE13 -> 0.3061 | CH13: =BI13+BK13+BM13+BO13+BQ13+BS13+BU13+BW13+BY13+CA13+CC13+CE13 -> 0.3061 | CI13: =BJ13+BL13+BN13+BP13+BR13+BT13+BV13+BX13+BZ13+CB13+CD13+CF13 -> 0.0813 | CJ13: =BI13+BK13+BM13+BO13+BQ13+BS13+BU13+BW13+BY13+CA13+CC13+CE13 -> 0.3061 | CK13: =BJ13+BL13+BN13+BP13+BR13+BT13+BV13+BX13+BZ13+CB13+CD13+CF13 -> 0.0813 | CL13: 0.3048 | CM13: 0 | CN13: 0 | CO13: 0.0001 | CP13: 0.0001 | CQ13: 0.0001 | CR13: 0.0001 | CS13: 0.0076 | CT13: 0.0005 | CU13: 0.0076 | CV13: 0.0005 | CW13: 0.0196 | CX13: 0.0194 | CY13: 0.0419 | CZ13: =2.47%-2.06% -> 0.0041 | DA13: 0.0419 | DB13: 0.0018 | DC13: 0.0465 | DD13: 0.0024 | DE13: 0.0465 | DG13: 0.0465 | DI13: 0.0417 | DK13: =+CM13+CO13+CQ13+CS13+CU13+CW13+CY13+DA13+DC13+DE13+DG13+DI13 -> 0.3 | DL13: =CM13+CO13+CQ13+CS13+CU13+CW13+CY13+DA13 -> 0.1188 | DM13: =CN13+CP13+CR13+CT13+CV13+CX13+CZ13+DB13+DD13+DF13+DH13 -> 0.0289 | DN13: =CM13+CO13+CQ13+CS13+CU13+CW13+CY13+DA13+DC13+DE13+DG13+DI13 -> 0.3 | DO13: =CN13+CP13+CR13+CT13+CV13+CX13+CZ13+DB13+DD13+DF13+DH13+DJ13 -> 0.0289 | DP13: 0.0148 | ET13: =DD13/DC13 -> 0.051612903 | EU13: =DM13/DL13 -> 0.24326599 | EV13: =DO13/DN13 -> 0.096333333 | EW13: =(AC13+BG13+CK13+DM13)/(AB13+BF13+CJ13+DL13) -> 0.56713877 | EX13: =(AC13+BG13+CK13+DO13)/I13 -> 0.71409769 | EY13: El avance acumulado al Plan de Desarrollo es 71,41%, el cual se detalla a continuación: En 2020 tuvo un avance del 35,58%, así: 1. Avance total acumulado del 57.76% en la obra de la Casa ecológica de los animales-CEA 2. Se culminó la obra Centro de Atención y Valoración de Flora y Fauna Silvestre-CAVFFS 3. Se culminaron las actividades de mantenimiento a la infraestructura priorizada. En la vigencia 2021 se avanzó en un 24,81%, así: 1. La obra CEA presentó un avance total de obra acumulado del 62,360%. 2. Se suscribe el acta de recibo final y de liquidación de la obra CAVFFS. 3. Se suscribió el contrato No. 20211595 para construir la Fase II del CAVFFS, por lo que se aprueba cronograma, manual operativo y se presenta para viabilidad los predios conforme a usos y normatividad. 4. Se suscribe el contrato de obra de mantenimiento a la firma Gestión Rural y Urbana SAS. 5. Se suscribe el contrato de obra de adecuaciones a la firma Consorcio Amarillo 2022. En la vigencia 2022 se avanza en un 8,13%, así: 1. Termina el contrato de obra CEA con un avance acumulado total del 62,926%, por lo que se suscribe contrato No. 20221996 para la asistencia técnica y financiera de la etapa final de la obra. 2. Se suscriben las actas de liquidación del contrato de obra e interventoría del CAVFFS. 3. II CAVFFS: Findeter realiza una revisión de más de 100 lotes, teniendo en cuenta su área, su ubicación, y la facilidad de acceso y la SDP envía respuesta por concepto de uso del suelo donde reiteran la viabilidad y se aprueba un predio por parte del DADEP. Por lo que, se inicia con el proceso de consultoría y obra. 4. Se ejecutan total las obras de mantenimiento de Infraestructura programadas. 5. Se termina el contrato de adecuaciones de infraestructura sin concluir las actividades programadas, por lo que se inicia proceso de incumplimiento al contratista de obra. En la vigencia 2023 se avanza en un 2,89%, así: 1. La obra del CEA presenta un avance de obra del 6,81% 2. El contratista de la primera etapa de la construcción de la II Fase del CAVFFS avanza un 87% | EZ13: -Concepto no favorable de la Curaduría urbana para el uso del suelo, después de que la SDP expidió concepto favorable el 18/07/2022 sobre el cual se adelantaron los procesos de contratación de la II Fase del CAVFFS, por lo cual, el contrato actualmente se encuentra suspendido -Retraso en la estructuración del proceso de contratación de mantenimiento y adecuaciones, debido a la complejidad en la consolidacion de los requirimientos tecnicos conforme al estado actual de las sedes de la SDA. | FA13: Radicación de requerimientos a la Secretaria de Planeacion Distrital en el mes de octubre, como seguimiento al concepto favorable de uso del suelo para la obra II Fase CAVFFS. - Agilizar el proceso precontractual y una vez se suscriba el contrato de mantenimiento y adecuaciones, ajustar los cronogramas de obra con el fin de cumplir con la totalidad de las actividades programadas. | FB13: Casa Ecológica de los animales – CEA: Con la construcción de este centro, la SDA contribuirá a los objetivos estratégicos y de calidad, relacionados con el incremento de la capacidad técnica, administrativa y el conocimiento, permitiendo asegurar el éxito de procesos de recepción, atención, alojamiento, etología, adopción o reintegro de los animales objeto de este proyecto. Centro de Recepción y Rehabilitación de Flora y Fauna Silvestre - CRRFFS: Los avances registrados en el cumplimiento de la meta permiten a la ciudad contar con un Centro integral con el medio ambiente, buscando ser el primer referente del país en materia de manejo, recepción y rehabilitación de fauna silvestre, con instalaciones de vanguardia, con tecnologías aplicadas que permiten asegurar el éxito de procesos de rehabilitación y manejo, optimización del recurso no renovable del suelo y un aporte ambiental utilizando conceptos de eco-urbanismo. Obra nueva de Infraestructura: Con la ejecución de las actividades se da inicio al proceso de construcción de un espacio para la guarda y custodia de las maderas aprehendidas o decomisadas por la Secretaria Distrital de Ambiente, acción adelantada para proteger y conservar el recurso flora, buscando su comercialización legal, disminuyendo así la presión sobre el recurso, permitiendo a la comunidad el goce y disfrute de los ecosistemas en las condiciones adecuadas. Mantenimiento de la Infraestructura Ambiental Priorizada en la Secretaría Distrital de Ambiente: Prevención y corrección a deterioros en la infraestructura de la Secretaría Distrital de Ambiente, brindando así espacios seguros y de calidad para los servidores y usuarios de la SDA. | FC13: Drive: https://drive.google.com/drive/folders/11QXDuCJrB3c846ikSuTK5AynVxt_hNO5?usp=share_link _ Acta de adjudicación del contrato de consultoría y obra. _ Acta de adjudicación del contrato de interventoría. _ Acta de reunión del 15 de febrero de 2023.
A14: 5 | B14: 56 | C14: 538 | D14: Realizar el 100% de las acciones de mejoramiento de la infraestructura física de la SDA y JBB | E14: 703 | F14: Porcentaje de avance físico del proyecto financiado con regalías denominado "Centro de Flora y Fauna" | G14: Porcentaje | H14: suma | I14: 0.168 | Y14: =+W14 -> 0 | Z14: =+Y14 -> 0 | AA14: =+X14 -> 0 | AB14: =+Z14 -> 0 | AC14: =+AA14 -> 0 | AD14: 0.168 | AE14: 0 | AF14: 0 | AG14: 0 | AH14: 0 | AI14: 0 | AJ14: 0 | AK14: 0 | AL14: 0 | AM14: 0 | AN14: 0 | AO14: 0 | AP14: 0 | AQ14: 0 | AR14: 0 | AS14: 0 | AT14: 0 | AU14: 0 | AV14: 0 | AW14: 0 | AX14: 0 | AY14: 0 | AZ14: 0 | BA14: 0.168 | BB14: 0.1512 | BC14: =+AE14+AG14+AI14+AK14+AM14+AO14+AQ14+AS14+AU14+AW14+AY14+BA14 -> 0.168 | BD14: =+AE14+AG14+AI14+AK14+AM14+AO14+AQ14+AS14+AU14+AW14+AY14+BA14 -> 0.168 | BE14: =+AF14+AH14+AJ14+AL14+AN14+AP14+AR14+AT14+AV14+AX14+AZ14+BB14 -> 0.1512 | BF14: =BC14 -> 0.168 | BG14: =AF14+AH14+AJ14+AL14+AN14+AP14+AR14+AT14+AV14+AX14+AZ14+BB14 -> 0.1512 | BH14: =+BD14-BE14 -> 0.0168 | BI14: 0 | BJ14: 0 | BK14: 0.008 | BL14: 0.008 | BM14: 0.0088 | BN14: 0.0044 | BO14: 0 | BP14: 0.004 | BQ14: 0 | BR14: 0.0004 | BS14: 0 | BT14: 0 | BU14: 0 | BV14: 0 | BW14: 0 | BX14: 0 | BY14: 0 | BZ14: 0 | CA14: 0 | CC14: 0 | CD14: 0 | CE14: 0 | CF14: 0 | CG14: =+BI14+BK14+BM14+BO14+BQ14+BS14+BU14+BW14+BY14+CA14+CC14+CE14 -> 0.0168 | CH14: =BI14+BK14+BM14+BO14+BQ14+BS14+BU14+BW14+BY14+CA14+CC14 -> 0.0168 | CI14: =BJ14+BL14+BN14+BP14+BR14+BT14+BV14+BX14+BZ14+CB14+CD14 -> 0.0168 | CJ14: =BI14+BK14+BM14+BO14+BQ14+BS14+BU14+BW14+BY14+CA14+CC14+CE14 -> 0.0168 | CK14: =BJ14+BL14+BN14+BP14+BR14+BT14+BV14+BX14+BZ14+CB14+CD14+CF14 -> 0.0168 | CL14: 0 | CM14: 0 | CN14: 0 | CO14: 0 | CP14: 0 | CQ14: 0 | CR14: 0 | CS14: 0 | CT14: 0 | CU14: 0 | CV14: 0 | CW14: 0 | CX14: 0 | CY14: 0 | CZ14: 0 | DA14: 0 | DB14: 0 | DC14: 0 | DD14: 0 | DE14: 0 | DF14: 0 | DG14: 0 | DH14: 0 | DI14: 0 | DJ14: 0 | DK14: =+CM14+CO14+CQ14+CS14+CU14+CW14+CY14+DA14+DC14+DE14+DG14+DI14 -> 0 | DL14: =CM14+CO14+CQ14+CS14+CU14+CW14+CY14+DA14+DC14+DE14+DG14 -> 0 | DM14: =CN14+CP14+CR14+CT14+CV14+CX14+CZ14+DB14+DD14+DF14+DH14 -> 0 | DN14: =CM14+CO14+CQ14+CS14+CU14+CW14+CY14+DA14+DC14+DE14+DG14+DI14 -> 0 | DO14: =CN14+CP14+CR14+CT14+CV14+CX14+CZ14+DD14+DF14+DH14+DJ14 -> 0 | DP14: 0 | ET14: =IFERROR(DD14/DC14,0) -> 0 | EU14: =IFERROR(DM14/DL14,0) -> 0 | EV14: =IFERROR(DO14/DN14,0) -> 0 | EW14: =(BG14+CK14)/I14 -> 1 | EX14: =(AC14+BG14+CK14+DO14)/I14 -> 1 | EY14: "El avance acumulado al Plan de Desarrollo es 100%, el cual se detalla a continuación: En la vigencia 2021 se avanzó en un 15,12% en el cumplimiento del indicador, con la ejecución de las siguientes actividades: CENTRO DE ATENCION Y VALORACION DE FLORA Y FAUNA SILVESTRE - CAVFFS: Construir y dotar el Centro de Recepción y Rehabilitación de Flora y Fauna Silvestre, esta obra proporcionara en primera instancia que se dé cumplimiento a los dispuesto en el Decreto 2064 de 2010 referente a la idoneidad de las instalaciones y a su capacidad de atención, lo que garantizara un mejor cobertura de servicios para la fauna silvestre, con el fin de que los tratamientos y demás procesos que en esta se desarrollen contribuyan al completo restablecimiento de las especies que acá lleguen. La Secretaría Distrital de Ambiente suscribió el contrato de obra No. SDA-20171399 con el CONSORCIO REHABILITACIÓN 2017 el 29 de diciembre de 2017 por un plazo total de Dos (2) años, cuatro (4) meses y diez (10) días. Por lo que, en el mes de octubre de 2021 se suscribió el acta de recibo final de la obra CAVFFS con el 100% de ejecución de la obra. En el mes de diciembre de 2021 se suscribió el acta de liquidación de mutuo acuerdo con el Consorcio Rehabilitación 2017 (Contratista de Obra). Por lo que, quedó pendiente el pago final condicionada a la liquidacion del contrato, el cual se realizara en la vigencia 2022. En el mes de febrero y marzo de 2022 se realizan los tramites de liquidacion del contrato de interventoria SDA-CM-20171398 y los traslados presupuestales necesarios para garantizar el cumplimiento de la obligacion por parte de la SDA. En el mes de mayo se realiza giro al contratista de obra conforme a los porcentajes estipulados en la forma de pago del contrato y en la liquidacion. | EZ14: N/A | FA14: N/A | FB14: CENTRO DE ATENCION Y VALORACION DE FLORA Y FAUNA SILVESTRE - CAVFFS: Construir y dotar el Centro de Recepción y Rehabilitación de Flora y Fauna Silvestre, esta obra proporcionara en primera instancia que se dé cumplimiento a los dispuesto en el Decreto 2064 de 2010 referente a la idoneidad de las instalaciones y a su capacidad de atención, lo que garantizara un mejor cobertura de servicios para la fauna silvestre, con el fin de que los tratamientos y demás procesos que en esta se desarrollen contribuyan al completo restablecimiento de las especies que acá lleguen. | FC14: Actas de recibo y liquidacion Link de consulta: https://drive.google.com/drive/folders/1iomgu3hY97WraRp2Sq7UlLSMAoLvh8Kt?usp=sharing
D16: CONTROL DE CAMBIOS
D17: Versión | E17: Descripción de la Modificación | K17: No. Acto Administrativo y fecha
D18: 13 | E18: Se crea hoja de SPI | K18: Radicado 2020IE191541 del 29 de octubre de 2020
D19: 14 | E19: Se agregan en el componente de gestión y de inversión nuevas columnas para establecer más patrones de medición

Sheet INVERSIÓN
F1: DIRECCIONAMIENTO ESTRATÉGICO
F2: Formato: Programación, Actualización y Seguimiento del Plan de Acción - Componente de Inversión
F3: Código: PE01-PR02-F2 | ER3: Versión : 14
A4: DEPENDENCIA: | F4: DIRECCIÓN DE GESTIÓN CORPORATIVA
A5: CÓDIGO Y NOMBRE PROYECTO: | F5: 7816- Construcción de Espacios de calidad para el Sector Ambiental Bogotá
A7: 1, INFORMACIÓN META DE PROYECTO | H7: 2, PROGRAMACIÓN Y EJECUCIÓN | ER7: 3, % CUMPLIMIENTO (En el periodo) | ES7: 4, % CUMPLIMIENTO ACUMULADO (al periodo) | ET7: 5, % CUMPLIMIENTO ACUMULADO (Vigencia) SEGPLAN | EU7: 6, % CUMPLIMIENTO ACUMULADO (al periodo)DEL CUATRIENIO | EV7: 7 ,% DE AVANCE CUATRIENIO | EW7: 8, DESCRIPCIÓN DE LOS AVANCES Y LOGROS ALCANZADOS | EX7: 9, RETRASOS | EY7: 10, SOLUCIONES PLANTEADAS | EZ7: 11, BENEFICIOS O RESULTADOS A LA POBLACIÓN | FA7: 12, FUENTE DE EVIDENCIAS
H8: AÑO 2020 | AB8: AÑO 2021 | BF8: AÑO 2022 | CJ8: AÑO 2023 | DN8: AÑO 2024
A9: 1,1 LÍNEA DE ACCIÓN | B9: 1,2 COD. | C9: 1,3 META | D9: 1,4 TIPOLOGÍA | E9: 1,5 COD. META PDD A QUE SE ASOCIA META PROY | F9: 1,6, VARIABLE REQUERIDA | G9: 1,7, VALOR CUATRIENIO | H9: REPROGRAMACIÓN VIGENCIA (VALOR INICIAL) | I9: PROGRAMADO JUN. | J9: EJECUTADO JUN. | K9: PROGRAMADO JUL. | L9: EJECUTADO JUL. | M9: PROGRAMADO AGO. | N9: EJECUTADO AGO. | O9: PROGRAMADO SEP. | P9: EJECUTADO SEP. | Q9: PROGRAMADO OCT. | R9: EJECUTADO OCT. | S9: PROGRAMADO NOV. | T9: EJECUTADO NOV. | U9: PROGRAMADO DIC. | V9: EJECUTADO DIC. | W9: PROGRAMADO VALOR ABSOLUTO VIGENCIA | X9: PROGRAMADO ACUMULADO AL PERIODO AÑO 2020 | Y9: EJECUTADO ACUMULADO AL PERIODO AÑO 2020 | Z9: PROGRAMADO ACUMULADO SEGPLAN AÑO 2020 | AA9: EJECUTADO ACUMULADO SEGPLAN AÑO 2020 | AB9: REPROGRAMACIÓN VIGENCIA (VALOR INICIAL) | AC9: PROGRAMADO ENE. | AD9: EJECUTADO ENE. | AE9: PROGRAMADO FEB. | AF9: EJECUTADO FEB. | AG9: PROGRAMADO MAR. | AH9: EJECUTADO MAR. | AI9: PROGRAMADO ABR. | AJ9: EJECUTADO ABR. | AK9: PROGRAMADO MAY. | AL9: EJECUTADO MAY. | AM9: PROGRAMADO JUN. | AN9: EJECUTADO JUN. | AO9: PROGRAMADO JUL. | AP9: EJECUTADO JUL. | AQ9: PROGRAMADO AGO. | AR9: EJECUTADO AGO. | AS9: PROGRAMADO SEP. | AT9: EJECUTADO SEP. | AU9: PROGRAMADO OCT. | AV9: EJECUTADO OCT. | AW9: PROGRAMADO NOV. | AX9: EJECUTADO NOV. | AY9: PROGRAMADO DIC. | AZ9: EJECUTADO DIC. | BA9: PROGRAMADO VALOR ABSOLUTO VIGENCIA | BB9: PROGRAMADO ACUMULADO AL PERIODO AÑO 2021 | BC9: EJECUTADO ACUMULADO AL PERIODO AÑO 2021 | BD9: PROGRAMADO ACUMULADO SEGPLAN AÑO 2021 | BE9: EJECUTADO ACUMULADO SEGPLAN AÑO 2021 | BF9: REPROGRAMACIÓN VIGENCIA (VALOR INICIAL) | BG9: PROGRAMADO ENE. | BH9: EJECUTADO ENE. | BI9: PROGRAMADO FEB. | BJ9: EJECUTADO FEB. | BK9: PROGRAMADO MAR. | BL9: EJECUTADO MAR. | BM9: PROGRAMADO ABR. | BN9: EJECUTADO ABR. | BO9: PROGRAMADO MAY. | BP9: EJECUTADO MAY. | BQ9: PROGRAMADO JUN. | BR9: EJECUTADO JUN. | BS9: PROGRAMADO JUL. | BT9: EJECUTADO JUL. | BU9: PROGRAMADO AGO. | BV9: EJECUTADO AGO. | BW9: PROGRAMADO SEP. | BX9: EJECUTADO SEP. | BY9: PROGRAMADO OCT. | BZ9: EJECUTADO OCT. | CA9: PROGRAMADO NOV. | CB9: EJECUTADO NOV. | CC9: PROGRAMADO DIC. | CD9: EJECUTADO DIC. | CE9: PROGRAMADO VALOR ABSOLUTO VIGENCIA | CF9: PROGRAMADO ACUMULADO AL PERIODO AÑO 2022 | CG9: EJECUTADO ACUMULADO AL PERIODO AÑO 2022 | CH9: PROGRAMADO ACUMULADO SEGPLAN AÑO 2022 | CI9: EJECUTADO ACUMULADO SEGPLAN AÑO 2022 | CJ9: REPROGRAMACIÓN VIGENCIA (VALOR INICIAL) | CK9: PROGRAMADO ENE. | CL9: EJECUTADO ENE. | CM9: PROGRAMADO FEB. | CN9: EJECUTADO FEB. | CO9: PROGRAMADO MAR. | CP9: EJECUTADO MAR. | CQ9: PROGRAMADO ABR. | CR9: EJECUTADO ABR. | CS9: PROGRAMADO MAY. | CT9: EJECUTADO MAY. | CU9: PROGRAMADO JUN. | CV9: EJECUTADO JUN. | CW9: PROGRAMADO JUL. | CX9: EJECUTADO JUL. | CY9: PROGRAMADO AGO. | CZ9: EJECUTADO AGO. | DA9: PROGRAMADO SEP. | DB9: EJECUTADO SEP. | DC9: PROGRAMADO OCT. | DD9: EJECUTADO OCT. | DE9: PROGRAMADO NOV. | DF9: EJECUTADO NOV. | DG9: PROGRAMADO DIC. | DH9: EJECUTADO DIC. | DI9: PROGRAMADO VALOR ABSOLUTO VIGENCIA | DJ9: PROGRAMADO ACUMULADO AL PERIODO AÑO 2023 | DK9: EJECUTADO ACUMULADO AL PERIODO AÑO 2023 | DL9: PROGRAMADO ACUMULADO SEGPLAN AÑO 2023 | DM9: EJECUTADO ACUMULADO SEGPLAN AÑO 2023 | DN9: REPROGRAMACIÓN VIGENCIA (VALOR INICIAL) | DO9: PROGRAMADO ENE. | DP9: EJECUTADO ENE. | DQ9: PROGRAMADO FEB. | DR9: EJECUTADO FEB. | DS9: PROGRAMADO MAR. | DT9: EJECUTADO MAR. | DU9: PROGRAMADO ABR. | DV9: EJECUTADO ABR. | DW9: PROGRAMADO MAY. | DX9: EJECUTADO MAY. | DY9: PROGRAMADO JUN. | DZ9: EJECUTADO JUN. | EA9: PROGRAMADO JUL. | EB9: EJECUTADO JUL. | EC9: PROGRAMADO AGO. | ED9: EJECUTADO AGO. | EE9: PROGRAMADO SEP. | EF9: EJECUTADO SEP. | EG9: PROGRAMADO OCT. | EH9: EJECUTADO OCT. | EI9: PROGRAMADO NOV. | EJ9: EJECUTADO NOV. | EK9: PROGRAMADO DIC. | EL9: EJECUTADO DIC. | EM9: PROGRAMADO VALOR ABSOLUTO VIGENCIA | EN9: PROGRAMADO ACUMULADO AL PERIODO AÑO 2024 | EO9: EJECUTADO ACUMULADO AL PERIODO AÑO 2024 | EP9: PROGRAMADO ACUMULADO SEGPLAN AÑO 2024 | EQ9: EJECUTADO ACUMULADO SEGPLAN AÑO 2024
A10: Infraestructura física | B10: 1 | C10: Construir el 32% del Centro de Protección y Bienestar Animal - Casa ecológica de los animales | D10: suma | E10: 538 | F10: MAGNITUD FÍSICA | G10: =AA10+BE10+CI10+DL10+DN10 -> 0.3049 | H10: 0.32 | K10: 0.32 | L10: 0,002% | M10: 0.32 | N10: 0,015% | O10: 0.32 | P10: 0.03 | Q10: 0.32 | R10: 0.03 | S10: 0.32 | T10: 0.03 | U10: 0.24 | V10: 0.24 | W10: =+U10 -> 0.24 | X10: =+U10 -> 0.24 | Y10: =+V10 -> 0.24 | Z10: =+X10 -> 0.24 | AA10: =+Y10 -> 0.24 | AB10: 0 | AC10: 0 | AD10: 0 | AE10: 0 | AF10: 0 | AG10: 0 | AH10: 0 | AI10: 0 | AJ10: 0 | AK10: 0 | AL10: 0 | AM10: 0 | AN10: 0 | AO10: 0 | AP10: 0 | AQ10: 0 | AR10: 0 | AS10: 0 | AT10: 0 | AU10: 0 | AV10: 0 | AW10: 0 | AX10: 0 | AY10: 0 | AZ10: 0 | BA10: =+AC10+AE10+AG10+AI10+AK10+AM10+AO10+AQ10+AS10+AU10+AW10+AY10 -> 0 | BB10: =+AC10+AE10+AG10+AI10+AK10+AM10+AO10+AQ10+AS10+AU10+AW10+AY10 -> 0 | BC10: =+AD10+AF10+AH10+AJ10+AL10+AN10+AP10+AR10+AT10+AV10+AX10+AZ10 -> 0 | BD10: =+AC10+AE10+AG10+AI10+AK10+AM10+AO10+AQ10+AS10+AU10+AW10+AY10 -> 0 | BE10: =+AD10+AF10+AH10+AJ10+AL10+AN10+AP10+AR10+AT10+AV10+AX10+AZ10 -> 0 | BF10: 0 | BG10: 0 | BH10: 0 | BI10: 0 | BJ10: 0 | BK10: 0 | BL10: 0 | BM10: 0 | BN10: 0 | BO10: 0 | BP10: 0 | BQ10: 0 | BR10: 0 | BS10: 0 | BT10: 0 | BU10: 0 | BV10: 0 | BW10: 0 | BX10: 0 | BY10: 0 | BZ10: 0 | CA10: 0 | CB10: 0 | CC10: 0 | CD10: 0 | CE10: =+BG10+BI10+BK10+BM10+BO10+BQ10+BS10+BU10+BW10+BY10+CA10+CC10 -> 0 | CF10: =BG10+BI10+BK10+BM10+BO10+BQ10+BS10+BU10+BW10+BY10+CA10+CC10 -> 0 | CG10: =BH10+BJ10+BL10+BN10+BP10+BR10+BT10+BV10+BX10+BZ10+CB10+CD10 -> 0 | CH10: =BG10+BI10+BK10+BM10+BO10+BQ10+BS10+BU10+BW10+BY10+CA10+CC10 -> 0 | CI10: =BH10+BJ10+BL10+BN10+BP10+BR10+BT10+BV10+BX10+BZ10+CB10+CD10 -> 0 | CJ10: 0.0649 | CK10: 0 | CL10: 0 | CM10: 0 | CN10: 0 | CO10: 0 | CP10: 0 | CQ10: 0 | CR10: 0 | CS10: 0 | CT10: 0 | CU10: 0 | CV10: 0 | CW10: 0.0108 | CX10: 0 | CY10: 0.0108 | CZ10: 0.0063 | DA10: 0.0108 | DB10: 0.0079 | DC10: 0.0108 | DE10: 0.0108 | DG10: 0.007 | DI10: =+CK10+CM10+CO10+CQ10+CS10+CU10+CW10+CY10+DA10+DC10+DE10+DG10 -> 0.061 | DJ10: =CK10+CM10+CO10+CQ10+CS10+CU10+CW10+CY10+DA10 -> 0.0324 | DK10: =CL10+CN10+CP10+CR10+CT10+CV10+CX10+CZ10+DB10+DD10+DF10+DH10 -> 0.0142 | DL10: =CK10+CM10+CO10+CQ10+CS10+CU10+CW10+CY10+DA10+DC10+DE10+DG10 -> 0.061 | DM10: =CL10+CN10+CP10+CR10+CT10+CV10+CX10+CZ10+DB10+DD10+DF10+DH10 -> 0.0142 | DN10: 0.0039 | ER10: =DB10/DA10 -> 0.73148148 | ES10: =IFERROR(DK10/DJ10,0) -> 0.4382716 | ET10: =DM10/DL10 -> 0.23278689 | EU10: =(AA10+BE10+CI10+DK10)/(Z10+BD10+CH10+DJ10) -> 0.93318649 | EV10: =(AA10+BE10+CI10+DM10)/G10 -> 0.83371597 | EW10: El avance acumulado del plan de desarrollo es del 84% (26,93%) y corresponde al avance físico ponderado de la obra; Casa Ecológica de los Animales - CEA. A la fecha presenta una ejecución física del 6,81% de la obra. A continuación, se presenta la gestión realizada en el marco de la ejecución del contrato interadministrativo No. SDA-20221996, con las siguientes actividades: - Findeter adelantó la convocatoria pública No. PAF-ATSDA-O-021-2023, cuyo cierre se estableció para el 21 de abril. En esta ocasión, se contó con la participación de 4 proponentes. El 27 de abril, se publicó informe de evaluación de requisitos habilitantes. -El 12 de mayo, se llevó a cabo Comité Fiduciario Extraordinario para adjudicar los procesos, en los siguientes términos: Adjudicación de la obra al CONSORCIO JFIGC FUNZA, por un valor de $16.197.359.020; Adjudicación de la interventoría CONSORCIO GC 012 $542.306.560. -El 24 de mayo se adelantó visita al CAV, con participación de los adjudicatarios, IDIPYBA, Findeter y la SDA, con el propósito de realizar presentación formal. -El 14 de junio se suscribieron los contratos No.111259-001-2023 (obra) y No.111259-002-2023 (interventoria) y el 20 de junio su respectiva acta de inicio. -El 20 de julio se dio por terminada la etapa de diagnóstico y se socializo el 21 de julio con participación de la interventoría, el contratista de obra, Findeter, IDPYBA y la SDA. -El 28 de julio se realizó reunión de socialización del presupuesto de actividades preliminares. -El 1 de agosto, se dio inicio a las actividades preliminares, cuyo desarrollo se extendió hasta el 31/08/2023. -El 4, 17, 24, 29 de agosto de 2023, se llevó a cabo reunión de socialización del presupuesto general definitivo de la obra, incluyendo obras de urbanismo con los ajustes solicitados por la entidad. -Los avances se encuentran materializados en los módulos de acceso, aislamientos de perros y gatos, etología, alojamientos de perros y gatos y actividades generales en obra. | EX10: Producto de la etapa de diagnóstico, se identificó la necesidad de realizar ensayos y pruebas a las estructuras existentes y a las redes eléctricas, hidráulicas y sanitarias, con el fin de determinar su funcionalidad y poder proceder con la intervención de los módulos, lo que generó retraso en todo el cronograma. | EY10: Seguimiento a los compromisos adquiridos y al cronograma mediante comites de obra o reuniones o visitas de inspeccion. | EZ10: La construcción de la Casa Ecológica de los Animales, es un proyecto que busca reivindicar el espacio ideal para los animales domésticos que sufren alguna condición de maltrato en el Distrito Capital, en el cual se les brinde los escenarios apropiados para que los animales puedan realizar su proceso de recuperación en óptimas circunstancias, garantizándoles calidad de vida. | FA10: Drive: https://drive.google.com/drive/folders/11QXDuCJrB3c846ikSuTK5AynVxt_hNO5?usp=share_link 1. Acta de cierre convocatoria pública No. PAF-ATSDA-O-017-2023 (Desierta) 2. Términos de Referencia PAF-ATSDA-O-021-2023. 3. Adenda 3. Modificación "SUBCAPÍTULO III CRONOGRAMA". 4. Acta de cierre Convocatoria Pública No. PAF-ATSDA-O-021-2023. 5. Informe preliminar verificación requisitos habilitantes. 6. Actas de comite de obra
F11: PRESUPUESTO VIGENCIA | G11: =AA11+BE11+CI11+DL11+DN11 -> 30090732647 | H11: 11308000000 | K11: 11308000000 | L11: 30690000 | M11: 11308000000 | N11: 180817068 | O11: 11308000000 | P11: 1040836780 | Q11: 11308000000 | R11: 1040836780 | S11: 11308000000 | T11: 1040836780 | U11: 11308000000 | V11: 9964964565 | W11: =+U11 -> 11308000000 | X11: =+U11 -> 11308000000 | Y11: =+V11 -> 9964964565 | Z11: =+X11 -> 11308000000 | AA11: =+Y11 -> 9964964565 | AB11: 0 | AC11: 0 | AD11: 0 | AE11: 0 | AF11: 0 | AG11: 992773 | AH11: 992773 | AI11: 0 | AJ11: 0 | AK11: 0 | AL11: 0 | AM11: 208007227 | AN11: 0 | AO11: =209661094-209000000 -> 661094 | AP11: 208668321 | AQ11: 0 | AR11: 0 | AS11: 250000000 | AT11: 235186245 | AU11: 840971838 | AV11: 840971838 | AW11: 0 | AX11: 0 | AY11: =1969386711-1300632932 -> 668753779 | AZ11: =1954572956-1285819177 -> 668753779 | BA11: =+AC11+AE11+AG11+AI11+AK11+AM11+AO11+AQ11+AS11+AU11+AW11+AY11 -> 1969386711 | BB11: =+AC11+AE11+AG11+AI11+AK11+AM11+AO11+AQ11+AS11+AU11+AW11+AY11 -> 1969386711 | BC11: =+AD11+AF11+AH11+AJ11+AL11+AN11+AP11+AR11+AT11+AV11+AX11+AZ11 -> 1954572956 | BD11: =+AC11+AE11+AG11+AI11+AK11+AM11+AO11+AQ11+AS11+AU11+AW11+AY11 -> 1969386711 | BE11: =+AD11+AF11+AH11+AJ11+AL11+AN11+AP11+AR11+AT11+AV11+AX11+AZ11 -> 1954572956 | BF11: 0 | BG11: 0 | BH11: 0 | BI11: 0 | BJ11: 0 | BK11: 29875010 | BL11: 29875010 | BM11: 307400572 | BN11: 307400572 | BO11: 0 | BP11: 0 | BQ11: 0 | BR11: 17797878 | BS11: 324000000 | BT11: 0 | BU11: -187377922 | BV11: 0 | BW11: 0 | BX11: 0 | BY11: 0 | BZ11: 0 | CA11: 0 | CB11: 112376903 | CC11: 2589731033 | CD11: 2596177853 | CE11: =+BG11+BI11+BK11+BM11+BO11+BQ11+BS11+BU11+BW11+BY11+CA11+CC11 -> 3063628693 | CF11: =BG11+BI11+BK11+BM11+BO11+BQ11+BS11+BU11+BW11+BY11+CA11+CC11 -> 3063628693 | CG11: =BH11+BJ11+BL11+BN11+BP11+BR11+BT11+BV11+BX11+BZ11+CB11+CD11 -> 3063628216 | CH11: =+BG11+BI11+BK11+BM11+BO11+BQ11+BS11+BU11+BW11+BY11+CA11+CC11 -> 3063628693 | CI11: =+BH11+BJ11+BL11+BN11+BP11+BR11+BT11+BV11+BX11+BZ11+CB11+CD11 -> 3063628216 | CJ11: 17228190000 | CK11: 15029697910 | CL11: 15029697910 | CM11: 70790000 | CN11: 70790000 | CO11: 0 | CP11: 0 | CQ11: 0 | CR11: 0 | CT11: 0 | CV11: 0 | CX11: 0 | CZ11: 0 | DB11: 0 | DG11: 7079000 | DI11: =+CK11+CM11+CO11+CQ11+CS11+CU11+CW11+CY11+DA11+DC11+DE11+DG11 -> 15107566910 | DJ11: =CK11+CM11+CO11+CQ11+CS11+CU11+CW11+CY11+DA11 -> 15100487910 | DK11: =CL11+CN11+CP11+CR11+CT11+CV11+CX11+CZ11+DB11+DD11+DF11+DH11 -> 15100487910 | DL11: =+CK11+CM11+CO11+CQ11+CS11+CU11+CW11+CY11+DA11+DC11+DE11+DG11 -> 15107566910 | DM11: =+CL11+CN11+CP11+CR11+CT11+CV11+CX11+CZ11+DB11+DD11+DF11+DH11 -> 15100487910 | DN11: 0 | ER11: =IFERROR(DB11/DA11,0) -> 0 | ES11: =IFERROR(DK11/DJ11,0) -> 1 | ET11: =DM11/DL11 -> 0.99953143 | EU11: =(AA11+BE11+CI11+DK11)/(Z11+BD11+CH11+DJ11) -> 0.95681346 | EV11: =(Y11+BE11+CI11+DM11)/G11 -> 0.99976474
F12: GIRO VIGENCIA | AC12: 0 | AD12: 0 | AE12: 0 | AF12: 0 | AG12: 992773 | AH12: 992773 | AI12: 0 | AJ12: 0 | AK12: 0 | AL12: 0 | AM12: 208007227 | AN12: 0 | AO12: =209661094-209000000 -> 661094 | AP12: 208668321 | AR12: 0 | AS12: 0 | AT12: 0 | AU12: 1090971838 | AV12: 318471743 | AW12: 0 | AX12: 522500095 | AY12: =1969386711-1300632932 -> 668753779 | AZ12: =1703369626-1050632932 -> 652736694 | BA12: =+AC12+AE12+AG12+AI12+AK12+AM12+AO12+AQ12+AS12+AU12+AW12+AY12 -> 1969386711 | BB12: =+AC12+AE12+AG12+AI12+AK12+AM12+AO12+AQ12+AS12+AU12+AW12+AY12 -> 1969386711 | BC12: =+AD12+AF12+AH12+AJ12+AL12+AN12+AP12+AR12+AT12+AV12+AX12+AZ12 -> 1703369626 | BD12: =+AC12+AE12+AG12+AI12+AK12+AM12+AO12+AQ12+AS12+AU12+AW12+AY12 -> 1969386711 | BE12: =+AD12+AF12+AH12+AJ12+AL12+AN12+AP12+AR12+AT12+AV12+AX12+AZ12 -> 1703369626 | BF12: 0 | BG12: 0 | BH12: 0 | BI12: 0 | BJ12: 0 | BK12: 0 | BL12: 0 | BM12: 172296572 | BN12: 172296572 | BO12: 29875010 | BP12: 0 | BQ12: 37531247 | BR12: 17797878 | BS12: 0 | BT12: 0 | BU12: =473897660-277234078 -> 196663582 | BV12: 0 | BW12: 37531249 | BX12: 0 | BY12: 0 | BZ12: 0 | CA12: 0 | CB12: 111245380 | CC12: 2589731033 | CD12: 2597309376 | CE12: =+BG12+BI12+BK12+BM12+BO12+BQ12+BS12+BU12+BW12+BY12+CA12+CC12 -> 3063628693 | CF12: =BG12+BI12+BK12+BM12+BO12+BQ12+BS12+BU12+BW12+BY12+CA12+CC12 -> 3063628693 | CG12: =BH12+BJ12+BL12+BN12+BP12+BR12+BT12+BV12+BX12+BZ12+CB12+CD12 -> 2898649206 | CH12: =+BG12+BI12+BK12+BM12+BO12+BQ12+BS12+BU12+BW12+BY12+CA12+CC12 -> 3063628693 | CI12: =+BH12+BJ12+BL12+BN12+BP12+BR12+BT12+BV12+BX12+BZ12+CB12+CD12 -> 2898649206 | CJ12: 17228190000 | CK12: 0 | CL12: 0 | CM12: 0 | CN12: 0 | CO12: 15033237410 | CP12: 15033237410 | CQ12: 7079000 | CR12: 7079000 | CS12: 7079000 | CT12: 7079000 | CU12: 7079000 | CV12: 7079000 | CW12: 7079000 | CX12: 7079000 | CY12: 7079000 | CZ12: 7079000 | DA12: 7079000 | DB12: 7079000 | DC12: 7079000 | DE12: 7079000 | DG12: 17697500 | DI12: =+CK12+CM12+CO12+CQ12+CS12+CU12+CW12+CY12+DA12+DC12+DE12+DG12 -> 15107566910 | DJ12: =CK12+CM12+CO12+CQ12+CS12+CU12+CW12+CY12+DA12 -> 15075711410 | DK12: =CL12+CN12+CP12+CR12+CT12+CV12+CX12+CZ12+DB12+DD12+DF12+DH12 -> 15075711410 | DL12: =+CK12+CM12+CO12+CQ12+CS12+CU12+CW12+CY12+DA12+DC12+DE12+DG12 -> 15107566910 | DM12: =+CL12+CN12+CP12+CR12+CT12+CV12+CX12+CZ12+DB12+DD12+DF12+DH12 -> 15075711410 | ER12: =IFERROR(DB12/DA12,0) -> 1 | ES12: =IFERROR(DK12/DJ12,0) -> 1 | ET12: =DM12/DL12 -> 0.99789142 | EU12: =(AA12+BE12+CI12+DK12)/(Z12+BD12+CH12+DJ12) -> 0.97856669 | EV12: =IFERROR((Y12+BE12+CI12+DM12)/G12,0) -> 0
F13: MAGNITUD FÍSICA RESERVAS | G13: =AA13+BE13+CI13+DL13+DN13 -> 0.015133613 | AB13: 0.08 | AC13: 0 | AD13: 0 | AE13: 0 | AF13: 0 | AG13: 0.0001 | AH13: 0.0001 | AI13: 0 | AJ13: 0 | AK13: 0 | AL13: 0 | AM13: 0 | AN13: 0 | AO13: 0.0001 | AP13: 0 | AQ13: 0.0015 | AR13: 0 | AS13: 0.0018 | AT13: =+(AT14/AS14)*AS13 -> 3.3613116e-05 | AU13: 0.0242 | AV13: 0 | AW13: 0.0242 | AX13: 0 | AY13: 0.0281 | AZ13: 0 | BA13: =+AC13+AE13+AG13+AI13+AK13+AM13+AO13+AQ13+AS13+AU13+AW13+AY13 -> 0.08 | BB13: =+AC13+AE13+AG13+AI13+AK13+AM13+AO13+AQ13+AS13+AU13+AW13+AY13 -> 0.08 | BC13: =+AD13+AF13+AH13+AJ13+AL13+AN13+AP13+AR13+AT13+AV13+AX13+AZ13 -> 0.00013361312 | BD13: =+AC13+AE13+AG13+AI13+AK13+AM13+AO13+AQ13+AS13+AU13+AW13+AY13 -> 0.08 | BE13: =+AD13+AF13+AH13+AJ13+AL13+AN13+AP13+AR13+AT13+AV13+AX13+AZ13 -> 0.00013361312 | BF13: 0.0799 | BG13: 0 | BH13: 0 | BI13: 0.008 | BJ13: 0.0057 | BK13: 0.0089 | BL13: 0.0042 | BM13: 0.0089 | BN13: 0.0001 | BO13: 0.0089 | BP13: 0.005 | BQ13: 0.0089 | BR13: 0 | BS13: 0.0089 | BT13: 0 | BU13: 0.0089 | BV13: 0 | BW13: -0.0464 | BX13: 0 | BY13: 0 | BZ13: 0 | CA13: 0 | CB13: 0 | CC13: 0 | CD13: 0 | CE13: =+BG13+BI13+BK13+BM13+BO13+BQ13+BS13+BU13+BW13+BY13+CA13+CC13 -> 0.015 | CF13: =BG13+BI13+BK13+BM13+BO13+BQ13+BS13+BU13+BW13+BY13+CA13+CC13 -> 0.015 | CG13: =BH13+BJ13+BL13+BN13+BP13+BR13+BT13+BV13+BX13+BZ13+CB13+CD13 -> 0.015 | CH13: =BG13+BI13+BK13+BM13+BO13+BQ13+BS13+BU13+BW13+BY13+CA13+CC13 -> 0.015 | CI13: =BH13+BJ13+BL13+BN13+BP13+BR13+BT13+BV13+BX13+BZ13+CB13+CD13 -> 0.015 | CJ13: 0 | CK13: 0 | CL13: 0 | CM13: 0 | CN13: 0 | CO13: 0 | CP13: 0 | CQ13: 0 | CR13: 0 | CT13: 0 | CV13: 0 | CX13: 0 | DB13: 0 | DI13: =+CK13+CM13+CO13+CQ13+CS13+CU13+CW13+CY13+DA13+DC13+DE13+DG13 -> 0 | DJ13: =CK13+CM13+CP1+CO13+CQ13+CS13+CU13+CW13+CY13+DA13 -> 0 | DK13: =CL13+CN13+CP13+CR13+CT13+CV13+CX13+CZ13+DB13+DD13+DF13+DH13 -> 0 | DL13: =CK13+CM13+CO13+CQ13+CS13+CU13+CW13+CY13+DA13+DC13+DE13+DG13 -> 0 | DM13: =CL13+CN13+CP13+CR13+CT13+CV13+CX13+CZ13+DB13+DD13+DF13+DH13 -> 0 | ER13: =IFERROR(DB13/DA13,0) -> 0 | ES13: =IFERROR(DK13/DJ13,0) -> 0 | ET13: =IFERROR(DM13/DL13,0) -> 0 | EU13: =(AA13+BE13+CI13+DK13)/(Z13+BD13+CH13+DJ13) -> 0.15930119 | EV13: =(Y13+BE13+CI13+DM13)/G13 -> 1
F14: RESERVA PRESUPUESTAL | G14: =AA14+BE14+CI14+DL14+DN14 -> 238916606 | AB14: 8318246009 | AC14: 0 | AD14: 0 | AE14: 6138000 | AF14: 6138000 | AG14: 5319600 | AH14: 5319600 | AI14: 0 | AJ14: 0 | AK14: 0 | AL14: 0 | AM14: 0 | AN14: 6319300 | AO14: 9722000 | AP14: 0 | AQ14: 152586468 | AR14: 0 | AS14: 182216370 | AT14: 3402700 | AU14: 2519897507 | AV14: 0 | AW14: 2519897507 | AX14: 0 | AY14: 2920009157 | AZ14: 0 | BA14: =+AC14+AE14+AG14+AI14+AK14+AM14+AO14+AQ14+AS14+AU14+AW14+AY14 -> 8315786609 | BB14: =+AC14+AE14+AG14+AI14+AK14+AM14+AO14+AQ14+AS14+AU14+AW14+AY14 -> 8315786609 | BC14: =+AD14+AF14+AH14+AJ14+AL14+AN14+AP14+AR14+AT14+AV14+AX14+AZ14 -> 21179600 | BD14: =+AC14+AE14+AG14+AI14+AK14+AM14+AO14+AQ14+AS14+AU14+AW14+AY14 -> 8315786609 | BE14: =+AD14+AF14+AH14+AJ14+AL14+AN14+AP14+AR14+AT14+AV14+AX14+AZ14 -> 21179600 | BF14: 235186245 | BG14: 0 | BH14: 0 | BI14: 0 | BJ14: 0 | BK14: 0 | BL14: 0 | BM14: 0 | BN14: 0 | BO14: 0 | BQ14: 235186245 | BR14: 0 | BS14: 0 | BT14: 0 | BU14: 0 | BV14: 52757996 | BW14: 0 | BX14: 0 | BY14: 0 | BZ14: 0 | CA14: 0 | CB14: 0 | CC14: 0 | CD14: 0 | CE14: =+BG14+BI14+BK14+BM14+BO14+BQ14+BS14+BU14+BW14+BY14+CA14+CC14 -> 235186245 | CF14: =BG14+BI14+BK14+BM14+BO14+BQ14+BS14+BU14+BW14+BY14+CA14+CC14 -> 235186245 | CG14: =BH14+BJ14+BL14+BN14+BP14+BR14+BT14+BV14+BX14+BZ14+CB14+CD14 -> 52757996 | CH14: =+BG14+BI14+BK14+BM14+BO14+BQ14+BS14+BU14+BW14+BY14+CA14+CC14 -> 235186245 | CI14: =+BH14+BJ14+BL14+BN14+BP14+BR14+BT14+BV14+BX14+BZ14+CB14+CD14 -> 52757996 | CJ14: 164979010 | CK14: 0 | CL14: 0 | CM14: 0 | CN14: 0 | CO14: 0 | CP14: 0 | CQ14: 0 | CR14: 0 | CT14: 57207465 | CU14: 164979010 | CV14: 0 | CX14: 0 | CZ14: 0 | DB14: 0 | DI14: =+CK14+CM14+CO14+CQ14+CS14+CU14+CW14+CY14+DA14+DC14+DE14+DG14 -> 164979010 | DJ14: =CK14+CM14+CO14+CQ14+CS14+CU14+CW14+CY14+DA14 -> 164979010 | DK14: =CL14+CN14+CP14+CR14+CT14+CV14+CX14+CZ14+DB14+DD14+DF14+DH14 -> 57207465 | DL14: =+CK14+CM14+CO14+CQ14+CS14+CU14+CW14+CY14+DA14+DC14+DE14+DG14 -> 164979010 | DM14: =+CL14+CN14+CP14+CR14+CT14+CV14+CX14+CZ14+DB14+DD14+DF14+DH14 -> 57207465 | ER14: =IFERROR(DB14/DA14,0) -> 0 | ES14: =IFERROR(DK14/DJ14,0) -> 0.34675602 | ET14: =DM14/DL14 -> 0.34675602 | EU14: =(AA14+BE14+CI14+DK14)/(Z14+BD14+CH14+DJ14) -> 0.015046556 | EV14: =(Y14+BE14+CI14+DM14)/G14 -> 0.54891564
F15: TOTAL MAGNITUD FÍSICA | G15: =+G10+G13 -> 0.32003361 | H15: =H10+H13 -> 0.32 | I15: =I10+I13 -> 0 | J15: =J10+J13 -> 0 | K15: =K10+K13 -> 0.32 | L15: =L10+L13 -> 2e-05 | M15: =M10+M13 -> 0.32 | N15: =N10+N13 -> 0.00015 | O15: =O10+O13 -> 0.32 | ... V15: =V10+V13 -> 0.24 | W15: =+W10 -> 0.24 | X15: =+X10 -> 0.24 | Y15: =+Y10 -> 0.24 | Z15: =+Z10 -> 0.24 | AA15: =+AA10 -> 0.24 | AB15: =+AB10+AB13 -> 0.08 | AC15: =+AC10+AC13 -> 0 | AD15: =+AD10+AD13 -> 0 | AE15: =+AE10+AE13 -> 0 | AF15: =+AF10+AF13 -> 0 | AG15: =+AG10+AG13 -> 0.0001 | AH15: =+AH10+AH13 -> 0.0001 | AI15: =+AI10+AI13 -> 0 | ... AZ15: =+AZ10+AZ13 -> 0 | BA15: =+AC15+AE15+AG15+AI15+AK15+AM15+AO15+AQ15+AS15+AU15+AW15+AY15 -> 0.08 | BB15: =+AC15+AE15+AG15+AI15+AK15+AM15+AO15+AQ15+AS15+AU15+AW15+AY15 -> 0.08 | BC15: =+AD15+AF15+AH15+AJ15+AL15+AN15+AP15+AR15+AT15+AV15+AX15+AZ15 -> 0.00013361312 | BD15: =+AC15+AE15+AG15+AI15+AK15+AM15+AO15+AQ15+AS15+AU15+AW15+AY15 -> 0.08 | BE15: =+AD15+AF15+AH15+AJ15+AL15+AN15+AP15+AR15+AT15+AV15+AX15+AZ15 -> 0.00013361312 | BF15: =+BF10+BF13 -> 0.0799 | BG15: =+BG10+BG13 -> 0 | BH15: =+BH10+BH13 -> 0 | BI15: =+BI10+BI13 -> 0.008 | BJ15: =+BJ10+BJ13 -> 0.0057 | BK15: =+BK10+BK13 -> 0.0089 | BL15: =+BL10+BL13 -> 0.0042 | BM15: =+BM10+BM13 -> 0.0089 | ... CC15: =+CC10+CC13 -> 0 | CD15: 0 | CE15: =+BG15+BI15+BK15+BM15+BO15+BQ15+BS15+BU15+BW15+BY15+CA15+CC15 -> 0.015 | CF15: =BG15+BI15+BK15+BM15+BO15+BQ15+BS15+BU15+BW15+BY15+CA15+CC15 -> 0.015 | CG15: =BH15+BJ15+BL15+BN15+BP15+BR15+BT15+BV15+BX15+BZ15+CB15+CD15 -> 0.015 | CH15: =+BG15+BI15+BK15+BM15+BO15+BQ15+BS15+BU15+BW15+BY15+CA15+CC15 -> 0.015 | CI15: =+BH15+BJ15+BL15+BN15+BP15+BR15+BT15+BV15+BX15+BZ15+CB15+CD15 -> 0.015 | CJ15: =+CJ10+CJ13 -> 0.0649 | CK15: =+CK10+CK13 -> 0 | CL15: =+CL10+CL13 -> 0 | CM15: =+CM10+CM13 -> 0 | CN15: =+CN10+CN13 -> 0 | CO15: =+CO10+CO13 -> 0 | CP15: =+CP10+CP13 -> 0 | CQ15: =+CQ10+CQ13 -> 0 | ... DH15: =+DH10+DH13 -> 0 | DI15: =CK15+CM15+CO15+CQ15+CS15+CU15+CW15+CY15+DA15+DC15+DE15+DG15 -> 0.061 | DJ15: =IFERROR(CK15+CM15+CR14CO15+CO15+CQ15+CS15+CU15,0)+CW15+CY15+DA15 -> 0.0324 | DK15: =CL15+CN15+CP15+CR15+CT15+CV15+CX15+CZ15+DB15+DD15+DF15+DH15 -> 0.0142 | DL15: =+CK15+CM15+CO15+CQ15+CS15+CU15+CW15+CY15+DA15+DC15+DE15+DG15 -> 0.061 | DM15: =CL15+CN15+CP15+CR15+CT15+CV15+CX15+CZ15+DB15+DD15+DF15+DH15 -> 0.0142 | DN15: =DN10 -> 0.0039 | ER15: =IFERROR(DB15/DA15,0) -> 0.73148148 | ES15: =IFERROR(DK15/DJ15,0) -> 0.4382716 | ET15: =DM15/DL15 -> 0.23278689 | EU15: =(AA15+BE15+CI15+DK15)/(Z15+BD15+CH15+DJ15) -> 0.73308006 | EV15: =(Y15+BE15+CI15+DM15)/G15 -> 0.84157914
F16: TOTAL PRESUPUESTO DE LA META | G16: =+G11+G14 -> 30329649253 | H16: =+H11+H14 -> 11308000000 | I16: =+I11+I14 -> 0 | J16: =+J11+J14 -> 0 | K16: =+K11+K14 -> 11308000000 | L16: =+L11+L14 -> 30690000 | M16: =+M11+M14 -> 11308000000 | N16: =+N11+N14 -> 180817068 | ... DN16: =+DN11+DN14 -> 0 | ER16: =IFERROR(DB16/DA16,0) -> 0 | ES16: =IFERROR(DK16/DJ16,0) -> 0.99294017 | ET16: =DM16/DL16 -> 0.99247993 | EU16: =(AA16+BE16+CI16+DK16)/(Z16+BD16+CH16+DJ16) -> 0.7524082 | EV16: =(Y16+BE16+CI16+DM16)/G16 -> 0.99621326
A17: Infraestructura física | B17: 2 | C17: Construir y dotar el 6% del Centro de Recepción y Rehabilitación de Flora y Fauna Silvestre. | D17: suma | E17: 538 | F17: MAGNITUD FÍSICA | G17: =AA17+BE17+CI17+DL17+DN17 -> 0.0575 | H17: 0.06 | K17: 0.06 | L17: 0 | M17: 0.06 | N17: 0 | O17: 0.06 | P17: 0.04 | Q17: 0.06 | R17: 0.04 | S17: 0.06 | T17: 0.04 | U17: 0.0575 | V17: 0.0575 | W17: =+U17 -> 0.0575 | X17: =+U17 -> 0.0575 | Y17: =+V17 -> 0.0575 | Z17: =+X17 -> 0.0575 | AA17: =+Y17 -> 0.0575 | AB17: 0 | AC17: 0 | AD17: 0 | AE17: 0 | AF17: 0 | AG17: 0 | AH17: 0 | AI17: 0 | AJ17: 0 | AK17: 0 | AL17: 0 | AM17: 0 | AN17: 0 | AO17: 0 | AP17: 0 | AR17: 0 | AS17: 0 | AT17: 0 | AU17: 0 | AV17: 0 | AW17: 0 | AX17: 0 | AY17: 0 | AZ17: 0 | BA17: =+AC17+AE17+AG17+AI17+AK17+AM17+AO17+AQ17+AS17+AU17+AW17+AY17 -> 0 | BB17: =+AC17+AE17+AG17+AI17+AK17+AM17+AO17+AQ17+AS17+AU17+AW17+AY17 -> 0 | BC17: =+AD17+AF17+AH17+AJ17+AL17+AN17+AP17+AR17+AT17+AV17+AX17+AZ17 -> 0 | BD17: =+AC17+AE17+AG17+AI17+AK17+AM17+AO17+AQ17+AS17+AU17+AW17+AY17 -> 0 | BE17: =+AD17+AF17+AH17+AJ17+AL17+AN17+AP17+AR17+AT17+AV17+AX17+AZ17 -> 0 | BF17: 0 | BG17: 0 | BH17: 0 | BI17: 0 | BJ17: 0 | BK17: 0 | BL17: 0 | BM17: 0 | BN17: 0 | BO17: 0 | BP17: 0 | BQ17: 0 | BR17: 0 | BS17: 0 | BT17: 0 | BU17: 0 | BV17: 0 | BW17: 0 | BX17: 0 | BY17: 0 | BZ17: 0 | CA17: 0 | CB17: 0 | CC17: 0 | CD17: 0 | CE17: =+BG17+BI17+BK17+BM17+BO17+BQ17+BS17+BU17+BW17+BY17+CA17+CC17 -> 0 | CF17: =BG17+BI17+BK17+BM17+BO17+BQ17+BS17+BU17+BW17+BY17+CA17+CC17 -> 0 | CG17: =BH17+BJ17+BL17+BN17+BP17+BR17+BT17+BV17+BX17+BZ17+CB17+CD17 -> 0 | CH17: =BG17+BI17+BK17+BM17+BO17+BQ17+BS17+BU17+BW17+BY17+CA17+CC17 -> 0 | CI17: =BH17+BJ17+BL17+BN17+BP17+BR17+BT17+BV17+BX17+BZ17+CB17+CD17 -> 0 | CJ17: 0 | CK17: 0 | CL17: 0 | CM17: 0 | CN17: 0 | CO17: 0 | CP17: 0 | CQ17: 0 | CR17: 0 | CS17: 0 | CT17: 0 | CU17: 0 | CV17: 0 | CW17: 0 | CX17: 0 | CY17: 0 | CZ17: 0 | DA17: 0 | DB17: 0 | DC17: 0 | DE17: 0 | DG17: 0 | DI17: =+CK17+CM17+CO17+CQ17+CS17+CU17+CW17+CY17+DA17+DC17+DE17+DG17 -> 0 | DJ17: =CK17+CM17+CO17+CQ17+CS17+CU17+CW17+CY17 -> 0 | DK17: =CL17+CN17+CP17+CR17+CT17+CV17+CX17+CZ17+DB17+DD17+DF17+DH17 -> 0 | DL17: =CK17+CM17+CO17+CQ17+CS17+CU17+CW17+CY17+DA17+DC17+DE17+DG17 -> 0 | DM17: =CL17+CN17+CP17+CR17+CT17+CV17+CX17+CZ17+DB17+DD17+DF17+DH17 -> 0 | DN17: 0 | ER17: =IFERROR(DB17/DA17,0) -> 0 | ES17: =IFERROR(DK17/DJ17,0) -> 0 | ET17: =IFERROR(DM17/DL17,0) -> 0 | EU17: =(AA17+BE17+CI17+DK17)/(Z17+BD17+CH17+DJ17) -> 1 | EV17: =(Y17+BE17+CI17+DM17)/G17 -> 1 | EW17: El avance acumulado del plan de desarrollo es del 6% que corresponde al 100% del total de ejeuccion fisica de la obra Centro de Atencion y Valoracion de Flora y Fauna Silvestre-CAVFFS. Para el periodo objeto de seguimiento no se programó avance físico. | EX17: N/A | EY17: N/A | EZ17: Con la entrega y puesta en funcionamiento de los equipos especializados ubicados en el Centro de Atención y Valoración de Fauna y Flora Silvestre, se garantizan espacios de calidad para brindar un adecuado manejo a la fauna silvestre recuperada por la Secretaría Distrital de Ambiente mediante procesos de incautación, rescate y recepción externa, propendiendo así por su adecuado proceso de rehabilitación y posterior liberación en sus hábitats naturales. | FA17: Drive: https://drive.google.com/drive/folders/11QXDuCJrB3c846ikSuTK5AynVxt_hNO5?usp=share_link
F18: PRESUPUESTO VIGENCIA | G18: =AA18+BE18+CI18+DL18+DN18 -> 2483517430 | H18: 1123000000 | K18: 1123000000 | L18: 0 | M18: 1123000000 | N18: 0 | O18: 1123000000 | P18: 738312462 | Q18: 1123000000 | R18: =+P18 -> 738312462 | S18: 1123000000 | T18: =+R18 -> 738312462 | U18: 1123000000 | V18: 1075511046 | W18: =+U18 -> 1123000000 | X18: =+U18 -> 1123000000 | Y18: =+V18 -> 1075511046 | Z18: =+X18 -> 1123000000 | AA18: =+Y18 -> 1075511046 | AB18: 0 | AC18: 0 | AD18: 0 | AE18: 0 | AF18: 0 | AG18: 0 | AH18: 0 | AI18: 0 | AJ18: 0 | AK18: 0 | AL18: 0 | AM18: 0 | AN18: 0 | AO18: 0 | AP18: 0 | AR18: 0 | AS18: 0 | AT18: 0 | AU18: 0 | AV18: 0 | AW18: 0 | AX18: 0 | AY18: 239574280 | AZ18: 239574280 | BA18: =+AC18+AE18+AG18+AI18+AK18+AM18+AO18+AQ18+AS18+AU18+AW18+AY18 -> 239574280 | BB18: =+AC18+AE18+AG18+AI18+AK18+AM18+AO18+AQ18+AS18+AU18+AW18+AY18 -> 239574280 | BC18: =+AD18+AF18+AH18+AJ18+AL18+AN18+AP18+AR18+AT18+AV18+AX18+AZ18 -> 239574280 | BD18: =+AC18+AE18+AG18+AI18+AK18+AM18+AO18+AQ18+AS18+AU18+AW18+AY18 -> 239574280 | BE18: =+AD18+AF18+AH18+AJ18+AL18+AN18+AP18+AR18+AT18+AV18+AX18+AZ18 -> 239574280 | BF18: 0 | BG18: 0 | BH18: 0 | BI18: 0 | BJ18: 0 | BK18: 0 | BL18: 0 | BM18: 951420428 | BN18: 0 | BO18: 0 | BP18: 915694613 | BQ18: =933622550-951420428+31780000 -> 13982122 | BR18: 31780000 | BS18: 0 | BT18: 0 | BU18: 0 | BV18: 0 | BW18: =1185599340-965402550+850000 -> 221046790 | BX18: 220957491 | BY18: 0 | BZ18: 0 | CA18: 0 | CB18: 0 | CC18: =1168521403-1186449340 -> -17927937 | CD18: 0 | CE18: =+BG18+BI18+BK18+BM18+BO18+BQ18+BS18+BU18+BW18+BY18+CA18+CC18 -> 1168521403 | CF18: =BG18+BI18+BK18+BM18+BO18+BQ18+BS18+BU18+BW18+BY18+CA18+CC18 -> 1168521403 | CG18: =BH18+BJ18+BL18+BN18+BP18+BR18+BT18+BV18+BX18+BZ18+CB18+CD18 -> 1168432104 | CH18: =+BG18+BI18+BK18+BM18+BO18+BQ18+BS18+BU18+BW18+BY18+CA18+CC18 -> 1168521403 | CI18: =+BH18+BJ18+BL18+BN18+BP18+BR18+BT18+BV18+BX18+BZ18+CB18+CD18 -> 1168432104 | CJ18: 0 | CK18: 0 | CL18: 0 | CM18: 0 | CN18: 0 | CP18: 0 | CR18: 0 | CT18: 0 | CV18: 0 | CX18: 0 | CZ18: 0 | DB18: 0 | DI18: =+CK18+CM18+CO18+CQ18+CS18+CU18+CW18+CY18+DA18+DC18+DE18+DG18 -> 0 | DJ18: =CK18+CM18+CO18+CR18 -> 0 | DK18: =CL18+CN18+CP18+CR18+CT18+CV18+CX18+CZ18+DB18+DD18+DF18+DH18 -> 0 | DL18: =+CK18+CM18+CO18+CQ18+CS18+CU18+CW18+CY18+DA18+DC18+DE18+DG18 -> 0 | DM18: =+CL18+CN18+CP18+CR18+CT18+CV18+CX18+CZ18+DB18+DD18+DF18+DH18 -> 0 | DN18: 0 | ER18: =IFERROR(DB18/DA18,0) -> 0 | ES18: =IFERROR(DK18/DJ18,0) -> 0 | ET18: =IFERROR(DM18/DL18,0) -> 0 | EU18: =(AA18+BE18+CI18+DK18)/(Z18+BD18+CH18+DJ18) -> 0.98120251 | EV18: =(Y18+BE18+CI18+DM18)/G18 -> 1
F19: GIRO VIGENCIA | AC19: 0 | AD19: 0 | AE19: 0 | AF19: 0 | AG19: 0 | AH19: 0 | AI19: 0 | AJ19: 0 | AK19: 0 | AL19: 0 | AM19: 0 | AN19: 0 | AO19: 0 | AP19: 0 | AR19: 0 | AS19: 0 | AT19: 0 | AU19: 0 | AV19: 0 | AW19: 0 | AX19: 0 | AY19: 239574280 | AZ19: 239574280 | BA19: =+AC19+AE19+AG19+AI19+AK19+AM19+AO19+AQ19+AS19+AU19+AW19+AY19 -> 239574280 | BB19: =+AC19+AE19+AG19+AI19+AK19+AM19+AO19+AQ19+AS19+AU19+AW19+AY19 -> 239574280 | BC19: =+AD19+AF19+AH19+AJ19+AL19+AN19+AP19+AR19+AT19+AV19+AX19+AZ19 -> 239574280 | BD19: =+AC19+AE19+AG19+AI19+AK19+AM19+AO19+AQ19+AS19+AU19+AW19+AY19 -> 239574280 | BE19: =+AD19+AF19+AH19+AJ19+AL19+AN19+AP19+AR19+AT19+AV19+AX19+AZ19 -> 239574280 | BF19: 0 | BG19: 0 | BH19: 0 | BI19: 0 | BJ19: 0 | BK19: 0 | BL19: 0 | BM19: 0 | BN19: 0 | BO19: 933622550 | BP19: 915694613 | BQ19: 31780000 | BR19: 31780000 | BS19: 0 | BT19: 0 | BU19: 0 | BV19: 0 | BW19: =1185599340-965402550+850000 -> 221046790 | BX19: 220957491 | BY19: 0 | BZ19: 0 | CA19: 0 | CB19: 0 | CC19: -17927937 | CD19: 0 | CE19: =+BG19+BI19+BK19+BM19+BO19+BQ19+BS19+BU19+BW19+BY19+CA19+CC19 -> 1168521403 | CF19: =BG19+BI19+BK19+BM19+BO19+BQ19+BS19+BU19+BW19+BY19+CA19+CC19 -> 1168521403 | CG19: =BH19+BJ19+BL19+BN19+BP19+BR19+BT19+BV19+BX19+BZ19+CB19+CD19 -> 1168432104 | CH19: =+BG19+BI19+BK19+BM19+BO19+BQ19+BS19+BU19+BW19+BY19+CA19+CC19 -> 1168521403 | CI19: =+BH19+BJ19+BL19+BN19+BP19+BR19+BT19+BV19+BX19+BZ19+CB19+CD19 -> 1168432104 | CJ19: 0 | CK19: 0 | CL19: 0 | CM19: 0 | CN19: 0 | CP19: 0 | CR19: 0 | CT19: 0 | CV19: 0 | CX19: 0 | CZ19: 0 | DB19: 0 | DI19: =+CK19+CM19+CO19+CQ19+CS19+CU19+CW19+CY19+DA19+DC19+DE19+DG19 -> 0 | DJ19: =CK19+CM19+CO19+CR19 -> 0 | DK19: =CL19+CN19+CP19+CR19+CT19+CV19+CX19+CZ19+DB19+DD19+DF19+DH19 -> 0 | DL19: =+CK19+CM19+CO19+CQ19+CS19+CU19+CW19+CY19+DA19+DC19+DE19+DG19 -> 0 | DM19: =+CL19+CN19+CP19+CR19+CT19+CV19+CX19+CZ19+DB19+DD19+DF19+DH19 -> 0 | ER19: =IFERROR(DB19/DA19,0) -> 0 | ES19: =IFERROR(DK19/DJ19,0) -> 0 | ET19: =IFERROR(DM19/DL19,0) -> 0 | EU19: =(AA19+BE19+CI19+DK19)/(Z19+BD19+CH19+DJ19) -> 0.99993658 | EV19: =IFERROR((Y19+BE19+CI19+DM19)/G19,0) -> 0
F20: MAGNITUD FÍSICA RESERVAS | G20: =AA20+BE20+CI20+DL20+DN20 -> 0.0025 | AB20: 0.0025 | AC20: 0 | AD20: 0 | AE20: 0 | AF20: 0 | AG20: 0.0013 | AH20: 0.0013 | AI20: 0.0001 | AJ20: 0.0001 | AK20: 0.0003 | AL20: 0.0003 | AM20: 0 | AN20: 0 | AO20: 0.0004 | AP20: 0.0001 | AQ20: 0.0004 | AR20: 0.0003 | AS20: 0 | AT20: 0 | AU20: 0 | AV20: 0 | AW20: 0 | AX20: 0.0001 | AY20: 0 | AZ20: 0 | BA20: =+AC20+AE20+AG20+AI20+AK20+AM20+AO20+AQ20+AS20+AU20+AW20+AY20 -> 0.0025 | BB20: =+AC20+AE20+AG20+AI20+AK20+AM20+AO20+AQ20+AS20+AU20+AW20+AY20 -> 0.0025 | BC20: =+AD20+AF20+AH20+AJ20+AL20+AN20+AP20+AR20+AT20+AV20+AX20+AZ20 -> 0.0022 | BD20: =+AC20+AE20+AG20+AI20+AK20+AM20+AO20+AQ20+AS20+AU20+AW20+AY20 -> 0.0025 | BE20: =+AD20+AF20+AH20+AJ20+AL20+AN20+AP20+AR20+AT20+AV20+AX20+AZ20 -> 0.0022 | BF20: 0.0003 | BG20: 0 | BH20: 0 | BI20: 0 | BJ20: 0 | BK20: 0.0003 | BL20: 0.0001 | BM20: 0 | BN20: 0 | BO20: 0 | BP20: 0.0002 | BQ20: 0 | BR20: 0 | BS20: 0 | BT20: 0 | BU20: 0 | BV20: 0 | BW20: 0 | BX20: 0 | BY20: 0 | BZ20: 0 | CA20: 0 | CB20: 0 | CC20: 0 | CD20: 0 | CE20: =+BG20+BI20+BK20+BM20+BO20+BQ20+BS20+BU20+BW20+BY20+CA20+CC20 -> 0.0003 | CF20: =BG20+BI20+BK20+BM20+BO20+BQ20+BS20+BU20+BW20+BY20+CA20+CC20 -> 0.0003 | CG20: =BH20+BJ20+BL20+BN20+BP20+BR20+BT20+BV20+BX20+BZ20+CB20+CD20 -> 0.0003 | CH20: =BG20+BI20+BK20+BM20+BO20+BQ20+BS20+BU20+BW20+BY20+CA20+CC20 -> 0.0003 | CI20: =BH20+BJ20+BL20+BN20+BP20+BR20+BT20+BV20+BX20+BZ20+CB20+CD20 -> 0.0003 | CJ20: 0 | CK20: 0 | CL20: 0 | CM20: 0 | CN20: 0 | CP20: 0 | CR20: 0 | CT20: 0 | CV20: 0 | CX20: 0 | CZ20: 0 | DB20: 0 | DI20: =+CK20+CM20+CO20+CQ20+CS20+CU20+CW20+CY20+DA20+DC20+DE20+DG20 -> 0 | DJ20: =CK20+CM20+CP20+CR20 -> 0 | DK20: =CL20+CN20+CP20+CR20+CT20+CV20+CX20+CZ20+DB20+DD20+DF20+DH20 -> 0 | DL20: =CK20+CM20+CO20+CQ20+CS20+CU20+CW20+CY20+DA20+DC20+DE20+DG20 -> 0 | DM20: =CL20+CN20+CP20+CR20+CT20+CV20+CX20+CZ20+DB20+DD20+DF20+DH20 -> 0 | ER20: =IFERROR(DB20/DA20,0) -> 0 | ES20: =IFERROR(DK20/DJ20,0) -> 0 | ET20: =IFERROR(DM20/DL20,0) -> 0 | EU20: =(AA20+BE20+CI20+DK20)/(Z20+BD20+CH20+DJ20) -> 0.89285714 | EV20: =(Y20+BE20+CI20+DM20)/G20 -> 1
F21: RESERVA PRESUPUESTAL | G21: =AA21+BE21+CI21+DL21+DN21 -> 332717856 | AB21: 523171596 | AC21: 0 | AD21: 0 | AE21: 0 | AF21: 0 | AG21: 49233020 | AH21: 49233020 | AI21: 21264125 | AJ21: 21264125 | AK21: 72119329 | AL21: 72119329 | AM21: 10000006 | AN21: 0 | AO21: 174582110 | AP21: 22686569 | AQ21: =195973006-6 -> 195973000 | AR21: =165316394 -> 165316394 | AS21: 0 | AT21: 0 | AU21: 0 | AV21: 0 | AW21: 0 | AX21: 1835720 | AY21: 0 | AZ21: 262699 | BA21: =+AC21+AE21+AG21+AI21+AK21+AM21+AO21+AQ21+AS21+AU21+AW21+AY21 -> 523171590 | BB21: =+AC21+AE21+AG21+AI21+AK21+AM21+AO21+AQ21+AS21+AU21+AW21+AY21 -> 523171590 | BC21: =+AD21+AF21+AH21+AJ21+AL21+AN21+AP21+AR21+AT21+AV21+AX21+AZ21 -> 332717856 | BD21: =+AC21+AE21+AG21+AI21+AK21+AM21+AO21+AQ21+AS21+AU21+AW21+AY21 -> 523171590 | BE21: =+AD21+AF21+AH21+AJ21+AL21+AN21+AP21+AR21+AT21+AV21+AX21+AZ21 -> 332717856 | BF21: 0 | BG21: 0 | BH21: 0 | BI21: 0 | BJ21: 0 | BK21: 0 | BL21: 0 | BM21: 0 | BN21: 0 | BO21: 0 | BP21: 0 | BR21: 0 | BS21: 0 | BT21: 0 | BU21: 0 | BV21: 0 | BW21: 0 | BX21: 0 | BY21: 0 | BZ21: 0 | CA21: 0 | CB21: 0 | CC21: 0 | CD21: 0 | CE21: =+BG21+BI21+BK21+BM21+BO21+BQ21+BS21+BU21+BW21+BY21+CA21+CC21 -> 0 | CF21: =BG21+BI21+BK21+BM21+BO21+BQ21+BS21+BU21+BW21+BY21+CA21+CC21 -> 0 | CG21: =BH21+BJ21+BL21+BN21+BP21+BR21+BT21+BV21+BX21+BZ21+CB21+CD21 -> 0 | CI21: =+BH21+BJ21+BL21+BN21+BP21+BR21+BT21+BV21+BX21+BZ21+CB21+CD21 -> 0 | CJ21: 0 | CK21: 0 | CL21: 0 | CM21: 0 | CN21: 0 | CP21: 0 | CR21: 0 | CT21: 0 | CV21: 0 | CX21: 0 | CZ21: 0 | DB21: 0 | DI21: =+CK21+CM21+CO21+CQ21+CS21+CU21+CW21+CY21+DA21+DC21+DE21+DG21 -> 0 | DJ21: =CK21+CM21+CO21+CR21 -> 0 | DK21: =CL21+CN21+CP21+CR21+CT21+CV21+CX21+CZ21+DB21+DD21+DF21+DH21 -> 0 | DM21: =+CL21+CN21+CP21+CR21+CT21+CV21+CX21+CZ21+DB21+DD21+DF21+DH21 -> 0 | ER21: =IFERROR(DB21/DA21,0) -> 0 | ES21: =IFERROR(DK21/DJ21,0) -> 0 | ET21: =IFERROR(DM21/DL21,0) -> 0 | EU21: =(AA21+BE21+CI21+DK21)/(Z21+BD21+CH21+DJ21) -> 0.63596316 | EV21: =(Y21+BE21+CI21+DM21)/G21 -> 1
F22: TOTAL MAGNITUD FÍSICA | G22: =+G17+G20 -> 0.06 | H22: 0 | K22: 0 | L22: 0 | M22: 0 | N22: 0 | O22: 0 | P22: 0 | Q22: 0 | R22: =+R17 -> 0.04 | S22: 0 | T22: =+T17 -> 0.04 | U22: 0 | V22: 0 | W22: =+W17 -> 0.0575 | X22: =+X17 -> 0.0575 | Y22: =+Y17 -> 0.0575 | Z22: =+Z17 -> 0.0575 | AA22: =+AA17 -> 0.0575 | AB22: 0 | AC22: =+AC17+AC20 -> 0 | AD22: =+AD17+AD20 -> 0 | AE22: =+AE17+AE20 -> 0 | AF22: =+AF17+AF20 -> 0 | AG22: =+AG17+AG20 -> 0.0013 | AH22: =+AH17+AH20 -> 0.0013 | AI22: =+AI17+AI20 -> 0.0001 | AJ22: =+AJ17+AJ20 -> 0.0001 | ... AZ22: =+AZ17+AZ20 -> 0 | BA22: =+AC22+AE22+AG22+AI22+AK22+AM22+AO22+AQ22+AS22+AU22+AW22+AY22 -> 0.0025 | BB22: =+AC22+AE22+AG22+AI22+AK22+AM22+AO22+AQ22+AS22+AU22+AW22+AY22 -> 0.0025 | BC22: =+AD22+AF22+AH22+AJ22+AL22+AN22+AP22+AR22+AT22+AV22+AX22+AZ22 -> 0.0022 | BD22: =+AC22+AE22+AG22+AI22+AK22+AM22+AO22+AQ22+AS22+AU22+AW22+AY22 -> 0.0025 | BE22: =+AD22+AF22+AH22+AJ22+AL22+AN22+AP22+AR22+AT22+AV22+AX22+AZ22 -> 0.0022 | BF22: =+BF17+BF20 -> 0.0003 | BG22: =+BG17+BG20 -> 0 | BH22: =+BH17+BH20 -> 0 | BI22: =+BI17+BI20 -> 0 | BJ22: =+BJ17+BJ20 -> 0 | BK22: =+BK17+BK20 -> 0.0003 | BL22: =+BL17+BL20 -> 0.0001 | BM22: =+BM17+BM20 -> 0 | ... CC22: =+CC17+CC20 -> 0 | CD22: 0 | CE22: =+BG22+BI22+BK22+BM22+BO22+BQ22+BS22+BU22+BW22+BY22+CA22+CC22 -> 0.0003 | CF22: =BG22+BI22+BK22+BM22+BO22+BQ22+BS22+BU22+BW22+BY22+CA22+CC22 -> 0.0003 | CG22: =BH22+BJ22+BL22+BN22+BP22+BR22+BT22+BV22+BX22+BZ22+CB22+CD22 -> 0.0003 | CH22: =+BG22+BI22+BK22+BM22+BO22+BQ22+BS22+BU22+BW22+BY22+CA22+CC22 -> 0.0003 | CI22: =+BH22+BJ22+BL22+BN22+BP22+BR22+BT22+BV22+BX22+BZ22+CB22+CD22 -> 0.0003 | CJ22: =+CJ17+CJ20 -> 0 | CK22: 0 | CL22: =+CL17+CL20 -> 0 | CM22: =+CM17+CM20 -> 0 | CN22: =+CN17+CN20 -> 0 | CO22: =+CO17+CO20 -> 0 | CP22: 0 | CQ22: =+CQ17+CQ20 -> 0 | CR22: =+CR17+CR20 -> 0 | CS22: =+CS17+CS20 -> 0 | CT22: =+CT17+CT20 -> 0 | CU22: =+CU17+CU20 -> 0 | CV22: =+CV17+CV20 -> 0 | CW22: =+CW17+CW20 -> 0 | CX22: =+CX17+CX20 -> 0 | ... DH22: =+DH17+DH20 -> 0 | DI22: =+CK22+CM22+CO22+CQ22+CS22+CU22+CW22+CY22+DA22+DC22+DE22+DG22 -> 0 | DJ22: =CK22+CM22+CO22+CR22 -> 0 | DK22: =CL22+CN22+CP22+CR22+CT22+CV22+CX22+CZ22+DB22+DD22+DF22+DH22 -> 0 | DL22: =+CK22+CM22+CO22+CQ22+CS22+CU22+CW22+CY22+DA22+DC22+DE22+DG22 -> 0 | DM22: =+CL22+CN22+CP22+CR22+CT22+CV22+CX22+CZ22+DB22+DD22+DF22+DH22 -> 0 | DN22: =+DN17 -> 0 | ER22: =IFERROR(DB22/DA22,0) -> 0 | ES22: =IFERROR(DK22/DJ22,0) -> 0 | ET22: =IFERROR(DM22/DL22,0) -> 0 | EU22: =(AA22+BE22+CI22+DK22)/(Z22+BD22+CH22+DJ22) -> 0.99502488 | EV22: =(Y22+BE22+CI22+DM22)/G22 -> 1
F23: TOTAL PRESUPUESTO DE LA META | G23: =+G18+G21 -> 2816235286 | H23: =+H18+H21 -> 1123000000 | I23: =+I18+I21 -> 0 | J23: =+J18+J21 -> 0 | K23: =+K18+K21 -> 1123000000 | L23: =+L18+L21 -> 0 | M23: =+M18+M21 -> 1123000000 | N23: =+N18+N21 -> 0 | ... DN23: =+DN18+DN21 -> 0 | ER23: =IFERROR(DB23/DA23,0) -> 0 | ES23: =IFERROR(DK23/DJ23,0) -> 0 | ET23: =IFERROR(DM23/DL23,0) -> 0 | EU23: =(AA23+BE23+CI23+DK23)/(Z23+BD23+CH23+DJ23) -> 0.92206576 | EV23: =(Y23+BE23+CI23+DM23)/G23 -> 1
